BEGIN:VCALENDAR
VERSION:2.0
PRODID:-//City Star Brewing - ECPv6.15.20//NONSGML v1.0//EN
CALSCALE:GREGORIAN
METHOD:PUBLISH
X-WR-CALNAME:City Star Brewing
X-ORIGINAL-URL:https://citystarbrewing.com
X-WR-CALDESC:Events for City Star Brewing
REFRESH-INTERVAL;VALUE=DURATION:PT1H
X-Robots-Tag:noindex
X-PUBLISHED-TTL:PT1H
BEGIN:VTIMEZONE
TZID:America/Denver
BEGIN:DAYLIGHT
TZOFFSETFROM:-0700
TZOFFSETTO:-0600
TZNAME:MDT
DTSTART:20170312T090000
END:DAYLIGHT
BEGIN:STANDARD
TZOFFSETFROM:-0600
TZOFFSETTO:-0700
TZNAME:MST
DTSTART:20171105T080000
END:STANDARD
BEGIN:DAYLIGHT
TZOFFSETFROM:-0700
TZOFFSETTO:-0600
TZNAME:MDT
DTSTART:20180311T090000
END:DAYLIGHT
BEGIN:STANDARD
TZOFFSETFROM:-0600
TZOFFSETTO:-0700
TZNAME:MST
DTSTART:20181104T080000
END:STANDARD
BEGIN:DAYLIGHT
TZOFFSETFROM:-0700
TZOFFSETTO:-0600
TZNAME:MDT
DTSTART:20190310T090000
END:DAYLIGHT
BEGIN:STANDARD
TZOFFSETFROM:-0600
TZOFFSETTO:-0700
TZNAME:MST
DTSTART:20191103T080000
END:STANDARD
END:VTIMEZONE
BEGIN:VEVENT
DTSTART;TZID=America/Denver:20181208T190000
DTEND;TZID=America/Denver:20181208T213000
DTSTAMP:20260419T203240
CREATED:20181129T214448Z
LAST-MODIFIED:20181129T214959Z
UID:10000146-1544295600-1544304600@citystarbrewing.com
SUMMARY:Shanna In A Dress
DESCRIPTION:Shanna in a Dress is a smashing combination of clever lyrics\, sweet serenade\, and tongue twisting rhymes. She has been performing since her days at the University of Virginia where she attracted a loyal following of fans that loved her feel-good humor\, catchy melodies\, and entertaining stage presence. Shanna is a diverse songwriter with a playful setlist containing material ranging from sunny toe-tapping tunes to intensely emotional ballads to humorous ear candy. Her lyrics are laden with clever wordplay and are relatable across all ages. \nShanna released her first EP More Than Just a Hoar in 2012 after a successful Kickstarter campaign. Her style is often compared to Ingrid Michaelson\, Colbie Caillat and Jason Mraz. She doesn’t take herself too seriously off-stage or on\, and her self-reported style is “happy folk pop with a twist of humor\, sarcasm\, and occasional tears.” Shanna moved to Boulder in 2014 and is excited to connect and share with the local music scene! \nhttps://www.youtube.com/shannainadress
URL:https://citystarbrewing.com/event/shanna-in-a-dress/
LOCATION:321 Mountain Avenue\, Berthoud\, CO\, 80513\, United States
CATEGORIES:Events,Live Music
ATTACH;FMTTYPE=image/png:https://citystarbrewing.com/wp-content/uploads/2018/07/shannainadress.png
END:VEVENT
END:VCALENDAR