BEGIN:VCALENDAR
VERSION:2.0
PRODID:-//City Star Brewing - ECPv6.15.20//NONSGML v1.0//EN
CALSCALE:GREGORIAN
METHOD:PUBLISH
X-ORIGINAL-URL:https://citystarbrewing.com
X-WR-CALDESC:Events for City Star Brewing
REFRESH-INTERVAL;VALUE=DURATION:PT1H
X-Robots-Tag:noindex
X-PUBLISHED-TTL:PT1H
BEGIN:VTIMEZONE
TZID:America/Denver
BEGIN:DAYLIGHT
TZOFFSETFROM:-0700
TZOFFSETTO:-0600
TZNAME:MDT
DTSTART:20240310T090000
END:DAYLIGHT
BEGIN:STANDARD
TZOFFSETFROM:-0600
TZOFFSETTO:-0700
TZNAME:MST
DTSTART:20241103T080000
END:STANDARD
BEGIN:DAYLIGHT
TZOFFSETFROM:-0700
TZOFFSETTO:-0600
TZNAME:MDT
DTSTART:20250309T090000
END:DAYLIGHT
BEGIN:STANDARD
TZOFFSETFROM:-0600
TZOFFSETTO:-0700
TZNAME:MST
DTSTART:20251102T080000
END:STANDARD
BEGIN:DAYLIGHT
TZOFFSETFROM:-0700
TZOFFSETTO:-0600
TZNAME:MDT
DTSTART:20260308T090000
END:DAYLIGHT
BEGIN:STANDARD
TZOFFSETFROM:-0600
TZOFFSETTO:-0700
TZNAME:MST
DTSTART:20261101T080000
END:STANDARD
END:VTIMEZONE
BEGIN:VEVENT
DTSTART;TZID=America/Denver:20250708T180000
DTEND;TZID=America/Denver:20250708T200000
DTSTAMP:20260421T190911
CREATED:20220124T175122Z
LAST-MODIFIED:20250106T215223Z
UID:10003965-1751997600-1752004800@citystarbrewing.com
SUMMARY:Humdinger Trivia
DESCRIPTION:Come and get your brain going with us at Humdinger Trivia! Hosted by Berthoud locals\, Erin and Jacob Crabtree. It’s FREE to play and you could win $30 in City Star beer. The fun starts at 6pm every Tuesday in the beer garden. *limit 6 per team \nCheck out the food truck schedule to see who will be serving dinner out front.
URL:https://citystarbrewing.com/event/humdinger-trivia/2025-07-08/
CATEGORIES:Events,Taproom Events
ATTACH;FMTTYPE=image/png:https://citystarbrewing.com/wp-content/uploads/2022/01/Screen-Shot-2022-01-24-at-10.43.52-AM-e1643046764674.png
END:VEVENT
BEGIN:VEVENT
DTSTART;TZID=America/Denver:20250709T160000
DTEND;TZID=America/Denver:20250709T200000
DTSTAMP:20260421T190911
CREATED:20200711T000429Z
LAST-MODIFIED:20260121T174641Z
UID:10007975-1752076800-1752091200@citystarbrewing.com
SUMMARY:Waffle Lab
DESCRIPTION:Highly Evolved Waffles –> Waffle Lab \nFounded in April 2012 in Old Town Fort Collins\, Colorado\, The Waffle Lab specializes in gourmet Belgian-style Liège waffles.  Using our signature “classic” waffle as the base\, we create amazing sweet and savory waffle combinations.  Perfect for breakfast\, brunch\, lunch\, dinner and dessert\, the hardest part of The Waffle Lab experience is choosing from our mouth-watering menu. \nWHAT IS A LIEGE WAFFLE?\nOriginally developed in Belgium\, the Liège (pronounced “lee-ayjh”) waffle is unlike any waffle you’ve ever had. Made from yeast-leavened dough (not a batter) and specially imported Belgian pearl sugar\, this mouth-watering piece of heaven is guaranteed to put a smile on your face. Baked at the perfect temperature\, the sugar pearls melt on the inside and caramelize on the outside for a sweet\, delicate crunch. Believe us\, this waffle is sweet and moist enough on its own—no syrup necessary!
URL:https://citystarbrewing.com/event/waffle-lab/2025-07-09/
CATEGORIES:Events,Food Trucks
ATTACH;FMTTYPE=image/png:https://citystarbrewing.com/wp-content/uploads/2020/07/wafflelab.png
END:VEVENT
BEGIN:VEVENT
DTSTART;TZID=America/Denver:20250709T180000
DTEND;TZID=America/Denver:20250709T203000
DTSTAMP:20260421T190911
CREATED:20250421T152106Z
LAST-MODIFIED:20250428T174335Z
UID:10007778-1752084000-1752093000@citystarbrewing.com
SUMMARY:Cribbage Night
DESCRIPTION:We’re playing cribbage at City Star on the 2nd and 4th Wednesday every month! Free to enter\, beer prizes\, bring a board and deck of cards. Sign up by 5:45 – play starts at 6pm.
URL:https://citystarbrewing.com/event/cribbage-night-2-2/2025-07-09/
CATEGORIES:Events,Taproom Events
ATTACH;FMTTYPE=image/png:https://citystarbrewing.com/wp-content/uploads/2025/04/Cribbage_Nite_Photo.png
END:VEVENT
BEGIN:VEVENT
DTSTART;TZID=America/Denver:20250710T160000
DTEND;TZID=America/Denver:20250710T200000
DTSTAMP:20260421T190911
CREATED:20230329T160612Z
LAST-MODIFIED:20251013T161632Z
UID:10007065-1752163200-1752177600@citystarbrewing.com
SUMMARY:CORNDOGGIES
DESCRIPTION:https://www.corndoggies.com/#corndoggies
URL:https://citystarbrewing.com/event/corndoggies/2025-07-10/
CATEGORIES:Events,Food Trucks
ATTACH;FMTTYPE=image/jpeg:https://citystarbrewing.com/wp-content/uploads/2022/05/Corndoggies-bkrd-3.jpg
END:VEVENT
BEGIN:VEVENT
DTSTART;TZID=America/Denver:20250710T180000
DTEND;TZID=America/Denver:20250710T190000
DTSTAMP:20260421T190911
CREATED:20190430T154037Z
LAST-MODIFIED:20240208T204450Z
UID:10005187-1752170400-1752174000@citystarbrewing.com
SUMMARY:Social Run
DESCRIPTION:We’re running! Meet at the brewery for a City Star Social Run Thursday evenings at 6pm. Two distance options: strollers\, dogs\, speed walkers\, marathon runners.. bring it on! $3 post run beer waiting for you after the run. BYO headlamp!
URL:https://citystarbrewing.com/event/social-run/2025-07-10/
CATEGORIES:Events,Taproom Events
ATTACH;FMTTYPE=image/png:https://citystarbrewing.com/wp-content/uploads/2019/04/social-run.png
END:VEVENT
BEGIN:VEVENT
DTSTART;TZID=America/Denver:20250711T150000
DTEND;TZID=America/Denver:20250711T220000
DTSTAMP:20260421T190911
CREATED:20240613T155033Z
LAST-MODIFIED:20250523T164534Z
UID:10006085-1752246000-1752271200@citystarbrewing.com
SUMMARY:Mojito Fizz Hard Seltzer
DESCRIPTION:Hard seltzer\, naturally gluten free flavored with lime\, mint for the perfect summer cooler.
URL:https://citystarbrewing.com/event/mojito-fizz-hard-seltzer/
CATEGORIES:Beer Releases,Events
ATTACH;FMTTYPE=image/png:https://citystarbrewing.com/wp-content/uploads/2024/06/mojito.png
END:VEVENT
BEGIN:VEVENT
DTSTART;TZID=America/Denver:20250711T160000
DTEND;TZID=America/Denver:20250711T200000
DTSTAMP:20260421T190911
CREATED:20250303T234207Z
LAST-MODIFIED:20250813T210837Z
UID:10007976-1752249600-1752264000@citystarbrewing.com
SUMMARY:Sam Sauce
DESCRIPTION:A mouthwatering tsunami of flavor that’ll have you coming back for more. Fun food fusion\, featuring Southern\, Asian and Mexican cuisines.
URL:https://citystarbrewing.com/event/sam-sauce/2025-07-11/
CATEGORIES:Food Trucks
ATTACH;FMTTYPE=image/jpeg:https://citystarbrewing.com/wp-content/uploads/2024/09/Sam-Sauce-Stickers.jpg
END:VEVENT
BEGIN:VEVENT
DTSTART;TZID=America/Denver:20250711T180000
DTEND;TZID=America/Denver:20250711T203000
DTSTAMP:20260421T190911
CREATED:20200202T151124Z
LAST-MODIFIED:20250624T205010Z
UID:10001390-1752256800-1752265800@citystarbrewing.com
SUMMARY:Mad Dog Blues Duo
DESCRIPTION:Changing the face of the “Colorado Sound\,” Mad Dog Blues is a high-energy\, acoustic blues jam band. We are Mad Dog Friedman on harmonica (founder of Papa Juke\, Mojo Medicine Show\, Blue Lightning & Harmonica Loowinski)\, Jeff Becker (Hippy Buckaroos) on mandolin\, Clark Chanslor (White Water Ramble) on stand-up bass\, Sean Bennight on acoustic guitar and Mark Kaczorowski (Blues on the Lamb) on acoustic guitar. Our original “Colorado Country Blues” sound is a unique fusion of delta blues\, bluegrass\, honky-tonk\, hokum and acoustic jam music. \nwww.coloradocountryblues.com 
URL:https://citystarbrewing.com/event/mad-dog-blues/
CATEGORIES:Events,Live Music
ATTACH;FMTTYPE=image/png:https://citystarbrewing.com/wp-content/uploads/2018/07/maddog.png
END:VEVENT
BEGIN:VEVENT
DTSTART;TZID=America/Denver:20250712T120000
DTEND;TZID=America/Denver:20250712T200000
DTSTAMP:20260421T190911
CREATED:20250228T182756Z
LAST-MODIFIED:20251110T185506Z
UID:10007248-1752321600-1752350400@citystarbrewing.com
SUMMARY:Sweaty Moose
DESCRIPTION:Sweaty Moose MENU: www.sweatymoose.com
URL:https://citystarbrewing.com/event/sweaty-moose-2-2/2025-07-12/
CATEGORIES:Events,Food Trucks
ATTACH;FMTTYPE=image/jpeg:https://citystarbrewing.com/wp-content/uploads/2017/10/sweaty-moose.jpg
END:VEVENT
END:VCALENDAR