BEGIN:VCALENDAR
VERSION:2.0
PRODID:-//City Star Brewing - ECPv6.15.20//NONSGML v1.0//EN
CALSCALE:GREGORIAN
METHOD:PUBLISH
X-ORIGINAL-URL:https://citystarbrewing.com
X-WR-CALDESC:Events for City Star Brewing
REFRESH-INTERVAL;VALUE=DURATION:PT1H
X-Robots-Tag:noindex
X-PUBLISHED-TTL:PT1H
BEGIN:VTIMEZONE
TZID:America/Denver
BEGIN:DAYLIGHT
TZOFFSETFROM:-0700
TZOFFSETTO:-0600
TZNAME:MDT
DTSTART:20240310T090000
END:DAYLIGHT
BEGIN:STANDARD
TZOFFSETFROM:-0600
TZOFFSETTO:-0700
TZNAME:MST
DTSTART:20241103T080000
END:STANDARD
BEGIN:DAYLIGHT
TZOFFSETFROM:-0700
TZOFFSETTO:-0600
TZNAME:MDT
DTSTART:20250309T090000
END:DAYLIGHT
BEGIN:STANDARD
TZOFFSETFROM:-0600
TZOFFSETTO:-0700
TZNAME:MST
DTSTART:20251102T080000
END:STANDARD
BEGIN:DAYLIGHT
TZOFFSETFROM:-0700
TZOFFSETTO:-0600
TZNAME:MDT
DTSTART:20260308T090000
END:DAYLIGHT
BEGIN:STANDARD
TZOFFSETFROM:-0600
TZOFFSETTO:-0700
TZNAME:MST
DTSTART:20261101T080000
END:STANDARD
END:VTIMEZONE
BEGIN:VEVENT
DTSTART;TZID=America/Denver:20250624T160000
DTEND;TZID=America/Denver:20250624T200000
DTSTAMP:20260421T150406
CREATED:20230406T180306Z
LAST-MODIFIED:20240301T194143Z
UID:10005591-1750780800-1750795200@citystarbrewing.com
SUMMARY:Stick Around Skewers
DESCRIPTION:FLAME FINISHED STICKS & SKEWERS \nStick Around is a locally owned and operated Food Truck based in Boulder\, Colorado. Focusing on the worlds most traditional form of BBQ\, Skewers & kebabs! Stick Around brings something to the table for everybody. Take a look at our menu to see if you can find something that fits your style! \nMENU: https://www.stickaroundskewers.com/menu
URL:https://citystarbrewing.com/event/stick-around-skewers-4-2/2025-06-24/
CATEGORIES:Events,Food Trucks
ATTACH;FMTTYPE=image/jpeg:https://citystarbrewing.com/wp-content/uploads/2021/05/stickaround.jpg
END:VEVENT
BEGIN:VEVENT
DTSTART;TZID=America/Denver:20250624T180000
DTEND;TZID=America/Denver:20250624T200000
DTSTAMP:20260421T150406
CREATED:20220124T175122Z
LAST-MODIFIED:20250106T215223Z
UID:10003963-1750788000-1750795200@citystarbrewing.com
SUMMARY:Humdinger Trivia
DESCRIPTION:Come and get your brain going with us at Humdinger Trivia! Hosted by Berthoud locals\, Erin and Jacob Crabtree. It’s FREE to play and you could win $30 in City Star beer. The fun starts at 6pm every Tuesday in the beer garden. *limit 6 per team \nCheck out the food truck schedule to see who will be serving dinner out front.
URL:https://citystarbrewing.com/event/humdinger-trivia/2025-06-24/
CATEGORIES:Events,Taproom Events
ATTACH;FMTTYPE=image/png:https://citystarbrewing.com/wp-content/uploads/2022/01/Screen-Shot-2022-01-24-at-10.43.52-AM-e1643046764674.png
END:VEVENT
BEGIN:VEVENT
DTSTART;TZID=America/Denver:20250625T180000
DTEND;TZID=America/Denver:20250625T203000
DTSTAMP:20260421T150406
CREATED:20250327T143033Z
LAST-MODIFIED:20250428T174454Z
UID:10007637-1750874400-1750883400@citystarbrewing.com
SUMMARY:Cribbage Night
DESCRIPTION:We’re playing cribbage at City Star on the 2nd and 4th Wednesday every month! Free to enter\, beer prizes\, bring a board and deck of cards. Sign up by 5:45 – play starts at 6pm.
URL:https://citystarbrewing.com/event/cribbage-tournament/2025-06-25/
CATEGORIES:Events,Taproom Events
ATTACH;FMTTYPE=image/png:https://citystarbrewing.com/wp-content/uploads/2025/04/Cribbage_Nite_Photo.png
END:VEVENT
BEGIN:VEVENT
DTSTART;TZID=America/Denver:20250626T180000
DTEND;TZID=America/Denver:20250626T190000
DTSTAMP:20260421T150406
CREATED:20190430T154037Z
LAST-MODIFIED:20240208T204450Z
UID:10005185-1750960800-1750964400@citystarbrewing.com
SUMMARY:Social Run
DESCRIPTION:We’re running! Meet at the brewery for a City Star Social Run Thursday evenings at 6pm. Two distance options: strollers\, dogs\, speed walkers\, marathon runners.. bring it on! $3 post run beer waiting for you after the run. BYO headlamp!
URL:https://citystarbrewing.com/event/social-run/2025-06-26/
CATEGORIES:Events,Taproom Events
ATTACH;FMTTYPE=image/png:https://citystarbrewing.com/wp-content/uploads/2019/04/social-run.png
END:VEVENT
BEGIN:VEVENT
DTSTART;TZID=America/Denver:20250627T160000
DTEND;TZID=America/Denver:20250627T200000
DTSTAMP:20260421T150406
CREATED:20240102T200412Z
LAST-MODIFIED:20250912T175659Z
UID:10005052-1751040000-1751054400@citystarbrewing.com
SUMMARY:Nacho Mama's Tacos
DESCRIPTION:Food Truck in Boulder County CO. Specializing in Fresh Authentic Mexican Food that will blow your mind (and mouth)! Phone in orders welcome: 303-489-4307 \nCheck out their menu here! \nhttps://www.facebook.com/nachomamastacos.CO/
URL:https://citystarbrewing.com/event/nacho-mamas-tacos-3/2025-06-27/
CATEGORIES:Events,Food Trucks
ATTACH;FMTTYPE=image/jpeg:https://citystarbrewing.com/wp-content/uploads/2019/02/nachomamas.jpg
END:VEVENT
BEGIN:VEVENT
DTSTART;TZID=America/Denver:20250627T180000
DTEND;TZID=America/Denver:20250627T203000
DTSTAMP:20260421T150406
CREATED:20200320T183413Z
LAST-MODIFIED:20250401T135253Z
UID:10007758-1751047200-1751056200@citystarbrewing.com
SUMMARY:10 Year Echo Duo
DESCRIPTION:10 Year Echo consists of 4 members whose ages echo through 4 decades. They play fan-favorites from variety of genres that any crowd will recognize\, mixed with those that will become new favorites. Don’t be surprised to hear a kazoo solo as they add their own style. Their music is sure to please crowds of all ages.
URL:https://citystarbrewing.com/event/10-year-echo/2025-06-27/
CATEGORIES:Events,Live Music
ATTACH;FMTTYPE=image/jpeg:https://citystarbrewing.com/wp-content/uploads/2020/03/andreadeepe.jpg
END:VEVENT
END:VCALENDAR