BEGIN:VCALENDAR
VERSION:2.0
PRODID:-//City Star Brewing - ECPv6.15.20//NONSGML v1.0//EN
CALSCALE:GREGORIAN
METHOD:PUBLISH
X-WR-CALNAME:City Star Brewing
X-ORIGINAL-URL:https://citystarbrewing.com
X-WR-CALDESC:Events for City Star Brewing
REFRESH-INTERVAL;VALUE=DURATION:PT1H
X-Robots-Tag:noindex
X-PUBLISHED-TTL:PT1H
BEGIN:VTIMEZONE
TZID:America/Denver
BEGIN:DAYLIGHT
TZOFFSETFROM:-0700
TZOFFSETTO:-0600
TZNAME:MDT
DTSTART:20240310T090000
END:DAYLIGHT
BEGIN:STANDARD
TZOFFSETFROM:-0600
TZOFFSETTO:-0700
TZNAME:MST
DTSTART:20241103T080000
END:STANDARD
BEGIN:DAYLIGHT
TZOFFSETFROM:-0700
TZOFFSETTO:-0600
TZNAME:MDT
DTSTART:20250309T090000
END:DAYLIGHT
BEGIN:STANDARD
TZOFFSETFROM:-0600
TZOFFSETTO:-0700
TZNAME:MST
DTSTART:20251102T080000
END:STANDARD
BEGIN:DAYLIGHT
TZOFFSETFROM:-0700
TZOFFSETTO:-0600
TZNAME:MDT
DTSTART:20260308T090000
END:DAYLIGHT
BEGIN:STANDARD
TZOFFSETFROM:-0600
TZOFFSETTO:-0700
TZNAME:MST
DTSTART:20261101T080000
END:STANDARD
END:VTIMEZONE
BEGIN:VEVENT
DTSTART;TZID=America/Denver:20250617T180000
DTEND;TZID=America/Denver:20250617T200000
DTSTAMP:20260421T132901
CREATED:20220124T175122Z
LAST-MODIFIED:20250106T215223Z
UID:10003962-1750183200-1750190400@citystarbrewing.com
SUMMARY:Humdinger Trivia
DESCRIPTION:Come and get your brain going with us at Humdinger Trivia! Hosted by Berthoud locals\, Erin and Jacob Crabtree. It’s FREE to play and you could win $30 in City Star beer. The fun starts at 6pm every Tuesday in the beer garden. *limit 6 per team \nCheck out the food truck schedule to see who will be serving dinner out front.
URL:https://citystarbrewing.com/event/humdinger-trivia/2025-06-17/
CATEGORIES:Events,Taproom Events
ATTACH;FMTTYPE=image/png:https://citystarbrewing.com/wp-content/uploads/2022/01/Screen-Shot-2022-01-24-at-10.43.52-AM-e1643046764674.png
END:VEVENT
BEGIN:VEVENT
DTSTART;TZID=America/Denver:20250619T160000
DTEND;TZID=America/Denver:20250619T200000
DTSTAMP:20260421T132901
CREATED:20221227T155123Z
LAST-MODIFIED:20240201T181557Z
UID:10004279-1750348800-1750363200@citystarbrewing.com
SUMMARY:Stick Around Skewers
DESCRIPTION:FLAME FINISHED STICKS & SKEWERS \nStick Around is a locally owned and operated Food Truck based in Boulder\, Colorado. Focusing on the worlds most traditional form of BBQ\, Skewers & kebabs! Stick Around brings something to the table for everybody. Take a look at our menu to see if you can find something that fits your style! \nMENU: https://www.stickaroundskewers.com/menu
URL:https://citystarbrewing.com/event/stick-around-skewers-4/2025-06-19/
CATEGORIES:Events,Food Trucks
ATTACH;FMTTYPE=image/jpeg:https://citystarbrewing.com/wp-content/uploads/2021/05/stickaround.jpg
END:VEVENT
BEGIN:VEVENT
DTSTART;TZID=America/Denver:20250619T180000
DTEND;TZID=America/Denver:20250619T190000
DTSTAMP:20260421T132901
CREATED:20190430T154037Z
LAST-MODIFIED:20240208T204450Z
UID:10005184-1750356000-1750359600@citystarbrewing.com
SUMMARY:Social Run
DESCRIPTION:We’re running! Meet at the brewery for a City Star Social Run Thursday evenings at 6pm. Two distance options: strollers\, dogs\, speed walkers\, marathon runners.. bring it on! $3 post run beer waiting for you after the run. BYO headlamp!
URL:https://citystarbrewing.com/event/social-run/2025-06-19/
CATEGORIES:Events,Taproom Events
ATTACH;FMTTYPE=image/png:https://citystarbrewing.com/wp-content/uploads/2019/04/social-run.png
END:VEVENT
BEGIN:VEVENT
DTSTART;TZID=America/Denver:20250620T150000
DTEND;TZID=America/Denver:20250620T220000
DTSTAMP:20260421T132901
CREATED:20250526T220151Z
LAST-MODIFIED:20250526T220151Z
UID:10007884-1750431600-1750456800@citystarbrewing.com
SUMMARY:Beer Release: Lavender Saison
DESCRIPTION:A refreshing light farmhouse saison with lavender. A subtle floral character without overtaking the classic saison taste. Available on tap only.
URL:https://citystarbrewing.com/event/beer-release-lavender-saison/
CATEGORIES:Beer Releases,Events
ATTACH;FMTTYPE=image/png:https://citystarbrewing.com/wp-content/uploads/2025/05/LavenderSaisonSQ.png
END:VEVENT
END:VCALENDAR