BEGIN:VCALENDAR
VERSION:2.0
PRODID:-//City Star Brewing - ECPv6.15.20//NONSGML v1.0//EN
CALSCALE:GREGORIAN
METHOD:PUBLISH
X-ORIGINAL-URL:https://citystarbrewing.com
X-WR-CALDESC:Events for City Star Brewing
REFRESH-INTERVAL;VALUE=DURATION:PT1H
X-Robots-Tag:noindex
X-PUBLISHED-TTL:PT1H
BEGIN:VTIMEZONE
TZID:America/Denver
BEGIN:DAYLIGHT
TZOFFSETFROM:-0700
TZOFFSETTO:-0600
TZNAME:MDT
DTSTART:20240310T090000
END:DAYLIGHT
BEGIN:STANDARD
TZOFFSETFROM:-0600
TZOFFSETTO:-0700
TZNAME:MST
DTSTART:20241103T080000
END:STANDARD
BEGIN:DAYLIGHT
TZOFFSETFROM:-0700
TZOFFSETTO:-0600
TZNAME:MDT
DTSTART:20250309T090000
END:DAYLIGHT
BEGIN:STANDARD
TZOFFSETFROM:-0600
TZOFFSETTO:-0700
TZNAME:MST
DTSTART:20251102T080000
END:STANDARD
BEGIN:DAYLIGHT
TZOFFSETFROM:-0700
TZOFFSETTO:-0600
TZNAME:MDT
DTSTART:20260308T090000
END:DAYLIGHT
BEGIN:STANDARD
TZOFFSETFROM:-0600
TZOFFSETTO:-0700
TZNAME:MST
DTSTART:20261101T080000
END:STANDARD
END:VTIMEZONE
BEGIN:VEVENT
DTSTART;TZID=America/Denver:20250601T120000
DTEND;TZID=America/Denver:20250601T200000
DTSTAMP:20260421T100011
CREATED:20241008T025147Z
LAST-MODIFIED:20250428T175650Z
UID:10007336-1748779200-1748808000@citystarbrewing.com
SUMMARY:The Schnitzel Wagon
DESCRIPTION:The Schnitzel Wagon is Fort Collins’ newest food truck\, bringing the rich flavors of traditional German cuisine to the community. Our specialties include hand-breaded chicken schnitzels\, which can be elevated with our signature jägerschnitzel mushroom gravy. We also serve up classic favorites like spätzle\, spätzle mac and cheese\, pretzel bites with beer cheese sauce (featuring City Star’s Oktoberfest lager)\, bratwurst with sauerkraut and fries\, bacon beer cheese burgers\, beer cheese fries\, and crispy German potato pancakes with sour drizzle and a side of applesauce. To cater to vegan and gluten-free guests\, we offer a flavorful falafel bowl. For dessert\, indulge in a slice of German chocolate cake or enjoy one of our Bavarian cream donuts. \nScreenshot
URL:https://citystarbrewing.com/event/the-schnitzel-wagon/2025-06-01/
CATEGORIES:Events,Food Trucks
ATTACH;FMTTYPE=image/jpeg:https://citystarbrewing.com/wp-content/uploads/2024/10/schnitzel.jpg
END:VEVENT
BEGIN:VEVENT
DTSTART;TZID=America/Denver:20250603T160000
DTEND;TZID=America/Denver:20250603T200000
DTSTAMP:20260421T100011
CREATED:20230813T191756Z
LAST-MODIFIED:20240209T232632Z
UID:10005517-1748966400-1748980800@citystarbrewing.com
SUMMARY:Nacho Mama's Tacos
DESCRIPTION:Food Truck in Boulder County CO. Specializing in Fresh Authentic Mexican Food that will blow your mind (and mouth)! Phone in orders welcome: 303-489-4307 \nCheck out their menu here! \nhttps://www.facebook.com/nachomamastacos.CO/
URL:https://citystarbrewing.com/event/nacho-mamas-tacos-2/2025-06-03/
CATEGORIES:Events,Food Trucks
ATTACH;FMTTYPE=image/jpeg:https://citystarbrewing.com/wp-content/uploads/2019/02/nachomamas.jpg
END:VEVENT
BEGIN:VEVENT
DTSTART;TZID=America/Denver:20250603T180000
DTEND;TZID=America/Denver:20250603T200000
DTSTAMP:20260421T100011
CREATED:20220124T175122Z
LAST-MODIFIED:20250106T215223Z
UID:10003960-1748973600-1748980800@citystarbrewing.com
SUMMARY:Humdinger Trivia
DESCRIPTION:Come and get your brain going with us at Humdinger Trivia! Hosted by Berthoud locals\, Erin and Jacob Crabtree. It’s FREE to play and you could win $30 in City Star beer. The fun starts at 6pm every Tuesday in the beer garden. *limit 6 per team \nCheck out the food truck schedule to see who will be serving dinner out front.
URL:https://citystarbrewing.com/event/humdinger-trivia/2025-06-03/
CATEGORIES:Events,Taproom Events
ATTACH;FMTTYPE=image/png:https://citystarbrewing.com/wp-content/uploads/2022/01/Screen-Shot-2022-01-24-at-10.43.52-AM-e1643046764674.png
END:VEVENT
BEGIN:VEVENT
DTSTART;TZID=America/Denver:20250604T160000
DTEND;TZID=America/Denver:20250604T200000
DTSTAMP:20260421T100011
CREATED:20241230T183234Z
LAST-MODIFIED:20250825T183235Z
UID:10007873-1749052800-1749067200@citystarbrewing.com
SUMMARY:Charlotte's Lil Kitchen
DESCRIPTION:Charlotte’s lil kitchen was born from a love and passion of good food made with love! Catch her around Boulder County serving up delicious Mediterranean inspired dishes using local ingredients\, supporting local farms and ranches\, organic whenever possible. \nMenu: https://charlottes-lil-kitchen.square.site/
URL:https://citystarbrewing.com/event/charlottes-lil-kitchen-2/2025-06-04/
CATEGORIES:Events,Food Trucks
ATTACH;FMTTYPE=image/jpeg:https://citystarbrewing.com/wp-content/uploads/2021/01/charlottes.jpg
END:VEVENT
BEGIN:VEVENT
DTSTART;TZID=America/Denver:20250605T120000
DTEND;TZID=America/Denver:20250605T200000
DTSTAMP:20260421T100011
CREATED:20221007T220739Z
LAST-MODIFIED:20250523T182800Z
UID:10006140-1749124800-1749153600@citystarbrewing.com
SUMMARY:Georgia Boys BBQ
DESCRIPTION:Come get some true Southern BBQ from our Georgia Boys BBQ Outpost food truck! We’re slingin’ our homemade grub all over Northern Colorado…get here early while the gettin’s good\, as we do sell out.
URL:https://citystarbrewing.com/event/georgia-boys-bbq-4/2025-06-05/
CATEGORIES:Events,Food Trucks
ATTACH;FMTTYPE=image/png:https://citystarbrewing.com/wp-content/uploads/2020/08/GeorgiaBoys.png
END:VEVENT
BEGIN:VEVENT
DTSTART;TZID=America/Denver:20250605T180000
DTEND;TZID=America/Denver:20250605T190000
DTSTAMP:20260421T100011
CREATED:20190430T154037Z
LAST-MODIFIED:20240208T204450Z
UID:10005182-1749146400-1749150000@citystarbrewing.com
SUMMARY:Social Run
DESCRIPTION:We’re running! Meet at the brewery for a City Star Social Run Thursday evenings at 6pm. Two distance options: strollers\, dogs\, speed walkers\, marathon runners.. bring it on! $3 post run beer waiting for you after the run. BYO headlamp!
URL:https://citystarbrewing.com/event/social-run/2025-06-05/
CATEGORIES:Events,Taproom Events
ATTACH;FMTTYPE=image/png:https://citystarbrewing.com/wp-content/uploads/2019/04/social-run.png
END:VEVENT
BEGIN:VEVENT
DTSTART;TZID=America/Denver:20250606T150000
DTEND;TZID=America/Denver:20250606T220000
DTSTAMP:20260421T100012
CREATED:20250526T220504Z
LAST-MODIFIED:20250526T220504Z
UID:10007885-1749222000-1749247200@citystarbrewing.com
SUMMARY:Beer Release: Sour Amber
DESCRIPTION:The sour is a classic Amber Ale brewed specifically for souring. The beer was soured in Deer Hammer whisky barrels. Nice and sour while still being pleasantly clear and retaining some malty notes. 5% abv available on tap only.
URL:https://citystarbrewing.com/event/beer-release-sour-amber/
CATEGORIES:Beer Releases,Events
ATTACH;FMTTYPE=image/png:https://citystarbrewing.com/wp-content/uploads/2025/05/SourAmberSQ.png
END:VEVENT
BEGIN:VEVENT
DTSTART;TZID=America/Denver:20250606T160000
DTEND;TZID=America/Denver:20250606T200000
DTSTAMP:20260421T100012
CREATED:20230927T172528Z
LAST-MODIFIED:20250704T154605Z
UID:10004352-1749225600-1749240000@citystarbrewing.com
SUMMARY:Stick Around Skewers
DESCRIPTION:FLAME FINISHED STICKS & SKEWERS \nStick Around is a locally owned and operated Food Truck based in Boulder\, Colorado. Focusing on the worlds most traditional form of BBQ\, Skewers & kebabs! Stick Around brings something to the table for everybody. Take a look at our menu to see if you can find something that fits your style! \nMENU: https://www.stickaroundskewers.com/menu
URL:https://citystarbrewing.com/event/stick-around-skewers-3-2/2025-06-06/
CATEGORIES:Events,Food Trucks
ATTACH;FMTTYPE=image/jpeg:https://citystarbrewing.com/wp-content/uploads/2021/05/stickaround.jpg
END:VEVENT
BEGIN:VEVENT
DTSTART;TZID=America/Denver:20250606T180000
DTEND;TZID=America/Denver:20250606T203000
DTSTAMP:20260421T100012
CREATED:20200129T212020Z
LAST-MODIFIED:20250408T181625Z
UID:10001387-1749232800-1749241800@citystarbrewing.com
SUMMARY:Steepland String Band
DESCRIPTION:‘Steepland String Band’ is a high altitude bluegrass act distilled deep in the mighty San Juan Mountain Range of southwestern Colorado. ‘Steepland’ is a fast driving\, hard picking acoustic quartet that explores a vast multitude of musical genres\, while managing to stay rooted in bluegrass tradition. \nForming around the love for and dedication to live music\, ‘Steepland’ has created a unique style of their own\, while managing to carve a niche in a genre of increasingly similar sounds. Drawing from an extensive library of covers\, and a continually expanding catalogue of original material\, each show successfully develops an experience for audiences that keeps them coming back for more. \nFrom the slap-style upright bass\, to the piercing mandolin solos\, Scruggs-style banjo rolls\, funk infused guitar leads\, and lonesome three part vocal harmonies\, ‘Steepland String Band’ is definitely right at home in Colorado’s community of progressive acoustic aficionados and dedicated show-goers. \nhttp://www.steeplandstringband.com/
URL:https://citystarbrewing.com/event/steepland-string-band/
CATEGORIES:Events,Live Music
ATTACH;FMTTYPE=image/png:https://citystarbrewing.com/wp-content/uploads/2015/07/steeplandstringband-1.png
END:VEVENT
BEGIN:VEVENT
DTSTART;TZID=America/Denver:20250607T093000
DTEND;TZID=America/Denver:20250607T120000
DTSTAMP:20260421T100012
CREATED:20190325T190015Z
LAST-MODIFIED:20250603T042051Z
UID:10000208-1749288600-1749297600@citystarbrewing.com
SUMMARY:Berthoud Day Brunch
DESCRIPTION:Kick off Berthoud Day with brunch and a beer at City Star Brewing! \nWe will be serving Fizz Mimosas\, hard seltzer and Real Dill bloody beers\,  Squeeze salted lime kolsch and Cowboys golden with bloody mix.
URL:https://citystarbrewing.com/event/berthoud-day-brunch/
CATEGORIES:Events,Food Trucks,Taproom Events
ATTACH;FMTTYPE=image/png:https://citystarbrewing.com/wp-content/uploads/2019/03/berthouddaybrunch.png
END:VEVENT
BEGIN:VEVENT
DTSTART;TZID=America/Denver:20250607T180000
DTEND;TZID=America/Denver:20250607T203000
DTSTAMP:20260421T100012
CREATED:20250428T135054Z
LAST-MODIFIED:20250428T135054Z
UID:10007837-1749319200-1749328200@citystarbrewing.com
SUMMARY:Jenna Greenwell
DESCRIPTION:Jenna Greenwell is a Berthoud grown\, but currently Montana based award-winning songwriter known for capturing the nuanced details of life and bringing her audience to tears. Heavily influenced by Americana artists Lori McKenna\, Brandi Carlile and Jason Isbell\, her songs tell the sacred stories of humanity\, always with a thread of hope\, and her live performances showcase her talent as a storyteller with a hint of grit. When not singing her originals\, she loves giving 90s era hits an energetic\, feminine twist and performs primarily in the Rocky Mountain region\, both solo and with her five-piece band\, the Pioneers. Her debut album\, Yellow Sweatshirt\, released on all platforms in March 2024. Visit www.JennaGreenwell.com to learn more.
URL:https://citystarbrewing.com/event/jenna-greenwell/
CATEGORIES:Events,Live Music
ATTACH;FMTTYPE=image/jpeg:https://citystarbrewing.com/wp-content/uploads/2025/04/Jenna_Headshots-26-scaled-e1745848243626.jpg
END:VEVENT
END:VCALENDAR