BEGIN:VCALENDAR
VERSION:2.0
PRODID:-//City Star Brewing - ECPv6.15.20//NONSGML v1.0//EN
CALSCALE:GREGORIAN
METHOD:PUBLISH
X-WR-CALNAME:City Star Brewing
X-ORIGINAL-URL:https://citystarbrewing.com
X-WR-CALDESC:Events for City Star Brewing
REFRESH-INTERVAL;VALUE=DURATION:PT1H
X-Robots-Tag:noindex
X-PUBLISHED-TTL:PT1H
BEGIN:VTIMEZONE
TZID:America/Denver
BEGIN:DAYLIGHT
TZOFFSETFROM:-0700
TZOFFSETTO:-0600
TZNAME:MDT
DTSTART:20240310T090000
END:DAYLIGHT
BEGIN:STANDARD
TZOFFSETFROM:-0600
TZOFFSETTO:-0700
TZNAME:MST
DTSTART:20241103T080000
END:STANDARD
BEGIN:DAYLIGHT
TZOFFSETFROM:-0700
TZOFFSETTO:-0600
TZNAME:MDT
DTSTART:20250309T090000
END:DAYLIGHT
BEGIN:STANDARD
TZOFFSETFROM:-0600
TZOFFSETTO:-0700
TZNAME:MST
DTSTART:20251102T080000
END:STANDARD
BEGIN:DAYLIGHT
TZOFFSETFROM:-0700
TZOFFSETTO:-0600
TZNAME:MDT
DTSTART:20260308T090000
END:DAYLIGHT
BEGIN:STANDARD
TZOFFSETFROM:-0600
TZOFFSETTO:-0700
TZNAME:MST
DTSTART:20261101T080000
END:STANDARD
END:VTIMEZONE
BEGIN:VEVENT
DTSTART;TZID=America/Denver:20250422T170000
DTEND;TZID=America/Denver:20250422T203000
DTSTAMP:20260420T235620
CREATED:20241230T183234Z
LAST-MODIFIED:20250825T183235Z
UID:10006827-1745341200-1745353800@citystarbrewing.com
SUMMARY:Charlotte's Lil Kitchen
DESCRIPTION:Charlotte’s lil kitchen was born from a love and passion of good food made with love! Catch her around Boulder County serving up delicious Mediterranean inspired dishes using local ingredients\, supporting local farms and ranches\, organic whenever possible. \nMenu: https://charlottes-lil-kitchen.square.site/
URL:https://citystarbrewing.com/event/charlottes-lil-kitchen-2/2025-04-22/
CATEGORIES:Events,Food Trucks
ATTACH;FMTTYPE=image/jpeg:https://citystarbrewing.com/wp-content/uploads/2021/01/charlottes.jpg
END:VEVENT
BEGIN:VEVENT
DTSTART;TZID=America/Denver:20250422T180000
DTEND;TZID=America/Denver:20250422T200000
DTSTAMP:20260420T235620
CREATED:20220124T175122Z
LAST-MODIFIED:20250106T215223Z
UID:10003954-1745344800-1745352000@citystarbrewing.com
SUMMARY:Humdinger Trivia
DESCRIPTION:Come and get your brain going with us at Humdinger Trivia! Hosted by Berthoud locals\, Erin and Jacob Crabtree. It’s FREE to play and you could win $30 in City Star beer. The fun starts at 6pm every Tuesday in the beer garden. *limit 6 per team \nCheck out the food truck schedule to see who will be serving dinner out front.
URL:https://citystarbrewing.com/event/humdinger-trivia/2025-04-22/
CATEGORIES:Events,Taproom Events
ATTACH;FMTTYPE=image/png:https://citystarbrewing.com/wp-content/uploads/2022/01/Screen-Shot-2022-01-24-at-10.43.52-AM-e1643046764674.png
END:VEVENT
BEGIN:VEVENT
DTSTART;TZID=America/Denver:20250423T180000
DTEND;TZID=America/Denver:20250423T203000
DTSTAMP:20260420T235620
CREATED:20250327T143033Z
LAST-MODIFIED:20250428T174454Z
UID:10007635-1745431200-1745440200@citystarbrewing.com
SUMMARY:Cribbage Night
DESCRIPTION:We’re playing cribbage at City Star on the 2nd and 4th Wednesday every month! Free to enter\, beer prizes\, bring a board and deck of cards. Sign up by 5:45 – play starts at 6pm.
URL:https://citystarbrewing.com/event/cribbage-tournament/2025-04-23/
CATEGORIES:Events,Taproom Events
ATTACH;FMTTYPE=image/png:https://citystarbrewing.com/wp-content/uploads/2025/04/Cribbage_Nite_Photo.png
END:VEVENT
BEGIN:VEVENT
DTSTART;TZID=America/Denver:20250424T160000
DTEND;TZID=America/Denver:20250424T200000
DTSTAMP:20260420T235620
CREATED:20221227T155123Z
LAST-MODIFIED:20240201T181557Z
UID:10004277-1745510400-1745524800@citystarbrewing.com
SUMMARY:Stick Around Skewers
DESCRIPTION:FLAME FINISHED STICKS & SKEWERS \nStick Around is a locally owned and operated Food Truck based in Boulder\, Colorado. Focusing on the worlds most traditional form of BBQ\, Skewers & kebabs! Stick Around brings something to the table for everybody. Take a look at our menu to see if you can find something that fits your style! \nMENU: https://www.stickaroundskewers.com/menu
URL:https://citystarbrewing.com/event/stick-around-skewers-4/2025-04-24/
CATEGORIES:Events,Food Trucks
ATTACH;FMTTYPE=image/jpeg:https://citystarbrewing.com/wp-content/uploads/2021/05/stickaround.jpg
END:VEVENT
BEGIN:VEVENT
DTSTART;TZID=America/Denver:20250424T180000
DTEND;TZID=America/Denver:20250424T190000
DTSTAMP:20260420T235620
CREATED:20190430T154037Z
LAST-MODIFIED:20240208T204450Z
UID:10005176-1745517600-1745521200@citystarbrewing.com
SUMMARY:Social Run
DESCRIPTION:We’re running! Meet at the brewery for a City Star Social Run Thursday evenings at 6pm. Two distance options: strollers\, dogs\, speed walkers\, marathon runners.. bring it on! $3 post run beer waiting for you after the run. BYO headlamp!
URL:https://citystarbrewing.com/event/social-run/2025-04-24/
CATEGORIES:Events,Taproom Events
ATTACH;FMTTYPE=image/png:https://citystarbrewing.com/wp-content/uploads/2019/04/social-run.png
END:VEVENT
BEGIN:VEVENT
DTSTART;TZID=America/Denver:20250425T150000
DTEND;TZID=America/Denver:20250425T220000
DTSTAMP:20260420T235620
CREATED:20250407T182854Z
LAST-MODIFIED:20250407T182854Z
UID:10007764-1745593200-1745618400@citystarbrewing.com
SUMMARY:Beer Release: Citrus Vacation
DESCRIPTION:Citrus Vacation is 5.4 %\, dry hopped generously with Citra hops\, crispy\, refreshing and super crushable with loads of flavor. Available on tap and in cans.
URL:https://citystarbrewing.com/event/beer-release-citrus-vacation/
CATEGORIES:Beer Releases,Events
ATTACH;FMTTYPE=image/png:https://citystarbrewing.com/wp-content/uploads/2025/04/citrus-vacation-SQ.png
END:VEVENT
END:VCALENDAR