BEGIN:VCALENDAR
VERSION:2.0
PRODID:-//City Star Brewing - ECPv6.15.20//NONSGML v1.0//EN
CALSCALE:GREGORIAN
METHOD:PUBLISH
X-ORIGINAL-URL:https://citystarbrewing.com
X-WR-CALDESC:Events for City Star Brewing
REFRESH-INTERVAL;VALUE=DURATION:PT1H
X-Robots-Tag:noindex
X-PUBLISHED-TTL:PT1H
BEGIN:VTIMEZONE
TZID:America/Denver
BEGIN:DAYLIGHT
TZOFFSETFROM:-0700
TZOFFSETTO:-0600
TZNAME:MDT
DTSTART:20240310T090000
END:DAYLIGHT
BEGIN:STANDARD
TZOFFSETFROM:-0600
TZOFFSETTO:-0700
TZNAME:MST
DTSTART:20241103T080000
END:STANDARD
BEGIN:DAYLIGHT
TZOFFSETFROM:-0700
TZOFFSETTO:-0600
TZNAME:MDT
DTSTART:20250309T090000
END:DAYLIGHT
BEGIN:STANDARD
TZOFFSETFROM:-0600
TZOFFSETTO:-0700
TZNAME:MST
DTSTART:20251102T080000
END:STANDARD
BEGIN:DAYLIGHT
TZOFFSETFROM:-0700
TZOFFSETTO:-0600
TZNAME:MDT
DTSTART:20260308T090000
END:DAYLIGHT
BEGIN:STANDARD
TZOFFSETFROM:-0600
TZOFFSETTO:-0700
TZNAME:MST
DTSTART:20261101T080000
END:STANDARD
END:VTIMEZONE
BEGIN:VEVENT
DTSTART;TZID=America/Denver:20250211T160000
DTEND;TZID=America/Denver:20250211T200000
DTSTAMP:20260420T132712
CREATED:20230813T191756Z
LAST-MODIFIED:20240209T232632Z
UID:10005513-1739289600-1739304000@citystarbrewing.com
SUMMARY:Nacho Mama's Tacos
DESCRIPTION:Food Truck in Boulder County CO. Specializing in Fresh Authentic Mexican Food that will blow your mind (and mouth)! Phone in orders welcome: 303-489-4307 \nCheck out their menu here! \nhttps://www.facebook.com/nachomamastacos.CO/
URL:https://citystarbrewing.com/event/nacho-mamas-tacos-2/2025-02-11/
CATEGORIES:Events,Food Trucks
ATTACH;FMTTYPE=image/jpeg:https://citystarbrewing.com/wp-content/uploads/2019/02/nachomamas.jpg
END:VEVENT
BEGIN:VEVENT
DTSTART;TZID=America/Denver:20250211T180000
DTEND;TZID=America/Denver:20250211T200000
DTSTAMP:20260420T132712
CREATED:20220124T175122Z
LAST-MODIFIED:20250106T215223Z
UID:10003944-1739296800-1739304000@citystarbrewing.com
SUMMARY:Humdinger Trivia
DESCRIPTION:Come and get your brain going with us at Humdinger Trivia! Hosted by Berthoud locals\, Erin and Jacob Crabtree. It’s FREE to play and you could win $30 in City Star beer. The fun starts at 6pm every Tuesday in the beer garden. *limit 6 per team \nCheck out the food truck schedule to see who will be serving dinner out front.
URL:https://citystarbrewing.com/event/humdinger-trivia/2025-02-11/
CATEGORIES:Events,Taproom Events
ATTACH;FMTTYPE=image/png:https://citystarbrewing.com/wp-content/uploads/2022/01/Screen-Shot-2022-01-24-at-10.43.52-AM-e1643046764674.png
END:VEVENT
BEGIN:VEVENT
DTSTART;TZID=America/Denver:20250213T120000
DTEND;TZID=America/Denver:20250213T200000
DTSTAMP:20260420T132712
CREATED:20221007T220739Z
LAST-MODIFIED:20250523T182800Z
UID:10006136-1739448000-1739476800@citystarbrewing.com
SUMMARY:Georgia Boys BBQ
DESCRIPTION:Come get some true Southern BBQ from our Georgia Boys BBQ Outpost food truck! We’re slingin’ our homemade grub all over Northern Colorado…get here early while the gettin’s good\, as we do sell out.
URL:https://citystarbrewing.com/event/georgia-boys-bbq-4/2025-02-13/
CATEGORIES:Events,Food Trucks
ATTACH;FMTTYPE=image/png:https://citystarbrewing.com/wp-content/uploads/2020/08/GeorgiaBoys.png
END:VEVENT
BEGIN:VEVENT
DTSTART;TZID=America/Denver:20250213T180000
DTEND;TZID=America/Denver:20250213T190000
DTSTAMP:20260420T132712
CREATED:20190430T154037Z
LAST-MODIFIED:20240208T204450Z
UID:10005166-1739469600-1739473200@citystarbrewing.com
SUMMARY:Social Run
DESCRIPTION:We’re running! Meet at the brewery for a City Star Social Run Thursday evenings at 6pm. Two distance options: strollers\, dogs\, speed walkers\, marathon runners.. bring it on! $3 post run beer waiting for you after the run. BYO headlamp!
URL:https://citystarbrewing.com/event/social-run/2025-02-13/
CATEGORIES:Events,Taproom Events
ATTACH;FMTTYPE=image/png:https://citystarbrewing.com/wp-content/uploads/2019/04/social-run.png
END:VEVENT
BEGIN:VEVENT
DTSTART;TZID=America/Denver:20250214T160000
DTEND;TZID=America/Denver:20250214T200000
DTSTAMP:20260420T132712
CREATED:20230927T172528Z
LAST-MODIFIED:20250704T154605Z
UID:10004348-1739548800-1739563200@citystarbrewing.com
SUMMARY:Stick Around Skewers
DESCRIPTION:FLAME FINISHED STICKS & SKEWERS \nStick Around is a locally owned and operated Food Truck based in Boulder\, Colorado. Focusing on the worlds most traditional form of BBQ\, Skewers & kebabs! Stick Around brings something to the table for everybody. Take a look at our menu to see if you can find something that fits your style! \nMENU: https://www.stickaroundskewers.com/menu
URL:https://citystarbrewing.com/event/stick-around-skewers-3-2/2025-02-14/
CATEGORIES:Events,Food Trucks
ATTACH;FMTTYPE=image/jpeg:https://citystarbrewing.com/wp-content/uploads/2021/05/stickaround.jpg
END:VEVENT
BEGIN:VEVENT
DTSTART;TZID=America/Denver:20250214T180000
DTEND;TZID=America/Denver:20250214T203000
DTSTAMP:20260420T132712
CREATED:20240528T185512Z
LAST-MODIFIED:20250104T211903Z
UID:10006079-1739556000-1739565000@citystarbrewing.com
SUMMARY:Jared Strayer
DESCRIPTION:Jared Strayer is an Americana artist based in Denver\, Colorado. After relocating to Atlanta for work\, he began writing his “ode to Colorado” which is the album titled “Back Out West” releasing on all streaming platforms in February 2024. He returned to Colorado in December of 2022 and played shows throughout 2023. With a sound that fits well alongside playlists of Zach Bryan\, Ryan Bingham\, Tyler Childers\, Jason Isbell\, and more – he has original music that will have you dancing and others that could bring a tear to your eye. \nA unique songwriter who focuses on story-telling and enjoys bringing his listeners along for the ride. Jared has played shows in Georgia\, Tennessee\, Alabama\, South Carolina\, Ohio\, Wyoming\, and last but not least – Colorado. \nHusband. Father. Son. American. Musician. \nhttps://jaredstrayermusic.com/
URL:https://citystarbrewing.com/event/jared-strayer/2025-02-14/
CATEGORIES:Events,Live Music
ATTACH;FMTTYPE=image/webp:https://citystarbrewing.com/wp-content/uploads/2024/05/jared.webp
END:VEVENT
BEGIN:VEVENT
DTSTART;TZID=America/Denver:20250215T180000
DTEND;TZID=America/Denver:20250215T203000
DTSTAMP:20260420T132712
CREATED:20190726T160209Z
LAST-MODIFIED:20241216T221340Z
UID:10001894-1739642400-1739651400@citystarbrewing.com
SUMMARY:Jim Deeming
DESCRIPTION:When Jim takes the stage\, audiences know they’re in for a treat before the first song is over. His infectious love of the guitar is evident in every arrangement\, whether playing an original or covering one of his heroes\, including the likes of Chet Atkins\, Merle Travis and Jerry Reed. \nJim got his first guitar at the age of six. His ever evolving fingerstyle technique produces an exciting one-man-band sound which he applies to a wide range of songs from gospel to country\, pop\, classical and bluegrass. He rounds out his sound with alternate tunings and blistering banjo-style rolls that leave listeners looking around for “the other guitar player”In addition to performing and recording\, he is also a fingerstyle instructor for JamPlay.com with thousands of students in over 50 countries and recently won 2nd place in the 2011 Utah State Open Fingerstyle Championship. \nhttps://www.facebook.com/jimsguitar/
URL:https://citystarbrewing.com/event/jim-deeming/
CATEGORIES:Events,Live Music
ATTACH;FMTTYPE=image/jpeg:https://citystarbrewing.com/wp-content/uploads/2019/07/photo.jpg
END:VEVENT
END:VCALENDAR