BEGIN:VCALENDAR
VERSION:2.0
PRODID:-//City Star Brewing - ECPv6.15.20//NONSGML v1.0//EN
CALSCALE:GREGORIAN
METHOD:PUBLISH
X-ORIGINAL-URL:https://citystarbrewing.com
X-WR-CALDESC:Events for City Star Brewing
REFRESH-INTERVAL;VALUE=DURATION:PT1H
X-Robots-Tag:noindex
X-PUBLISHED-TTL:PT1H
BEGIN:VTIMEZONE
TZID:America/Denver
BEGIN:DAYLIGHT
TZOFFSETFROM:-0700
TZOFFSETTO:-0600
TZNAME:MDT
DTSTART:20240310T090000
END:DAYLIGHT
BEGIN:STANDARD
TZOFFSETFROM:-0600
TZOFFSETTO:-0700
TZNAME:MST
DTSTART:20241103T080000
END:STANDARD
BEGIN:DAYLIGHT
TZOFFSETFROM:-0700
TZOFFSETTO:-0600
TZNAME:MDT
DTSTART:20250309T090000
END:DAYLIGHT
BEGIN:STANDARD
TZOFFSETFROM:-0600
TZOFFSETTO:-0700
TZNAME:MST
DTSTART:20251102T080000
END:STANDARD
BEGIN:DAYLIGHT
TZOFFSETFROM:-0700
TZOFFSETTO:-0600
TZNAME:MDT
DTSTART:20260308T090000
END:DAYLIGHT
BEGIN:STANDARD
TZOFFSETFROM:-0600
TZOFFSETTO:-0700
TZNAME:MST
DTSTART:20261101T080000
END:STANDARD
END:VTIMEZONE
BEGIN:VEVENT
DTSTART;TZID=America/Denver:20250107T160000
DTEND;TZID=America/Denver:20250107T200000
DTSTAMP:20260424T053321
CREATED:20230406T180306Z
LAST-MODIFIED:20240301T194143Z
UID:10005585-1736265600-1736280000@citystarbrewing.com
SUMMARY:Stick Around Skewers
DESCRIPTION:FLAME FINISHED STICKS & SKEWERS \nStick Around is a locally owned and operated Food Truck based in Boulder\, Colorado. Focusing on the worlds most traditional form of BBQ\, Skewers & kebabs! Stick Around brings something to the table for everybody. Take a look at our menu to see if you can find something that fits your style! \nMENU: https://www.stickaroundskewers.com/menu
URL:https://citystarbrewing.com/event/stick-around-skewers-4-2/2025-01-07/
CATEGORIES:Events,Food Trucks
ATTACH;FMTTYPE=image/jpeg:https://citystarbrewing.com/wp-content/uploads/2021/05/stickaround.jpg
END:VEVENT
BEGIN:VEVENT
DTSTART;TZID=America/Denver:20250109T180000
DTEND;TZID=America/Denver:20250109T190000
DTSTAMP:20260424T053321
CREATED:20190430T154037Z
LAST-MODIFIED:20240208T204450Z
UID:10005161-1736445600-1736449200@citystarbrewing.com
SUMMARY:Social Run
DESCRIPTION:We’re running! Meet at the brewery for a City Star Social Run Thursday evenings at 6pm. Two distance options: strollers\, dogs\, speed walkers\, marathon runners.. bring it on! $3 post run beer waiting for you after the run. BYO headlamp!
URL:https://citystarbrewing.com/event/social-run/2025-01-09/
CATEGORIES:Events,Taproom Events
ATTACH;FMTTYPE=image/png:https://citystarbrewing.com/wp-content/uploads/2019/04/social-run.png
END:VEVENT
BEGIN:VEVENT
DTSTART;TZID=America/Denver:20250110T160000
DTEND;TZID=America/Denver:20250110T200000
DTSTAMP:20260424T053321
CREATED:20240102T200412Z
LAST-MODIFIED:20250912T175659Z
UID:10005046-1736524800-1736539200@citystarbrewing.com
SUMMARY:Nacho Mama's Tacos
DESCRIPTION:Food Truck in Boulder County CO. Specializing in Fresh Authentic Mexican Food that will blow your mind (and mouth)! Phone in orders welcome: 303-489-4307 \nCheck out their menu here! \nhttps://www.facebook.com/nachomamastacos.CO/
URL:https://citystarbrewing.com/event/nacho-mamas-tacos-3/2025-01-10/
CATEGORIES:Events,Food Trucks
ATTACH;FMTTYPE=image/jpeg:https://citystarbrewing.com/wp-content/uploads/2019/02/nachomamas.jpg
END:VEVENT
BEGIN:VEVENT
DTSTART;TZID=America/Denver:20250111T120000
DTEND;TZID=America/Denver:20250111T200000
DTSTAMP:20260424T053321
CREATED:20241008T025147Z
LAST-MODIFIED:20250428T175650Z
UID:10007037-1736596800-1736625600@citystarbrewing.com
SUMMARY:The Schnitzel Wagon
DESCRIPTION:The Schnitzel Wagon is Fort Collins’ newest food truck\, bringing the rich flavors of traditional German cuisine to the community. Our specialties include hand-breaded chicken schnitzels\, which can be elevated with our signature jägerschnitzel mushroom gravy. We also serve up classic favorites like spätzle\, spätzle mac and cheese\, pretzel bites with beer cheese sauce (featuring City Star’s Oktoberfest lager)\, bratwurst with sauerkraut and fries\, bacon beer cheese burgers\, beer cheese fries\, and crispy German potato pancakes with sour drizzle and a side of applesauce. To cater to vegan and gluten-free guests\, we offer a flavorful falafel bowl. For dessert\, indulge in a slice of German chocolate cake or enjoy one of our Bavarian cream donuts. \nScreenshot
URL:https://citystarbrewing.com/event/the-schnitzel-wagon/2025-01-11/
CATEGORIES:Events,Food Trucks
ATTACH;FMTTYPE=image/jpeg:https://citystarbrewing.com/wp-content/uploads/2024/10/schnitzel.jpg
END:VEVENT
END:VCALENDAR