BEGIN:VCALENDAR
VERSION:2.0
PRODID:-//City Star Brewing - ECPv6.15.20//NONSGML v1.0//EN
CALSCALE:GREGORIAN
METHOD:PUBLISH
X-ORIGINAL-URL:https://citystarbrewing.com
X-WR-CALDESC:Events for City Star Brewing
REFRESH-INTERVAL;VALUE=DURATION:PT1H
X-Robots-Tag:noindex
X-PUBLISHED-TTL:PT1H
BEGIN:VTIMEZONE
TZID:America/Denver
BEGIN:DAYLIGHT
TZOFFSETFROM:-0700
TZOFFSETTO:-0600
TZNAME:MDT
DTSTART:20230312T090000
END:DAYLIGHT
BEGIN:STANDARD
TZOFFSETFROM:-0600
TZOFFSETTO:-0700
TZNAME:MST
DTSTART:20231105T080000
END:STANDARD
BEGIN:DAYLIGHT
TZOFFSETFROM:-0700
TZOFFSETTO:-0600
TZNAME:MDT
DTSTART:20240310T090000
END:DAYLIGHT
BEGIN:STANDARD
TZOFFSETFROM:-0600
TZOFFSETTO:-0700
TZNAME:MST
DTSTART:20241103T080000
END:STANDARD
BEGIN:DAYLIGHT
TZOFFSETFROM:-0700
TZOFFSETTO:-0600
TZNAME:MDT
DTSTART:20250309T090000
END:DAYLIGHT
BEGIN:STANDARD
TZOFFSETFROM:-0600
TZOFFSETTO:-0700
TZNAME:MST
DTSTART:20251102T080000
END:STANDARD
END:VTIMEZONE
BEGIN:VEVENT
DTSTART;TZID=America/Denver:20241215T120000
DTEND;TZID=America/Denver:20241215T200000
DTSTAMP:20260420T025141
CREATED:20241104T202757Z
LAST-MODIFIED:20241215T192440Z
UID:10006800-1734264000-1734292800@citystarbrewing.com
SUMMARY:Dos Medinas
DESCRIPTION:Dos Medinas Puerto Rican Food Trailer is the only provider of authentic Puerto Rican cuisine in Northern Colorado. Our aim is to leave you wondering how you have never had our food before! Our goal is to haunt your dreams with our amazing delectables.  Our meals paired with delicious drinks work together to put a beat down on your taste buds! We have a selection of items for anyone!  From the Island of Puerto Rico to your belly. We hope you try Dos Medinas!
URL:https://citystarbrewing.com/event/dos-medinas/2024-12-15/
CATEGORIES:Events,Food Trucks
ATTACH;FMTTYPE=image/jpeg:https://citystarbrewing.com/wp-content/uploads/2024/11/Dos-Medinas-Logo-Final-01-scaled.jpg
END:VEVENT
BEGIN:VEVENT
DTSTART;TZID=America/Denver:20241217T160000
DTEND;TZID=America/Denver:20241217T200000
DTSTAMP:20260420T025141
CREATED:20230813T191756Z
LAST-MODIFIED:20240209T232632Z
UID:10005511-1734451200-1734465600@citystarbrewing.com
SUMMARY:Nacho Mama's Tacos
DESCRIPTION:Food Truck in Boulder County CO. Specializing in Fresh Authentic Mexican Food that will blow your mind (and mouth)! Phone in orders welcome: 303-489-4307 \nCheck out their menu here! \nhttps://www.facebook.com/nachomamastacos.CO/
URL:https://citystarbrewing.com/event/nacho-mamas-tacos-2/2024-12-17/
CATEGORIES:Events,Food Trucks
ATTACH;FMTTYPE=image/jpeg:https://citystarbrewing.com/wp-content/uploads/2019/02/nachomamas.jpg
END:VEVENT
BEGIN:VEVENT
DTSTART;TZID=America/Denver:20241217T180000
DTEND;TZID=America/Denver:20241217T200000
DTSTAMP:20260420T025141
CREATED:20220124T175122Z
LAST-MODIFIED:20250106T215223Z
UID:10003936-1734458400-1734465600@citystarbrewing.com
SUMMARY:Humdinger Trivia
DESCRIPTION:Come and get your brain going with us at Humdinger Trivia! Hosted by Berthoud locals\, Erin and Jacob Crabtree. It’s FREE to play and you could win $30 in City Star beer. The fun starts at 6pm every Tuesday in the beer garden. *limit 6 per team \nCheck out the food truck schedule to see who will be serving dinner out front.
URL:https://citystarbrewing.com/event/humdinger-trivia/2024-12-17/
CATEGORIES:Events,Taproom Events
ATTACH;FMTTYPE=image/png:https://citystarbrewing.com/wp-content/uploads/2022/01/Screen-Shot-2022-01-24-at-10.43.52-AM-e1643046764674.png
END:VEVENT
BEGIN:VEVENT
DTSTART;TZID=America/Denver:20241219T180000
DTEND;TZID=America/Denver:20241219T190000
DTSTAMP:20260420T025141
CREATED:20190430T154037Z
LAST-MODIFIED:20240208T204450Z
UID:10005158-1734631200-1734634800@citystarbrewing.com
SUMMARY:Social Run
DESCRIPTION:We’re running! Meet at the brewery for a City Star Social Run Thursday evenings at 6pm. Two distance options: strollers\, dogs\, speed walkers\, marathon runners.. bring it on! $3 post run beer waiting for you after the run. BYO headlamp!
URL:https://citystarbrewing.com/event/social-run/2024-12-19/
CATEGORIES:Events,Taproom Events
ATTACH;FMTTYPE=image/png:https://citystarbrewing.com/wp-content/uploads/2019/04/social-run.png
END:VEVENT
BEGIN:VEVENT
DTSTART;TZID=America/Denver:20241220T160000
DTEND;TZID=America/Denver:20241220T200000
DTSTAMP:20260420T025141
CREATED:20230927T172528Z
LAST-MODIFIED:20250704T154605Z
UID:10004346-1734710400-1734724800@citystarbrewing.com
SUMMARY:Stick Around Skewers
DESCRIPTION:FLAME FINISHED STICKS & SKEWERS \nStick Around is a locally owned and operated Food Truck based in Boulder\, Colorado. Focusing on the worlds most traditional form of BBQ\, Skewers & kebabs! Stick Around brings something to the table for everybody. Take a look at our menu to see if you can find something that fits your style! \nMENU: https://www.stickaroundskewers.com/menu
URL:https://citystarbrewing.com/event/stick-around-skewers-3-2/2024-12-20/
CATEGORIES:Events,Food Trucks
ATTACH;FMTTYPE=image/jpeg:https://citystarbrewing.com/wp-content/uploads/2021/05/stickaround.jpg
END:VEVENT
END:VCALENDAR