BEGIN:VCALENDAR
VERSION:2.0
PRODID:-//City Star Brewing - ECPv6.15.20//NONSGML v1.0//EN
CALSCALE:GREGORIAN
METHOD:PUBLISH
X-ORIGINAL-URL:https://citystarbrewing.com
X-WR-CALDESC:Events for City Star Brewing
REFRESH-INTERVAL;VALUE=DURATION:PT1H
X-Robots-Tag:noindex
X-PUBLISHED-TTL:PT1H
BEGIN:VTIMEZONE
TZID:America/Denver
BEGIN:DAYLIGHT
TZOFFSETFROM:-0700
TZOFFSETTO:-0600
TZNAME:MDT
DTSTART:20220313T090000
END:DAYLIGHT
BEGIN:STANDARD
TZOFFSETFROM:-0600
TZOFFSETTO:-0700
TZNAME:MST
DTSTART:20221106T080000
END:STANDARD
BEGIN:DAYLIGHT
TZOFFSETFROM:-0700
TZOFFSETTO:-0600
TZNAME:MDT
DTSTART:20230312T090000
END:DAYLIGHT
BEGIN:STANDARD
TZOFFSETFROM:-0600
TZOFFSETTO:-0700
TZNAME:MST
DTSTART:20231105T080000
END:STANDARD
BEGIN:DAYLIGHT
TZOFFSETFROM:-0700
TZOFFSETTO:-0600
TZNAME:MDT
DTSTART:20240310T090000
END:DAYLIGHT
BEGIN:STANDARD
TZOFFSETFROM:-0600
TZOFFSETTO:-0700
TZNAME:MST
DTSTART:20241103T080000
END:STANDARD
END:VTIMEZONE
BEGIN:VEVENT
DTSTART;TZID=America/Denver:20231212T180000
DTEND;TZID=America/Denver:20231212T200000
DTSTAMP:20260420T084954
CREATED:20220124T175122Z
LAST-MODIFIED:20250106T215223Z
UID:10003883-1702404000-1702411200@citystarbrewing.com
SUMMARY:Humdinger Trivia
DESCRIPTION:Come and get your brain going with us at Humdinger Trivia! Hosted by Berthoud locals\, Erin and Jacob Crabtree. It’s FREE to play and you could win $30 in City Star beer. The fun starts at 6pm every Tuesday in the beer garden. *limit 6 per team \nCheck out the food truck schedule to see who will be serving dinner out front.
URL:https://citystarbrewing.com/event/humdinger-trivia/2023-12-12/
CATEGORIES:Events,Taproom Events
ATTACH;FMTTYPE=image/png:https://citystarbrewing.com/wp-content/uploads/2022/01/Screen-Shot-2022-01-24-at-10.43.52-AM-e1643046764674.png
END:VEVENT
BEGIN:VEVENT
DTSTART;TZID=America/Denver:20231213T160000
DTEND;TZID=America/Denver:20231213T200000
DTSTAMP:20260420T084954
CREATED:20231018T210922Z
LAST-MODIFIED:20250212T031713Z
UID:10003471-1702483200-1702497600@citystarbrewing.com
SUMMARY:Santa Elena's
DESCRIPTION:Wood Smoked Mexican Provisions \nWE MAY JUST BE A FOOD TRUCK \, BUT OUR PROMISE IS to the land and those it serves. \nWe strive to work closely with those that work the land whether near or far\, to bring to you the best possible food truck experience. We seek to work with those who are making products that are conscious of their environmental impact. We want to honor our culture and try to bring the authentic essence of where we came from and what it means to us. We want to share our sense of hospitality and nurture your spirt with our food. \nBienvenidos Amigos \nBeautiful Bountiful Blue Corn: Our work couldn’t find ground until ground found us. Your authentic experience begins early in the morning when we make our own masa (corn dough) from the beautiful blue heirloom mushito corn from Michoacan. This corn and it’s people have long thrived through hardships\, we think mainly cause it’s so freaking good. Our fresh masa goes on to make tortillas for quesadillas\, enchiladas\, tostadas etc. Come try for yourself! \nhttps://www.santaelenas.com
URL:https://citystarbrewing.com/event/santa-elenas-2-2/
CATEGORIES:Events,Food Trucks
ATTACH;FMTTYPE=image/jpeg:https://citystarbrewing.com/wp-content/uploads/2021/09/santaelenas-e1631658980688.jpg
END:VEVENT
BEGIN:VEVENT
DTSTART;TZID=America/Denver:20231216T180000
DTEND;TZID=America/Denver:20231216T203000
DTSTAMP:20260420T084954
CREATED:20221128T165433Z
LAST-MODIFIED:20230910T222813Z
UID:10002389-1702749600-1702758600@citystarbrewing.com
SUMMARY:At The Watertower
DESCRIPTION:We look forward to welcoming the acoustic version of Watertower to City Star! \nAt The Watertower is a Denver based band that takes pride in making sure that people have a good time. Each time that they get to play is to have another opportunity to connect with people in a way that is often lacking in these times. Whether you could use a song to sing along to\, stomp your feet to or to just take you somewhere else for a brief moment\, we are here for it. \nhttp://www.atthewatertower.com
URL:https://citystarbrewing.com/event/at-the-watertower/
CATEGORIES:Events,Live Music
ATTACH;FMTTYPE=image/jpeg:https://citystarbrewing.com/wp-content/uploads/2022/11/watertower-1-e1681751083924.jpg
END:VEVENT
END:VCALENDAR