BEGIN:VCALENDAR
VERSION:2.0
PRODID:-//City Star Brewing - ECPv6.15.20//NONSGML v1.0//EN
CALSCALE:GREGORIAN
METHOD:PUBLISH
X-ORIGINAL-URL:https://citystarbrewing.com
X-WR-CALDESC:Events for City Star Brewing
REFRESH-INTERVAL;VALUE=DURATION:PT1H
X-Robots-Tag:noindex
X-PUBLISHED-TTL:PT1H
BEGIN:VTIMEZONE
TZID:America/Denver
BEGIN:DAYLIGHT
TZOFFSETFROM:-0700
TZOFFSETTO:-0600
TZNAME:MDT
DTSTART:20220313T090000
END:DAYLIGHT
BEGIN:STANDARD
TZOFFSETFROM:-0600
TZOFFSETTO:-0700
TZNAME:MST
DTSTART:20221106T080000
END:STANDARD
BEGIN:DAYLIGHT
TZOFFSETFROM:-0700
TZOFFSETTO:-0600
TZNAME:MDT
DTSTART:20230312T090000
END:DAYLIGHT
BEGIN:STANDARD
TZOFFSETFROM:-0600
TZOFFSETTO:-0700
TZNAME:MST
DTSTART:20231105T080000
END:STANDARD
BEGIN:DAYLIGHT
TZOFFSETFROM:-0700
TZOFFSETTO:-0600
TZNAME:MDT
DTSTART:20240310T090000
END:DAYLIGHT
BEGIN:STANDARD
TZOFFSETFROM:-0600
TZOFFSETTO:-0700
TZNAME:MST
DTSTART:20241103T080000
END:STANDARD
END:VTIMEZONE
BEGIN:VEVENT
DTSTART;TZID=America/Denver:20231024T160000
DTEND;TZID=America/Denver:20231024T200000
DTSTAMP:20260420T094816
CREATED:20230605T190235Z
LAST-MODIFIED:20231030T174726Z
UID:10004841-1698163200-1698177600@citystarbrewing.com
SUMMARY:Golden Goodness
DESCRIPTION:Golden Goodness Eats offers gourmet grilled cheese sandwiches and all-day biscuits!  Many of our products are locally-sourced from the best foodie entrepreneurs\, like Red Branch Bakery\, who provides our bread\, biscuits and cookies that we use.  You also support local charities through our giveback contributions when you dine with us.  Grab a Golden\, Cheesy\, Parmesan crusted Grilled Cheese or a Flakey Buttery Biscuit with Brie\, Green Apple\, Honey and Cinnamon Sugar TODAY! Let your taste buds be the judge! \nView Menu
URL:https://citystarbrewing.com/event/golden-goodness/2023-10-24/
CATEGORIES:Events,Food Trucks
ATTACH;FMTTYPE=image/jpeg:https://citystarbrewing.com/wp-content/uploads/2023/06/IMG_3106-1-scaled.jpg
END:VEVENT
BEGIN:VEVENT
DTSTART;TZID=America/Denver:20231024T180000
DTEND;TZID=America/Denver:20231024T200000
DTSTAMP:20260420T094816
CREATED:20220124T175122Z
LAST-MODIFIED:20250106T215223Z
UID:10003876-1698170400-1698177600@citystarbrewing.com
SUMMARY:Humdinger Trivia
DESCRIPTION:Come and get your brain going with us at Humdinger Trivia! Hosted by Berthoud locals\, Erin and Jacob Crabtree. It’s FREE to play and you could win $30 in City Star beer. The fun starts at 6pm every Tuesday in the beer garden. *limit 6 per team \nCheck out the food truck schedule to see who will be serving dinner out front.
URL:https://citystarbrewing.com/event/humdinger-trivia/2023-10-24/
CATEGORIES:Events,Taproom Events
ATTACH;FMTTYPE=image/png:https://citystarbrewing.com/wp-content/uploads/2022/01/Screen-Shot-2022-01-24-at-10.43.52-AM-e1643046764674.png
END:VEVENT
BEGIN:VEVENT
DTSTART;TZID=America/Denver:20231026T120000
DTEND;TZID=America/Denver:20231026T200000
DTSTAMP:20260420T094816
CREATED:20221007T220739Z
LAST-MODIFIED:20250523T182800Z
UID:10006120-1698321600-1698350400@citystarbrewing.com
SUMMARY:Georgia Boys BBQ
DESCRIPTION:Come get some true Southern BBQ from our Georgia Boys BBQ Outpost food truck! We’re slingin’ our homemade grub all over Northern Colorado…get here early while the gettin’s good\, as we do sell out.
URL:https://citystarbrewing.com/event/georgia-boys-bbq-4/2023-10-26/
CATEGORIES:Events,Food Trucks
ATTACH;FMTTYPE=image/png:https://citystarbrewing.com/wp-content/uploads/2020/08/GeorgiaBoys.png
END:VEVENT
BEGIN:VEVENT
DTSTART;TZID=America/Denver:20231027T080000
DTEND;TZID=America/Denver:20231027T170000
DTSTAMP:20260420T094816
CREATED:20230927T172528Z
LAST-MODIFIED:20250704T154605Z
UID:10007330-1698393600-1698426000@citystarbrewing.com
SUMMARY:Stick Around Skewers
DESCRIPTION:FLAME FINISHED STICKS & SKEWERS \nStick Around is a locally owned and operated Food Truck based in Boulder\, Colorado. Focusing on the worlds most traditional form of BBQ\, Skewers & kebabs! Stick Around brings something to the table for everybody. Take a look at our menu to see if you can find something that fits your style! \nMENU: https://www.stickaroundskewers.com/menu
URL:https://citystarbrewing.com/event/stick-around-skewers-3-2/2023-10-27/1/
CATEGORIES:Events,Food Trucks
ATTACH;FMTTYPE=image/jpeg:https://citystarbrewing.com/wp-content/uploads/2021/05/stickaround.jpg
END:VEVENT
BEGIN:VEVENT
DTSTART;TZID=America/Denver:20231027T150000
DTEND;TZID=America/Denver:20231027T210000
DTSTAMP:20260420T094816
CREATED:20230926T181534Z
LAST-MODIFIED:20230926T181534Z
UID:10004814-1698418800-1698440400@citystarbrewing.com
SUMMARY:Beer Release: Hazy IPA 80's New Wave Radio
DESCRIPTION:A New England style Hazy IPA dry hopped with Cashmere and Strata hops. Available on tap and in cans to-go.
URL:https://citystarbrewing.com/event/beer-release-hazy-ipa-80s-new-wave-radio/
CATEGORIES:Beer Releases,Events
ATTACH;FMTTYPE=image/png:https://citystarbrewing.com/wp-content/uploads/2023/09/HazyIPA80sNewWaveLabel-02.png
END:VEVENT
BEGIN:VEVENT
DTSTART;TZID=America/Denver:20231027T160000
DTEND;TZID=America/Denver:20231027T200000
DTSTAMP:20260420T094816
CREATED:20230927T172528Z
LAST-MODIFIED:20250704T154605Z
UID:10004330-1698422400-1698436800@citystarbrewing.com
SUMMARY:Stick Around Skewers
DESCRIPTION:FLAME FINISHED STICKS & SKEWERS \nStick Around is a locally owned and operated Food Truck based in Boulder\, Colorado. Focusing on the worlds most traditional form of BBQ\, Skewers & kebabs! Stick Around brings something to the table for everybody. Take a look at our menu to see if you can find something that fits your style! \nMENU: https://www.stickaroundskewers.com/menu
URL:https://citystarbrewing.com/event/stick-around-skewers-3-2/2023-10-27/2/
CATEGORIES:Events,Food Trucks
ATTACH;FMTTYPE=image/jpeg:https://citystarbrewing.com/wp-content/uploads/2021/05/stickaround.jpg
END:VEVENT
END:VCALENDAR