BEGIN:VCALENDAR
VERSION:2.0
PRODID:-//City Star Brewing - ECPv6.15.20//NONSGML v1.0//EN
CALSCALE:GREGORIAN
METHOD:PUBLISH
X-WR-CALNAME:City Star Brewing
X-ORIGINAL-URL:https://citystarbrewing.com
X-WR-CALDESC:Events for City Star Brewing
REFRESH-INTERVAL;VALUE=DURATION:PT1H
X-Robots-Tag:noindex
X-PUBLISHED-TTL:PT1H
BEGIN:VTIMEZONE
TZID:America/Denver
BEGIN:DAYLIGHT
TZOFFSETFROM:-0700
TZOFFSETTO:-0600
TZNAME:MDT
DTSTART:20220313T090000
END:DAYLIGHT
BEGIN:STANDARD
TZOFFSETFROM:-0600
TZOFFSETTO:-0700
TZNAME:MST
DTSTART:20221106T080000
END:STANDARD
BEGIN:DAYLIGHT
TZOFFSETFROM:-0700
TZOFFSETTO:-0600
TZNAME:MDT
DTSTART:20230312T090000
END:DAYLIGHT
BEGIN:STANDARD
TZOFFSETFROM:-0600
TZOFFSETTO:-0700
TZNAME:MST
DTSTART:20231105T080000
END:STANDARD
BEGIN:DAYLIGHT
TZOFFSETFROM:-0700
TZOFFSETTO:-0600
TZNAME:MDT
DTSTART:20240310T090000
END:DAYLIGHT
BEGIN:STANDARD
TZOFFSETFROM:-0600
TZOFFSETTO:-0700
TZNAME:MST
DTSTART:20241103T080000
END:STANDARD
END:VTIMEZONE
BEGIN:VEVENT
DTSTART;TZID=America/Denver:20231010T180000
DTEND;TZID=America/Denver:20231010T200000
DTSTAMP:20260420T132656
CREATED:20220124T175122Z
LAST-MODIFIED:20250106T215223Z
UID:10003874-1696960800-1696968000@citystarbrewing.com
SUMMARY:Humdinger Trivia
DESCRIPTION:Come and get your brain going with us at Humdinger Trivia! Hosted by Berthoud locals\, Erin and Jacob Crabtree. It’s FREE to play and you could win $30 in City Star beer. The fun starts at 6pm every Tuesday in the beer garden. *limit 6 per team \nCheck out the food truck schedule to see who will be serving dinner out front.
URL:https://citystarbrewing.com/event/humdinger-trivia/2023-10-10/
CATEGORIES:Events,Taproom Events
ATTACH;FMTTYPE=image/png:https://citystarbrewing.com/wp-content/uploads/2022/01/Screen-Shot-2022-01-24-at-10.43.52-AM-e1643046764674.png
END:VEVENT
BEGIN:VEVENT
DTSTART;TZID=America/Denver:20231012T160000
DTEND;TZID=America/Denver:20231012T200000
DTSTAMP:20260420T132656
CREATED:20221227T155123Z
LAST-MODIFIED:20240201T181557Z
UID:10004257-1697126400-1697140800@citystarbrewing.com
SUMMARY:Stick Around Skewers
DESCRIPTION:FLAME FINISHED STICKS & SKEWERS \nStick Around is a locally owned and operated Food Truck based in Boulder\, Colorado. Focusing on the worlds most traditional form of BBQ\, Skewers & kebabs! Stick Around brings something to the table for everybody. Take a look at our menu to see if you can find something that fits your style! \nMENU: https://www.stickaroundskewers.com/menu
URL:https://citystarbrewing.com/event/stick-around-skewers-4/2023-10-12/
CATEGORIES:Events,Food Trucks
ATTACH;FMTTYPE=image/jpeg:https://citystarbrewing.com/wp-content/uploads/2021/05/stickaround.jpg
END:VEVENT
BEGIN:VEVENT
DTSTART;TZID=America/Denver:20231013T160000
DTEND;TZID=America/Denver:20231013T200000
DTSTAMP:20260420T132656
CREATED:20230605T190235Z
LAST-MODIFIED:20231030T174726Z
UID:10003254-1697212800-1697227200@citystarbrewing.com
SUMMARY:Golden Goodness
DESCRIPTION:Golden Goodness Eats offers gourmet grilled cheese sandwiches and all-day biscuits!  Many of our products are locally-sourced from the best foodie entrepreneurs\, like Red Branch Bakery\, who provides our bread\, biscuits and cookies that we use.  You also support local charities through our giveback contributions when you dine with us.  Grab a Golden\, Cheesy\, Parmesan crusted Grilled Cheese or a Flakey Buttery Biscuit with Brie\, Green Apple\, Honey and Cinnamon Sugar TODAY! Let your taste buds be the judge! \nView Menu
URL:https://citystarbrewing.com/event/golden-goodness/2023-10-13/
CATEGORIES:Events,Food Trucks
ATTACH;FMTTYPE=image/jpeg:https://citystarbrewing.com/wp-content/uploads/2023/06/IMG_3106-1-scaled.jpg
END:VEVENT
BEGIN:VEVENT
DTSTART;TZID=America/Denver:20231013T180000
DTEND;TZID=America/Denver:20231013T203000
DTSTAMP:20260420T132656
CREATED:20230829T153651Z
LAST-MODIFIED:20230829T153651Z
UID:10004573-1697220000-1697229000@citystarbrewing.com
SUMMARY:Mascot Theory Duo
DESCRIPTION:The Mascot Theory has been kicking around Wisconsin weekend-warrior style for the past decade\, but like many musicians\, the great pandemic-induced entertainment halt of 2020 forced the band to reflect and refocus musical efforts. With the core foundation of singer/songwriter Erik Kjelland and the rhythm section of Nick Fry on bass guitar and Paul Metz on drums\, The Mascot Theory used this time off to slightly shift their sound away from their acoustic-driven folk-rock music and into a more classic rock inspired Rock and Roll groove\, especially thanks to the addition of lead guitarist Cory Swadley who brings a strong musical swagger and reverence to the guitar gods of the past. In 2021 the band made a major leap towards a more national focus when they were discovered and signed by manager Chuck Toler of TolerVision LLC\, who helped steer the careers of artists like Cheap Trick and Mudvayne. Toler circulated the band’s music around to trusted colleagues in the business leading to famed producer Terry Manning (Led Zeppelin\, ZZ Top\, Shakira\, Lenny Kravitz\, Stax Record) taking an interest in the band and agreeing to produce their next full-length album that will be released in 2023. In April 2022 Manning and the band assembled at Sonic Ranch Studios near El Paso\, TX to record 15 songs. \nAlong with a WAMI (Wisconsin Area Music Industry) win for Best Male Vocalist (Erik Kjelland) and many WAMI nominations for Best Americana/folk artist\, The Mascot Theory has won over 20 MAMA (Madison Area Music Association) awards including Artist of the Year.  They have played major festivals throughout Wisconsin including Summerfest\, Freak Fest\, and Mile of Music Festival\, and have shared the stage with BoDeans\, America\, Don McLean\, Vance Joy\, Frank Turner\, Chase Rice\, Kaleo\, The Wild Feathers\, Guster\, Blitzen Trapper\, Cory Chisel\, Andy Frasco and the UN\, Miles Nielsen and the Rusted Hearts\, American Aquarium\, and Lillie Mae. \nThe new music travels into its classic rock influences; harmonies that bring to mind the Eagles or Poco\, a bit of that Rolling Stones guitar swagger\, a little ZZ Top blues rock\, a dash of the Pink Floyd mood\, but never straying far from the core of the Tom Petty/Beatle-esque importance of solid melody and lyrics. Songs like “When I Drift Away”\, “Lavender Blues” and “Fast Car Getaway” showcase the new album’s infectious energy and beautiful harmonies within an eclectic landscape of well-crafted and memorable songs. \nhttps://themascottheory.com/
URL:https://citystarbrewing.com/event/mascot-theory-duo/
CATEGORIES:Events,Live Music
ATTACH;FMTTYPE=image/jpeg:https://citystarbrewing.com/wp-content/uploads/2023/08/mascot-theory.jpg
END:VEVENT
BEGIN:VEVENT
DTSTART;TZID=America/Denver:20231014T120000
DTEND;TZID=America/Denver:20231014T200000
DTSTAMP:20260420T132656
CREATED:20220113T005446Z
LAST-MODIFIED:20240710T180051Z
UID:10004397-1697284800-1697313600@citystarbrewing.com
SUMMARY:Georgia Boys BBQ
DESCRIPTION:Come get some true Southern BBQ from our Georgia Boys BBQ Outpost food truck! We’re slingin’ our homemade grub all over Northern Colorado…get here early while the gettin’s good\, as we do sell out.
URL:https://citystarbrewing.com/event/georgia-boys-bbq-2/2023-10-14/
CATEGORIES:Events,Food Trucks
ATTACH;FMTTYPE=image/png:https://citystarbrewing.com/wp-content/uploads/2020/08/GeorgiaBoys.png
END:VEVENT
BEGIN:VEVENT
DTSTART;TZID=America/Denver:20231014T180000
DTEND;TZID=America/Denver:20231014T203000
DTSTAMP:20260420T132656
CREATED:20230911T150430Z
LAST-MODIFIED:20230911T150430Z
UID:10004578-1697306400-1697315400@citystarbrewing.com
SUMMARY:Megan Mitchell
DESCRIPTION: 
URL:https://citystarbrewing.com/event/megan-mitchell/
CATEGORIES:Events,Live Music
END:VEVENT
END:VCALENDAR