BEGIN:VCALENDAR
VERSION:2.0
PRODID:-//City Star Brewing - ECPv6.15.20//NONSGML v1.0//EN
CALSCALE:GREGORIAN
METHOD:PUBLISH
X-ORIGINAL-URL:https://citystarbrewing.com
X-WR-CALDESC:Events for City Star Brewing
REFRESH-INTERVAL;VALUE=DURATION:PT1H
X-Robots-Tag:noindex
X-PUBLISHED-TTL:PT1H
BEGIN:VTIMEZONE
TZID:America/Denver
BEGIN:DAYLIGHT
TZOFFSETFROM:-0700
TZOFFSETTO:-0600
TZNAME:MDT
DTSTART:20220313T090000
END:DAYLIGHT
BEGIN:STANDARD
TZOFFSETFROM:-0600
TZOFFSETTO:-0700
TZNAME:MST
DTSTART:20221106T080000
END:STANDARD
BEGIN:DAYLIGHT
TZOFFSETFROM:-0700
TZOFFSETTO:-0600
TZNAME:MDT
DTSTART:20230312T090000
END:DAYLIGHT
BEGIN:STANDARD
TZOFFSETFROM:-0600
TZOFFSETTO:-0700
TZNAME:MST
DTSTART:20231105T080000
END:STANDARD
BEGIN:DAYLIGHT
TZOFFSETFROM:-0700
TZOFFSETTO:-0600
TZNAME:MDT
DTSTART:20240310T090000
END:DAYLIGHT
BEGIN:STANDARD
TZOFFSETFROM:-0600
TZOFFSETTO:-0700
TZNAME:MST
DTSTART:20241103T080000
END:STANDARD
END:VTIMEZONE
BEGIN:VEVENT
DTSTART;TZID=America/Denver:20230904T110000
DTEND;TZID=America/Denver:20230904T180000
DTSTAMP:20260420T171840
CREATED:20210905T223658Z
LAST-MODIFIED:20230219T185810Z
UID:10001730-1693825200-1693850400@citystarbrewing.com
SUMMARY:Taproom Special Hours
DESCRIPTION:Happy Labor Day!! The taproom will be opening early for Flap Jack day\, come and enjoy free flap jacks\, live music\, vintage car show and more 11-6pm.\n\nHours: 11pm-6pm
URL:https://citystarbrewing.com/event/taproom-special-hours/
LOCATION:CO
CATEGORIES:Events,Taproom Events
ATTACH;FMTTYPE=image/jpeg:https://citystarbrewing.com/wp-content/uploads/2021/09/istockphoto-1265691940-612x612-1.jpg
END:VEVENT
BEGIN:VEVENT
DTSTART;TZID=America/Denver:20230905T180000
DTEND;TZID=America/Denver:20230905T200000
DTSTAMP:20260420T171840
CREATED:20220124T175122Z
LAST-MODIFIED:20250106T215223Z
UID:10003869-1693936800-1693944000@citystarbrewing.com
SUMMARY:Humdinger Trivia
DESCRIPTION:Come and get your brain going with us at Humdinger Trivia! Hosted by Berthoud locals\, Erin and Jacob Crabtree. It’s FREE to play and you could win $30 in City Star beer. The fun starts at 6pm every Tuesday in the beer garden. *limit 6 per team \nCheck out the food truck schedule to see who will be serving dinner out front.
URL:https://citystarbrewing.com/event/humdinger-trivia/2023-09-05/
CATEGORIES:Events,Taproom Events
ATTACH;FMTTYPE=image/png:https://citystarbrewing.com/wp-content/uploads/2022/01/Screen-Shot-2022-01-24-at-10.43.52-AM-e1643046764674.png
END:VEVENT
BEGIN:VEVENT
DTSTART;TZID=America/Denver:20230908T150000
DTEND;TZID=America/Denver:20230908T210000
DTSTAMP:20260420T171840
CREATED:20190416T214039Z
LAST-MODIFIED:20230828T132428Z
UID:10000225-1694185200-1694206800@citystarbrewing.com
SUMMARY:Beer Release: Harley's Honey Wheat
DESCRIPTION:American wheat brewed with wildflower honey and orange peel. This brew is named after Harley\, spokes-dog against puppy mills. Harley’s will be releasing on tap only in taproom on 9/8. Cans to drink will be for sale at the Puppy Mill Awareness Day event in Fickel Park on 9/9. \nYou can read more about Harley’s Dream here. 
URL:https://citystarbrewing.com/event/beer-release-harleys-honey-wheat/
CATEGORIES:Beer Releases,Events
ATTACH;FMTTYPE=image/png:https://citystarbrewing.com/wp-content/uploads/2019/04/Screen-Shot-2021-05-28-at-11.04.07-AM.png
END:VEVENT
BEGIN:VEVENT
DTSTART;TZID=America/Denver:20230909T120000
DTEND;TZID=America/Denver:20230909T200000
DTSTAMP:20260420T171840
CREATED:20181128T060314Z
LAST-MODIFIED:20241203T220750Z
UID:10003113-1694260800-1694289600@citystarbrewing.com
SUMMARY:Sweaty Moose
DESCRIPTION:Sweaty Moose MENU: www.sweatymoose.com
URL:https://citystarbrewing.com/event/sweaty-moose/2023-09-09/
CATEGORIES:Events,Food Trucks
ATTACH;FMTTYPE=image/jpeg:https://citystarbrewing.com/wp-content/uploads/2017/10/sweaty-moose.jpg
END:VEVENT
BEGIN:VEVENT
DTSTART;TZID=America/Denver:20230909T180000
DTEND;TZID=America/Denver:20230909T203000
DTSTAMP:20260420T171840
CREATED:20230725T213223Z
LAST-MODIFIED:20230725T213223Z
UID:10004473-1694282400-1694291400@citystarbrewing.com
SUMMARY:Jim Jamm Jimmy
DESCRIPTION:We call it….Loungeabilly \nAs a professional musician for thirty five years\, Jimmy Kolodziej of Jim Jamm Jimmy has long entertained and engaged fans with his high energy Rockabilly stylings.  Throughout the years\, opening for such acts as The Brian Setzer Orchestra\, Wanda Jackson\, Link Wray\, Dave Alvin and the Guilty Men\, The B-52’s\, The Legendary Shack Shakers and Jason Ringenberg to name a few\, Jimmy has played an intense Upright Slap Bass that keeps fans wanting more.  Today\, Jimmy has infused the best of these experiences and combined them with his own unique performance to bring you a soulful\, energetic Rockabilly style that’s all his own.  Writing his own music and lyrics\, Jimmy’s new show features his own musical talents on guitar\, bass drum\, hi hat and vocals.  Edgy and seductive\, all Jimmy’s songs are original and stripped down…just like Rockabilly should be. \nhttps://jimjammjimmy.com
URL:https://citystarbrewing.com/event/jim-jamm-jimmy/
LOCATION:CO
CATEGORIES:Events,Live Music
ATTACH;FMTTYPE=image/jpeg:https://citystarbrewing.com/wp-content/uploads/2023/07/jimjammjimmy.jpg
END:VEVENT
END:VCALENDAR