BEGIN:VCALENDAR
VERSION:2.0
PRODID:-//City Star Brewing - ECPv6.15.20//NONSGML v1.0//EN
CALSCALE:GREGORIAN
METHOD:PUBLISH
X-WR-CALNAME:City Star Brewing
X-ORIGINAL-URL:https://citystarbrewing.com
X-WR-CALDESC:Events for City Star Brewing
REFRESH-INTERVAL;VALUE=DURATION:PT1H
X-Robots-Tag:noindex
X-PUBLISHED-TTL:PT1H
BEGIN:VTIMEZONE
TZID:America/Denver
BEGIN:DAYLIGHT
TZOFFSETFROM:-0700
TZOFFSETTO:-0600
TZNAME:MDT
DTSTART:20220313T090000
END:DAYLIGHT
BEGIN:STANDARD
TZOFFSETFROM:-0600
TZOFFSETTO:-0700
TZNAME:MST
DTSTART:20221106T080000
END:STANDARD
BEGIN:DAYLIGHT
TZOFFSETFROM:-0700
TZOFFSETTO:-0600
TZNAME:MDT
DTSTART:20230312T090000
END:DAYLIGHT
BEGIN:STANDARD
TZOFFSETFROM:-0600
TZOFFSETTO:-0700
TZNAME:MST
DTSTART:20231105T080000
END:STANDARD
BEGIN:DAYLIGHT
TZOFFSETFROM:-0700
TZOFFSETTO:-0600
TZNAME:MDT
DTSTART:20240310T090000
END:DAYLIGHT
BEGIN:STANDARD
TZOFFSETFROM:-0600
TZOFFSETTO:-0700
TZNAME:MST
DTSTART:20241103T080000
END:STANDARD
END:VTIMEZONE
BEGIN:VEVENT
DTSTART;TZID=America/Denver:20230604T170000
DTEND;TZID=America/Denver:20230604T193000
DTSTAMP:20260420T191438
CREATED:20230417T170859Z
LAST-MODIFIED:20230417T171446Z
UID:10002332-1685898000-1685907000@citystarbrewing.com
SUMMARY:Alex Reisenweber
DESCRIPTION:Alex Reisenweber is a singer/songwriter based out of Fort Collins\, Co. His music is a blend of bluegrass\, folk and americana with a dash of classic rock. From heart broken love songs to comedic talking blues to high-energy fast paced bluegrass\, there is something for everyone in his live show. Born and raised in the Midwest\, Alex grew an appreciation for all types of music. He began his writing and performing career in 1999 as a college student in Manhattan\, KS. A self-taught musician\, Alex honed his skills around many late-night campfires with friends and other musicians. As a student at Kansas State University\, he helped form multiple bands and played extensively at regional watering holes and festivals. In 2015 Alex joined americana group Sons of the Republic. With them he played mandolin and recorded a full-length album called “Fire on the Prairie”. In 2017 Alex set out fulltime on the road playing as a folk duo called Deliberate Kin. They released a full-length album called “Things Happen”. In 2020 Alex found himself settling down in Colorado and has now pursued a career as a solo performer. His live show is full of straight forward lyrics and unique guitar playing resulting in songs that are relatable\, sometimes humorous and full of real-life emotions.
URL:https://citystarbrewing.com/event/alex-reisenweber/
LOCATION:CO
CATEGORIES:Events,Live Music
ATTACH;FMTTYPE=image/jpeg:https://citystarbrewing.com/wp-content/uploads/2023/04/Alex-Reisenweber.jpg
END:VEVENT
BEGIN:VEVENT
DTSTART;TZID=America/Denver:20230606T180000
DTEND;TZID=America/Denver:20230606T200000
DTSTAMP:20260420T191438
CREATED:20220124T175122Z
LAST-MODIFIED:20250106T215223Z
UID:10003858-1686074400-1686081600@citystarbrewing.com
SUMMARY:Humdinger Trivia
DESCRIPTION:Come and get your brain going with us at Humdinger Trivia! Hosted by Berthoud locals\, Erin and Jacob Crabtree. It’s FREE to play and you could win $30 in City Star beer. The fun starts at 6pm every Tuesday in the beer garden. *limit 6 per team \nCheck out the food truck schedule to see who will be serving dinner out front.
URL:https://citystarbrewing.com/event/humdinger-trivia/2023-06-06/
CATEGORIES:Events,Taproom Events
ATTACH;FMTTYPE=image/png:https://citystarbrewing.com/wp-content/uploads/2022/01/Screen-Shot-2022-01-24-at-10.43.52-AM-e1643046764674.png
END:VEVENT
BEGIN:VEVENT
DTSTART;TZID=America/Denver:20230608T120000
DTEND;TZID=America/Denver:20230608T200000
DTSTAMP:20260420T191439
CREATED:20221007T220739Z
LAST-MODIFIED:20250523T182800Z
UID:10006115-1686225600-1686254400@citystarbrewing.com
SUMMARY:Georgia Boys BBQ
DESCRIPTION:Come get some true Southern BBQ from our Georgia Boys BBQ Outpost food truck! We’re slingin’ our homemade grub all over Northern Colorado…get here early while the gettin’s good\, as we do sell out.
URL:https://citystarbrewing.com/event/georgia-boys-bbq-4/2023-06-08/
CATEGORIES:Events,Food Trucks
ATTACH;FMTTYPE=image/png:https://citystarbrewing.com/wp-content/uploads/2020/08/GeorgiaBoys.png
END:VEVENT
BEGIN:VEVENT
DTSTART;TZID=America/Denver:20230609T160000
DTEND;TZID=America/Denver:20230609T200000
DTSTAMP:20260420T191439
CREATED:20221202T202704Z
LAST-MODIFIED:20230703T175004Z
UID:10002203-1686326400-1686340800@citystarbrewing.com
SUMMARY:Stick Around Skewers
DESCRIPTION:FLAME FINISHED STICKS & SKEWERS \nStick Around is a locally owned and operated Food Truck based in Boulder\, Colorado. Focusing on the worlds most traditional form of BBQ\, Skewers & kebabs! Stick Around brings something to the table for everybody. Take a look at our menu to see if you can find something that fits your style! \nMENU: https://www.stickaroundskewers.com/menu
URL:https://citystarbrewing.com/event/stick-around-skewers-3/2023-06-09/
LOCATION:CO
CATEGORIES:Events,Food Trucks
ATTACH;FMTTYPE=image/jpeg:https://citystarbrewing.com/wp-content/uploads/2021/05/stickaround.jpg
END:VEVENT
BEGIN:VEVENT
DTSTART;TZID=America/Denver:20230610T180000
DTEND;TZID=America/Denver:20230610T203000
DTSTAMP:20260420T191439
CREATED:20220301T214223Z
LAST-MODIFIED:20230521T133110Z
UID:10001836-1686420000-1686429000@citystarbrewing.com
SUMMARY:Bryan Gisburne
DESCRIPTION:Bryan is a long time Chicago musician recently transplanted to the western slope of Colorado. He plays with Dead Horse Flats\, an Eagle\, CO based bluegrass / Americana ensemble that draws its influence from the likes of Bob Dylan\, Townes Van Zant\, Devil Makes Three and Ryan Bingham. Most of his originals come from a life lived on the road with just a guitar and harp in tow.
URL:https://citystarbrewing.com/event/bryan-gisburne/
LOCATION:CO
CATEGORIES:Events,Live Music
ATTACH;FMTTYPE=image/jpeg:https://citystarbrewing.com/wp-content/uploads/2022/03/BryanGisburne.jpg
END:VEVENT
END:VCALENDAR