BEGIN:VCALENDAR
VERSION:2.0
PRODID:-//City Star Brewing - ECPv6.15.20//NONSGML v1.0//EN
CALSCALE:GREGORIAN
METHOD:PUBLISH
X-WR-CALNAME:City Star Brewing
X-ORIGINAL-URL:https://citystarbrewing.com
X-WR-CALDESC:Events for City Star Brewing
REFRESH-INTERVAL;VALUE=DURATION:PT1H
X-Robots-Tag:noindex
X-PUBLISHED-TTL:PT1H
BEGIN:VTIMEZONE
TZID:America/Denver
BEGIN:DAYLIGHT
TZOFFSETFROM:-0700
TZOFFSETTO:-0600
TZNAME:MDT
DTSTART:20220313T090000
END:DAYLIGHT
BEGIN:STANDARD
TZOFFSETFROM:-0600
TZOFFSETTO:-0700
TZNAME:MST
DTSTART:20221106T080000
END:STANDARD
BEGIN:DAYLIGHT
TZOFFSETFROM:-0700
TZOFFSETTO:-0600
TZNAME:MDT
DTSTART:20230312T090000
END:DAYLIGHT
BEGIN:STANDARD
TZOFFSETFROM:-0600
TZOFFSETTO:-0700
TZNAME:MST
DTSTART:20231105T080000
END:STANDARD
BEGIN:DAYLIGHT
TZOFFSETFROM:-0700
TZOFFSETTO:-0600
TZNAME:MDT
DTSTART:20240310T090000
END:DAYLIGHT
BEGIN:STANDARD
TZOFFSETFROM:-0600
TZOFFSETTO:-0700
TZNAME:MST
DTSTART:20241103T080000
END:STANDARD
END:VTIMEZONE
BEGIN:VEVENT
DTSTART;TZID=America/Denver:20230502T180000
DTEND;TZID=America/Denver:20230502T200000
DTSTAMP:20260420T224911
CREATED:20220124T175122Z
LAST-MODIFIED:20250106T215223Z
UID:10002176-1683050400-1683057600@citystarbrewing.com
SUMMARY:Humdinger Trivia
DESCRIPTION:Come and get your brain going with us at Humdinger Trivia! Hosted by Berthoud locals\, Erin and Jacob Crabtree. It’s FREE to play and you could win $30 in City Star beer. The fun starts at 6pm every Tuesday in the beer garden. *limit 6 per team \nCheck out the food truck schedule to see who will be serving dinner out front.
URL:https://citystarbrewing.com/event/humdinger-trivia/2023-05-02/
CATEGORIES:Events,Taproom Events
ATTACH;FMTTYPE=image/png:https://citystarbrewing.com/wp-content/uploads/2022/01/Screen-Shot-2022-01-24-at-10.43.52-AM-e1643046764674.png
END:VEVENT
BEGIN:VEVENT
DTSTART;TZID=America/Denver:20230505T150000
DTEND;TZID=America/Denver:20230505T200000
DTSTAMP:20260420T224911
CREATED:20230418T004805Z
LAST-MODIFIED:20230425T012806Z
UID:10002335-1683298800-1683316800@citystarbrewing.com
SUMMARY:Butcher and The Blonde
DESCRIPTION:Butcher and The Blonde\, food truck and full-service catering company serves up #streetstylecomfortfood all over the front range. with our original signature loaded street fries\, fresh batch green chili\, house ground butcher burger grinds\, tacos\, smoky – mac & cheese\, and kids meals. you’re sure to find something for the whole family. always served hot and fresh to order and pairs well with your favorite craft beer !!
URL:https://citystarbrewing.com/event/butcher-and-the-blonde/
LOCATION:CO
CATEGORIES:Events,Food Trucks
ATTACH;FMTTYPE=image/jpeg:https://citystarbrewing.com/wp-content/uploads/2023/04/butcher-and-blonde.jpeg
END:VEVENT
BEGIN:VEVENT
DTSTART;TZID=America/Denver:20230505T150000
DTEND;TZID=America/Denver:20230505T210000
DTSTAMP:20260420T224911
CREATED:20210426T185612Z
LAST-MODIFIED:20230417T192740Z
UID:10001644-1683298800-1683320400@citystarbrewing.com
SUMMARY:Beer Release: Salud
DESCRIPTION:American Wheat brewed with wheat and sea salt\, then finished with watermelon and a hint of lime puree and chili.
URL:https://citystarbrewing.com/event/salud-beer-release/
LOCATION:CO
CATEGORIES:Beer Releases,Events
ATTACH;FMTTYPE=image/jpeg:https://citystarbrewing.com/wp-content/uploads/2021/04/Salud-e1619807489718.jpg
END:VEVENT
END:VCALENDAR