BEGIN:VCALENDAR
VERSION:2.0
PRODID:-//City Star Brewing - ECPv6.15.20//NONSGML v1.0//EN
CALSCALE:GREGORIAN
METHOD:PUBLISH
X-WR-CALNAME:City Star Brewing
X-ORIGINAL-URL:https://citystarbrewing.com
X-WR-CALDESC:Events for City Star Brewing
REFRESH-INTERVAL;VALUE=DURATION:PT1H
X-Robots-Tag:noindex
X-PUBLISHED-TTL:PT1H
BEGIN:VTIMEZONE
TZID:America/Denver
BEGIN:DAYLIGHT
TZOFFSETFROM:-0700
TZOFFSETTO:-0600
TZNAME:MDT
DTSTART:20220313T090000
END:DAYLIGHT
BEGIN:STANDARD
TZOFFSETFROM:-0600
TZOFFSETTO:-0700
TZNAME:MST
DTSTART:20221106T080000
END:STANDARD
BEGIN:DAYLIGHT
TZOFFSETFROM:-0700
TZOFFSETTO:-0600
TZNAME:MDT
DTSTART:20230312T090000
END:DAYLIGHT
BEGIN:STANDARD
TZOFFSETFROM:-0600
TZOFFSETTO:-0700
TZNAME:MST
DTSTART:20231105T080000
END:STANDARD
BEGIN:DAYLIGHT
TZOFFSETFROM:-0700
TZOFFSETTO:-0600
TZNAME:MDT
DTSTART:20240310T090000
END:DAYLIGHT
BEGIN:STANDARD
TZOFFSETFROM:-0600
TZOFFSETTO:-0700
TZNAME:MST
DTSTART:20241103T080000
END:STANDARD
END:VTIMEZONE
BEGIN:VEVENT
DTSTART;TZID=America/Denver:20230418T180000
DTEND;TZID=America/Denver:20230418T200000
DTSTAMP:20260420T224911
CREATED:20220124T175122Z
LAST-MODIFIED:20250106T215223Z
UID:10002159-1681840800-1681848000@citystarbrewing.com
SUMMARY:Humdinger Trivia
DESCRIPTION:Come and get your brain going with us at Humdinger Trivia! Hosted by Berthoud locals\, Erin and Jacob Crabtree. It’s FREE to play and you could win $30 in City Star beer. The fun starts at 6pm every Tuesday in the beer garden. *limit 6 per team \nCheck out the food truck schedule to see who will be serving dinner out front.
URL:https://citystarbrewing.com/event/humdinger-trivia/2023-04-18/
CATEGORIES:Events,Taproom Events
ATTACH;FMTTYPE=image/png:https://citystarbrewing.com/wp-content/uploads/2022/01/Screen-Shot-2022-01-24-at-10.43.52-AM-e1643046764674.png
END:VEVENT
BEGIN:VEVENT
DTSTART;TZID=America/Denver:20230421T150000
DTEND;TZID=America/Denver:20230421T210000
DTSTAMP:20260420T224911
CREATED:20230320T140816Z
LAST-MODIFIED:20230320T140816Z
UID:10002213-1682089200-1682110800@citystarbrewing.com
SUMMARY:First Friday in Downtown Berthoud
DESCRIPTION:Join us and several other local businesses as we participate in First Fridays in downtown Berthoud from April through September. \n\n\n\nYou + Me Floral and Gifts – City Star Brewing – The Rancher’s Wife – Berthoud Drug & Boutique – Rise Artisan Bread – Wildfire Arts Center of Berthoud – The Source Zero NoCo – Homestead Fine Art Gallery – Mountain Ridge Dentistry
URL:https://citystarbrewing.com/event/first-friday-in-downtown-berthoud/2023-04-21/
LOCATION:CO
CATEGORIES:Events,Taproom Events
ATTACH;FMTTYPE=image/jpeg:https://citystarbrewing.com/wp-content/uploads/2023/03/map-first-friday.jpg
END:VEVENT
BEGIN:VEVENT
DTSTART;TZID=America/Denver:20230421T150000
DTEND;TZID=America/Denver:20230421T210000
DTSTAMP:20260420T224911
CREATED:20230403T231556Z
LAST-MODIFIED:20230403T231556Z
UID:10002325-1682089200-1682110800@citystarbrewing.com
SUMMARY:Beer Release: Hazy IPA
DESCRIPTION:A New England style Hazy IPA dry hopped with Eldorado & Nectaron hops. This beer was brewed while listening to Feel Good Indie songs including music from Rainbow Kitten Surprise\, Mt. Joy and Cammp. Tune in with us and enjoy this cold beer crafted just for you. \nListen along at: Feel Good Indie Music 
URL:https://citystarbrewing.com/event/beer-release-hazy-ipa-2/
LOCATION:CO
CATEGORIES:Beer Releases,Events
ATTACH;FMTTYPE=image/png:https://citystarbrewing.com/wp-content/uploads/2023/04/HazyIndieFeelGood-02.png
END:VEVENT
BEGIN:VEVENT
DTSTART;TZID=America/Denver:20230422T120000
DTEND;TZID=America/Denver:20230422T200000
DTSTAMP:20260420T224911
CREATED:20181128T060314Z
LAST-MODIFIED:20241203T220750Z
UID:10002163-1682164800-1682193600@citystarbrewing.com
SUMMARY:Sweaty Moose
DESCRIPTION:Sweaty Moose MENU: www.sweatymoose.com
URL:https://citystarbrewing.com/event/sweaty-moose/2023-04-22/
CATEGORIES:Events,Food Trucks
ATTACH;FMTTYPE=image/jpeg:https://citystarbrewing.com/wp-content/uploads/2017/10/sweaty-moose.jpg
END:VEVENT
BEGIN:VEVENT
DTSTART;TZID=America/Denver:20230422T120000
DTEND;TZID=America/Denver:20230422T200000
DTSTAMP:20260420T224911
CREATED:20220414T165857Z
LAST-MODIFIED:20230417T180624Z
UID:10001840-1682164800-1682193600@citystarbrewing.com
SUMMARY:Earth Day Celebration
DESCRIPTION:Join us for a clean-up around Berthoud!Earn your beer by showing your beerslinger a photo with your collected trash and we’ll give you a free beer or non-alcoholic drink. We will be hosting a music showcase with live music all day (2-8:30pm) and be selling limited edition City Star recycled merch items. \nFeature musicians include: \nThe legendary singer/songwriter MR.KEVIN JONES\nSinger/songwriter SHELLY RODERICK\nSinger/songwriter STEVE MURRAY\nSinger/songwriter LLOYD DRUST\nAnd the debut performance of\nYOUNGER THAN DIRT Featuring DAVE SAMPSON AND LLOYD DRUST
URL:https://citystarbrewing.com/event/earth-day/
LOCATION:CO
CATEGORIES:Events,Live Music,Taproom Events
ATTACH;FMTTYPE=image/png:https://citystarbrewing.com/wp-content/uploads/2022/04/EarthDay-01.png
END:VEVENT
END:VCALENDAR