BEGIN:VCALENDAR
VERSION:2.0
PRODID:-//City Star Brewing - ECPv6.15.20//NONSGML v1.0//EN
CALSCALE:GREGORIAN
METHOD:PUBLISH
X-ORIGINAL-URL:https://citystarbrewing.com
X-WR-CALDESC:Events for City Star Brewing
REFRESH-INTERVAL;VALUE=DURATION:PT1H
X-Robots-Tag:noindex
X-PUBLISHED-TTL:PT1H
BEGIN:VTIMEZONE
TZID:America/Denver
BEGIN:DAYLIGHT
TZOFFSETFROM:-0700
TZOFFSETTO:-0600
TZNAME:MDT
DTSTART:20220313T090000
END:DAYLIGHT
BEGIN:STANDARD
TZOFFSETFROM:-0600
TZOFFSETTO:-0700
TZNAME:MST
DTSTART:20221106T080000
END:STANDARD
BEGIN:DAYLIGHT
TZOFFSETFROM:-0700
TZOFFSETTO:-0600
TZNAME:MDT
DTSTART:20230312T090000
END:DAYLIGHT
BEGIN:STANDARD
TZOFFSETFROM:-0600
TZOFFSETTO:-0700
TZNAME:MST
DTSTART:20231105T080000
END:STANDARD
BEGIN:DAYLIGHT
TZOFFSETFROM:-0700
TZOFFSETTO:-0600
TZNAME:MDT
DTSTART:20240310T090000
END:DAYLIGHT
BEGIN:STANDARD
TZOFFSETFROM:-0600
TZOFFSETTO:-0700
TZNAME:MST
DTSTART:20241103T080000
END:STANDARD
END:VTIMEZONE
BEGIN:VEVENT
DTSTART;TZID=America/Denver:20230207T160000
DTEND;TZID=America/Denver:20230207T200000
DTSTAMP:20260421T021813
CREATED:20200711T213851Z
LAST-MODIFIED:20230123T152358Z
UID:10001967-1675785600-1675800000@citystarbrewing.com
SUMMARY:Dill's Maine Lobster Shack
DESCRIPTION:Maine native Ryan Dill and wife Liz bring you: Dill’s Maine Lobster Shack\, a Food Trailer in Northern Colorado focusing on authentic Maine Lobster & Crab Rolls. Looking forward to bringing a bit of New England to Colorado. \nAll seafood is flown in overnight\, fresh from the coast of Maine! Wicked Good!!!! \nMENU \n$20 Full Lobster Roll Plate – 4oz Lobster Roll\, Coleslaw\, Pickle Spear\, Chips \n$16 1/2 Lobster Roll Plate – 2oz Lobster Roll\, Coleslaw\, Pickle Spear\, Chips \n$20 Crab Plate Roll – 4oz Crab Roll\, Coleslaw\, Pickle Spear\, Chips \n$5 Hot Dog Plate – Hot Dog\, Pickle Spear\, Chips
URL:https://citystarbrewing.com/event/dills-maine-lobster-shack/2023-02-07/
LOCATION:CO
CATEGORIES:Events,Food Trucks
ATTACH;FMTTYPE=image/jpeg:https://citystarbrewing.com/wp-content/uploads/2020/07/dills-maine-1.jpg
END:VEVENT
BEGIN:VEVENT
DTSTART;TZID=America/Denver:20230207T180000
DTEND;TZID=America/Denver:20230207T200000
DTSTAMP:20260421T021813
CREATED:20220124T175122Z
LAST-MODIFIED:20250106T215223Z
UID:10002149-1675792800-1675800000@citystarbrewing.com
SUMMARY:Humdinger Trivia
DESCRIPTION:Come and get your brain going with us at Humdinger Trivia! Hosted by Berthoud locals\, Erin and Jacob Crabtree. It’s FREE to play and you could win $30 in City Star beer. The fun starts at 6pm every Tuesday in the beer garden. *limit 6 per team \nCheck out the food truck schedule to see who will be serving dinner out front.
URL:https://citystarbrewing.com/event/humdinger-trivia/2023-02-07/
CATEGORIES:Events,Taproom Events
ATTACH;FMTTYPE=image/png:https://citystarbrewing.com/wp-content/uploads/2022/01/Screen-Shot-2022-01-24-at-10.43.52-AM-e1643046764674.png
END:VEVENT
BEGIN:VEVENT
DTSTART;TZID=America/Denver:20230208T160000
DTEND;TZID=America/Denver:20230208T200000
DTSTAMP:20260421T021813
CREATED:20221116T211336Z
LAST-MODIFIED:20250212T032058Z
UID:10002063-1675872000-1675886400@citystarbrewing.com
SUMMARY:Santa Elena's
DESCRIPTION:Wood Smoked Mexican Provisions \nWE MAY JUST BE A FOOD TRUCK \, BUT OUR PROMISE IS to the land and those it serves. \nWe strive to work closely with those that work the land whether near or far\, to bring to you the best possible food truck experience. We seek to work with those who are making products that are conscious of their environmental impact. We want to honor our culture and try to bring the authentic essence of where we came from and what it means to us. We want to share our sense of hospitality and nurture your spirt with our food. \nBienvenidos Amigos \nBeautiful Bountiful Blue Corn: Our work couldn’t find ground until ground found us. Your authentic experience begins early in the morning when we make our own masa (corn dough) from the beautiful blue heirloom mushito corn from Michoacan. This corn and it’s people have long thrived through hardships\, we think mainly cause it’s so freaking good. Our fresh masa goes on to make tortillas for quesadillas\, enchiladas\, tostadas etc. Come try for yourself! \nhttps://www.santaelenas.com
URL:https://citystarbrewing.com/event/santa-elenas-2/
CATEGORIES:Events,Food Trucks
ATTACH;FMTTYPE=image/jpeg:https://citystarbrewing.com/wp-content/uploads/2021/09/santaelenas-e1631658980688.jpg
END:VEVENT
END:VCALENDAR