BEGIN:VCALENDAR
VERSION:2.0
PRODID:-//City Star Brewing - ECPv6.15.20//NONSGML v1.0//EN
CALSCALE:GREGORIAN
METHOD:PUBLISH
X-WR-CALNAME:City Star Brewing
X-ORIGINAL-URL:https://citystarbrewing.com
X-WR-CALDESC:Events for City Star Brewing
REFRESH-INTERVAL;VALUE=DURATION:PT1H
X-Robots-Tag:noindex
X-PUBLISHED-TTL:PT1H
BEGIN:VTIMEZONE
TZID:America/Denver
BEGIN:DAYLIGHT
TZOFFSETFROM:-0700
TZOFFSETTO:-0600
TZNAME:MDT
DTSTART:20210314T090000
END:DAYLIGHT
BEGIN:STANDARD
TZOFFSETFROM:-0600
TZOFFSETTO:-0700
TZNAME:MST
DTSTART:20211107T080000
END:STANDARD
BEGIN:DAYLIGHT
TZOFFSETFROM:-0700
TZOFFSETTO:-0600
TZNAME:MDT
DTSTART:20220313T090000
END:DAYLIGHT
BEGIN:STANDARD
TZOFFSETFROM:-0600
TZOFFSETTO:-0700
TZNAME:MST
DTSTART:20221106T080000
END:STANDARD
BEGIN:DAYLIGHT
TZOFFSETFROM:-0700
TZOFFSETTO:-0600
TZNAME:MDT
DTSTART:20230312T090000
END:DAYLIGHT
BEGIN:STANDARD
TZOFFSETFROM:-0600
TZOFFSETTO:-0700
TZNAME:MST
DTSTART:20231105T080000
END:STANDARD
END:VTIMEZONE
BEGIN:VEVENT
DTSTART;TZID=America/Denver:20220911T170000
DTEND;TZID=America/Denver:20220911T193000
DTSTAMP:20260421T103125
CREATED:20220301T191316Z
LAST-MODIFIED:20220815T162923Z
UID:10001835-1662915600-1662924600@citystarbrewing.com
SUMMARY:West Side Joe Duo
DESCRIPTION:Loose\, funky grooves and smooth vocals. Incendiary guitar playing and lyrics that you can’t forget. Raised in Memphis\, TN\, Joe now does his thing based out out of Ft. Collins\, Colorado. He earned his recording and performing credentials with Memphis’ Blues Rock Queen Reba Russell. After playing with Reba for five years\, Joe took on the challenge of starting his own group\, Minivan\, which became a staple of the Memphis roots rock scene. He also took gigs with Memphis blues artists Earl the Pearl\, Billy Gibson\, and Big Joe Turner (bassist for Albert and B.B. King). Joe has shared stages with Charlie Hunter\, Tower of Power\, and James Cotton. It’s mostly blues\, R&B\, rock & roll\, soul\, and funk – the brilliant creations of African-American artists which most modern popular music is based on today. This is what inspires West Side Joe & The Men of Soul to write their material.  \nhttps://westsidejoeandthemenofsoul.com/about \n 
URL:https://citystarbrewing.com/event/west-side-joe-duo/
LOCATION:CO
CATEGORIES:Events,Live Music
ATTACH;FMTTYPE=image/jpeg:https://citystarbrewing.com/wp-content/uploads/2021/06/Joe-Schicke-1.jpg
END:VEVENT
BEGIN:VEVENT
DTSTART;TZID=America/Denver:20220915T160000
DTEND;TZID=America/Denver:20220915T200000
DTSTAMP:20260421T103125
CREATED:20210503T202906Z
LAST-MODIFIED:20260318T171335Z
UID:10001655-1663257600-1663272000@citystarbrewing.com
SUMMARY:Stick Around Skewers
DESCRIPTION:FLAME FINISHED STICKS & SKEWERS \nStick Around is a locally owned and operated Food Truck based in Boulder\, Colorado. Focusing on the worlds most traditional form of BBQ\, Skewers & kebabs! Stick Around brings something to the table for everybody. Take a look at our menu to see if you can find something that fits your style! \nMENU: https://www.stickaroundskewers.com/menu
URL:https://citystarbrewing.com/event/stick-around-skewers/2022-09-15/
CATEGORIES:Events,Food Trucks
ATTACH;FMTTYPE=image/jpeg:https://citystarbrewing.com/wp-content/uploads/2021/05/stickaround.jpg
END:VEVENT
BEGIN:VEVENT
DTSTART;TZID=America/Denver:20220917T120000
DTEND;TZID=America/Denver:20220917T200000
DTSTAMP:20260421T103125
CREATED:20220113T005446Z
LAST-MODIFIED:20240710T180051Z
UID:10001803-1663416000-1663444800@citystarbrewing.com
SUMMARY:Georgia Boys BBQ
DESCRIPTION:Come get some true Southern BBQ from our Georgia Boys BBQ Outpost food truck! We’re slingin’ our homemade grub all over Northern Colorado…get here early while the gettin’s good\, as we do sell out.
URL:https://citystarbrewing.com/event/georgia-boys-bbq-2/2022-09-17/
CATEGORIES:Events,Food Trucks
ATTACH;FMTTYPE=image/png:https://citystarbrewing.com/wp-content/uploads/2020/08/GeorgiaBoys.png
END:VEVENT
END:VCALENDAR