BEGIN:VCALENDAR
VERSION:2.0
PRODID:-//City Star Brewing - ECPv6.15.20//NONSGML v1.0//EN
CALSCALE:GREGORIAN
METHOD:PUBLISH
X-ORIGINAL-URL:https://citystarbrewing.com
X-WR-CALDESC:Events for City Star Brewing
REFRESH-INTERVAL;VALUE=DURATION:PT1H
X-Robots-Tag:noindex
X-PUBLISHED-TTL:PT1H
BEGIN:VTIMEZONE
TZID:America/Denver
BEGIN:DAYLIGHT
TZOFFSETFROM:-0700
TZOFFSETTO:-0600
TZNAME:MDT
DTSTART:20200308T090000
END:DAYLIGHT
BEGIN:STANDARD
TZOFFSETFROM:-0600
TZOFFSETTO:-0700
TZNAME:MST
DTSTART:20201101T080000
END:STANDARD
BEGIN:DAYLIGHT
TZOFFSETFROM:-0700
TZOFFSETTO:-0600
TZNAME:MDT
DTSTART:20210314T090000
END:DAYLIGHT
BEGIN:STANDARD
TZOFFSETFROM:-0600
TZOFFSETTO:-0700
TZNAME:MST
DTSTART:20211107T080000
END:STANDARD
BEGIN:DAYLIGHT
TZOFFSETFROM:-0700
TZOFFSETTO:-0600
TZNAME:MDT
DTSTART:20220313T090000
END:DAYLIGHT
BEGIN:STANDARD
TZOFFSETFROM:-0600
TZOFFSETTO:-0700
TZNAME:MST
DTSTART:20221106T080000
END:STANDARD
END:VTIMEZONE
BEGIN:VEVENT
DTSTART;TZID=America/Denver:20211017T170000
DTEND;TZID=America/Denver:20211017T200000
DTSTAMP:20260422T183043
CREATED:20190731T212720Z
LAST-MODIFIED:20191014T194901Z
UID:10001019-1634490000-1634500800@citystarbrewing.com
SUMMARY:Summit Tacos
DESCRIPTION:Summit Tacos proudly serves authentic Mexican food and they love to share our passion for our food and our culture. Visit at 237 Collyer Street in Longmont and select food truck pop-ups. \nhttps://eatsummittacos.com
URL:https://citystarbrewing.com/event/summit-tacos/2021-10-17/
LOCATION:321 Mountain Avenue\, Berthoud\, CO\, 80513\, United States
CATEGORIES:Events,Food Trucks
ATTACH;FMTTYPE=image/png:https://citystarbrewing.com/wp-content/uploads/2017/05/summittacos.png
END:VEVENT
BEGIN:VEVENT
DTSTART;TZID=America/Denver:20211018T170000
DTEND;TZID=America/Denver:20211018T200000
DTSTAMP:20260422T183043
CREATED:20190731T212720Z
LAST-MODIFIED:20191014T194901Z
UID:10001020-1634576400-1634587200@citystarbrewing.com
SUMMARY:Summit Tacos
DESCRIPTION:Summit Tacos proudly serves authentic Mexican food and they love to share our passion for our food and our culture. Visit at 237 Collyer Street in Longmont and select food truck pop-ups. \nhttps://eatsummittacos.com
URL:https://citystarbrewing.com/event/summit-tacos/2021-10-18/
LOCATION:321 Mountain Avenue\, Berthoud\, CO\, 80513\, United States
CATEGORIES:Events,Food Trucks
ATTACH;FMTTYPE=image/png:https://citystarbrewing.com/wp-content/uploads/2017/05/summittacos.png
END:VEVENT
BEGIN:VEVENT
DTSTART;TZID=America/Denver:20211019T170000
DTEND;TZID=America/Denver:20211019T200000
DTSTAMP:20260422T183043
CREATED:20190731T212720Z
LAST-MODIFIED:20191014T194901Z
UID:10001021-1634662800-1634673600@citystarbrewing.com
SUMMARY:Summit Tacos
DESCRIPTION:Summit Tacos proudly serves authentic Mexican food and they love to share our passion for our food and our culture. Visit at 237 Collyer Street in Longmont and select food truck pop-ups. \nhttps://eatsummittacos.com
URL:https://citystarbrewing.com/event/summit-tacos/2021-10-19/
LOCATION:321 Mountain Avenue\, Berthoud\, CO\, 80513\, United States
CATEGORIES:Events,Food Trucks
ATTACH;FMTTYPE=image/png:https://citystarbrewing.com/wp-content/uploads/2017/05/summittacos.png
END:VEVENT
BEGIN:VEVENT
DTSTART;TZID=America/Denver:20211020T170000
DTEND;TZID=America/Denver:20211020T200000
DTSTAMP:20260422T183043
CREATED:20190731T212720Z
LAST-MODIFIED:20191014T194901Z
UID:10001022-1634749200-1634760000@citystarbrewing.com
SUMMARY:Summit Tacos
DESCRIPTION:Summit Tacos proudly serves authentic Mexican food and they love to share our passion for our food and our culture. Visit at 237 Collyer Street in Longmont and select food truck pop-ups. \nhttps://eatsummittacos.com
URL:https://citystarbrewing.com/event/summit-tacos/2021-10-20/
LOCATION:321 Mountain Avenue\, Berthoud\, CO\, 80513\, United States
CATEGORIES:Events,Food Trucks
ATTACH;FMTTYPE=image/png:https://citystarbrewing.com/wp-content/uploads/2017/05/summittacos.png
END:VEVENT
BEGIN:VEVENT
DTSTART;TZID=America/Denver:20211021T170000
DTEND;TZID=America/Denver:20211021T200000
DTSTAMP:20260422T183043
CREATED:20190731T212720Z
LAST-MODIFIED:20191014T194901Z
UID:10001023-1634835600-1634846400@citystarbrewing.com
SUMMARY:Summit Tacos
DESCRIPTION:Summit Tacos proudly serves authentic Mexican food and they love to share our passion for our food and our culture. Visit at 237 Collyer Street in Longmont and select food truck pop-ups. \nhttps://eatsummittacos.com
URL:https://citystarbrewing.com/event/summit-tacos/2021-10-21/
LOCATION:321 Mountain Avenue\, Berthoud\, CO\, 80513\, United States
CATEGORIES:Events,Food Trucks
ATTACH;FMTTYPE=image/png:https://citystarbrewing.com/wp-content/uploads/2017/05/summittacos.png
END:VEVENT
BEGIN:VEVENT
DTSTART;TZID=America/Denver:20211022T170000
DTEND;TZID=America/Denver:20211022T200000
DTSTAMP:20260422T183043
CREATED:20190731T212720Z
LAST-MODIFIED:20191014T194901Z
UID:10001024-1634922000-1634932800@citystarbrewing.com
SUMMARY:Summit Tacos
DESCRIPTION:Summit Tacos proudly serves authentic Mexican food and they love to share our passion for our food and our culture. Visit at 237 Collyer Street in Longmont and select food truck pop-ups. \nhttps://eatsummittacos.com
URL:https://citystarbrewing.com/event/summit-tacos/2021-10-22/
LOCATION:321 Mountain Avenue\, Berthoud\, CO\, 80513\, United States
CATEGORIES:Events,Food Trucks
ATTACH;FMTTYPE=image/png:https://citystarbrewing.com/wp-content/uploads/2017/05/summittacos.png
END:VEVENT
BEGIN:VEVENT
DTSTART;TZID=America/Denver:20211023T120000
DTEND;TZID=America/Denver:20211023T210000
DTSTAMP:20260422T183043
CREATED:20200611T213825Z
LAST-MODIFIED:20211021T211234Z
UID:10001455-1634990400-1635022800@citystarbrewing.com
SUMMARY:Beer Release: Black is Beautiful
DESCRIPTION:City Star Brewing joined hundreds of breweries worldwide in 2020 to brew Black is Beautiful and we’re bringing it back again this year. The Black is Beautiful initiative launched by Weathered Souls Brewing Co. is a collaborative effort amongst the brewing community and its customers\, in an attempt to bring awareness to the injustices that many people of color face daily. The mission is to bridge the gap that’s been around for ages and provide a platform to show that the brewing community is an inclusive place for everyone of any color. \nCity Star’s Black is Beautiful is a chocolate blackberry stout\, to be released on draft and in 16oz cans. We will donate 20% of sales to NAACP.
URL:https://citystarbrewing.com/event/beer-release-black-is-beautiful/
LOCATION:CO
CATEGORIES:Beer Releases,Events
ATTACH;FMTTYPE=image/jpeg:https://citystarbrewing.com/wp-content/uploads/2020/06/Black-is-Beautiful.jpg
END:VEVENT
BEGIN:VEVENT
DTSTART;TZID=America/Denver:20211023T170000
DTEND;TZID=America/Denver:20211023T200000
DTSTAMP:20260422T183043
CREATED:20190731T212720Z
LAST-MODIFIED:20191014T194901Z
UID:10001025-1635008400-1635019200@citystarbrewing.com
SUMMARY:Summit Tacos
DESCRIPTION:Summit Tacos proudly serves authentic Mexican food and they love to share our passion for our food and our culture. Visit at 237 Collyer Street in Longmont and select food truck pop-ups. \nhttps://eatsummittacos.com
URL:https://citystarbrewing.com/event/summit-tacos/2021-10-23/
LOCATION:321 Mountain Avenue\, Berthoud\, CO\, 80513\, United States
CATEGORIES:Events,Food Trucks
ATTACH;FMTTYPE=image/png:https://citystarbrewing.com/wp-content/uploads/2017/05/summittacos.png
END:VEVENT
BEGIN:VEVENT
DTSTART;TZID=America/Denver:20211023T180000
DTEND;TZID=America/Denver:20211023T203000
DTSTAMP:20260422T183043
CREATED:20191008T041220Z
LAST-MODIFIED:20211004T171817Z
UID:10001362-1635012000-1635021000@citystarbrewing.com
SUMMARY:Aaron McCloskey and Alex Johnstone
DESCRIPTION:Aaron McCloskey maintains a busy schedule playing with front range bluegrass band “Wood Belly” (winners of the 2018 Telluride Bluegrass Band Competition)\, and rock bands “Western Skyline”\, and “Safe Boating is No Accident”. He also regularly performs solo and duo shows with a variety of talented musicians. Aaron was featured in the May 2010 issue of “Flatpicking Guitar Magazine” for his work with “Steve Smith and Hard Road”. Aaron lives in Berthoud\, Colorado where he can be found hiking\, fly-fishing\, and teaching guitar and banjo. \nhttp://www.aaronmccloskeymusic.com \nAlex Johnstone of Rapidgrass has spent the last many years touring around bars\, bluegrass festivals\, and kids music camps all over America and Canada as a member of the Colorado based bluegrass band Spring Creek. He started his musical life as teenager playing electric rock and blues guitar and took up the mandolin and fiddle in his early twenties. Alex started playing out professionally while ski bumming in Crested Butte Colorado and also where he met the other members of Spring Creek. He followed the band out to South Plains College in Levelland Texas where he studied music with renowned pickers Alan Mundy and Joe Carr. Alex currently makes his home in Buena Vista\, Colorado and enjoys making music\, skiing\, and fly fishing.
URL:https://citystarbrewing.com/event/aaron-mccloskey/
LOCATION:CO
CATEGORIES:Events,Live Music
ATTACH;FMTTYPE=image/png:https://citystarbrewing.com/wp-content/uploads/2015/06/aaronmccloskey.png
END:VEVENT
END:VCALENDAR