BEGIN:VCALENDAR
VERSION:2.0
PRODID:-//City Star Brewing - ECPv6.15.20//NONSGML v1.0//EN
CALSCALE:GREGORIAN
METHOD:PUBLISH
X-WR-CALNAME:City Star Brewing
X-ORIGINAL-URL:https://citystarbrewing.com
X-WR-CALDESC:Events for City Star Brewing
REFRESH-INTERVAL;VALUE=DURATION:PT1H
X-Robots-Tag:noindex
X-PUBLISHED-TTL:PT1H
BEGIN:VTIMEZONE
TZID:America/Denver
BEGIN:DAYLIGHT
TZOFFSETFROM:-0700
TZOFFSETTO:-0600
TZNAME:MDT
DTSTART:20200308T090000
END:DAYLIGHT
BEGIN:STANDARD
TZOFFSETFROM:-0600
TZOFFSETTO:-0700
TZNAME:MST
DTSTART:20201101T080000
END:STANDARD
BEGIN:DAYLIGHT
TZOFFSETFROM:-0700
TZOFFSETTO:-0600
TZNAME:MDT
DTSTART:20210314T090000
END:DAYLIGHT
BEGIN:STANDARD
TZOFFSETFROM:-0600
TZOFFSETTO:-0700
TZNAME:MST
DTSTART:20211107T080000
END:STANDARD
BEGIN:DAYLIGHT
TZOFFSETFROM:-0700
TZOFFSETTO:-0600
TZNAME:MDT
DTSTART:20220313T090000
END:DAYLIGHT
BEGIN:STANDARD
TZOFFSETFROM:-0600
TZOFFSETTO:-0700
TZNAME:MST
DTSTART:20221106T080000
END:STANDARD
END:VTIMEZONE
BEGIN:VEVENT
DTSTART;TZID=America/Denver:20210912T170000
DTEND;TZID=America/Denver:20210912T193000
DTSTAMP:20260422T095846
CREATED:20190322T232947Z
LAST-MODIFIED:20210902T150920Z
UID:10000207-1631466000-1631475000@citystarbrewing.com
SUMMARY:Aric and Rick Sampson
DESCRIPTION:A mix of musical genres ranging from acoustic folk to classic rock\, originals and crowd pleasers.
URL:https://citystarbrewing.com/event/aric-and-rick-sampson/
LOCATION:CO
CATEGORIES:Events,Live Music
ATTACH;FMTTYPE=image/jpeg:https://citystarbrewing.com/wp-content/uploads/2019/03/rickaricsampson-1.jpg
END:VEVENT
BEGIN:VEVENT
DTSTART;TZID=America/Denver:20210912T170000
DTEND;TZID=America/Denver:20210912T200000
DTSTAMP:20260422T095846
CREATED:20190731T212720Z
LAST-MODIFIED:20191014T194901Z
UID:10000984-1631466000-1631476800@citystarbrewing.com
SUMMARY:Summit Tacos
DESCRIPTION:Summit Tacos proudly serves authentic Mexican food and they love to share our passion for our food and our culture. Visit at 237 Collyer Street in Longmont and select food truck pop-ups. \nhttps://eatsummittacos.com
URL:https://citystarbrewing.com/event/summit-tacos/2021-09-12/
LOCATION:321 Mountain Avenue\, Berthoud\, CO\, 80513\, United States
CATEGORIES:Events,Food Trucks
ATTACH;FMTTYPE=image/png:https://citystarbrewing.com/wp-content/uploads/2017/05/summittacos.png
END:VEVENT
BEGIN:VEVENT
DTSTART;TZID=America/Denver:20210913T170000
DTEND;TZID=America/Denver:20210913T200000
DTSTAMP:20260422T095846
CREATED:20190731T212720Z
LAST-MODIFIED:20191014T194901Z
UID:10000985-1631552400-1631563200@citystarbrewing.com
SUMMARY:Summit Tacos
DESCRIPTION:Summit Tacos proudly serves authentic Mexican food and they love to share our passion for our food and our culture. Visit at 237 Collyer Street in Longmont and select food truck pop-ups. \nhttps://eatsummittacos.com
URL:https://citystarbrewing.com/event/summit-tacos/2021-09-13/
LOCATION:321 Mountain Avenue\, Berthoud\, CO\, 80513\, United States
CATEGORIES:Events,Food Trucks
ATTACH;FMTTYPE=image/png:https://citystarbrewing.com/wp-content/uploads/2017/05/summittacos.png
END:VEVENT
BEGIN:VEVENT
DTSTART;TZID=America/Denver:20210914T170000
DTEND;TZID=America/Denver:20210914T200000
DTSTAMP:20260422T095846
CREATED:20190731T212720Z
LAST-MODIFIED:20191014T194901Z
UID:10000986-1631638800-1631649600@citystarbrewing.com
SUMMARY:Summit Tacos
DESCRIPTION:Summit Tacos proudly serves authentic Mexican food and they love to share our passion for our food and our culture. Visit at 237 Collyer Street in Longmont and select food truck pop-ups. \nhttps://eatsummittacos.com
URL:https://citystarbrewing.com/event/summit-tacos/2021-09-14/
LOCATION:321 Mountain Avenue\, Berthoud\, CO\, 80513\, United States
CATEGORIES:Events,Food Trucks
ATTACH;FMTTYPE=image/png:https://citystarbrewing.com/wp-content/uploads/2017/05/summittacos.png
END:VEVENT
BEGIN:VEVENT
DTSTART;TZID=America/Denver:20210915T170000
DTEND;TZID=America/Denver:20210915T200000
DTSTAMP:20260422T095846
CREATED:20190731T212720Z
LAST-MODIFIED:20191014T194901Z
UID:10000987-1631725200-1631736000@citystarbrewing.com
SUMMARY:Summit Tacos
DESCRIPTION:Summit Tacos proudly serves authentic Mexican food and they love to share our passion for our food and our culture. Visit at 237 Collyer Street in Longmont and select food truck pop-ups. \nhttps://eatsummittacos.com
URL:https://citystarbrewing.com/event/summit-tacos/2021-09-15/
LOCATION:321 Mountain Avenue\, Berthoud\, CO\, 80513\, United States
CATEGORIES:Events,Food Trucks
ATTACH;FMTTYPE=image/png:https://citystarbrewing.com/wp-content/uploads/2017/05/summittacos.png
END:VEVENT
BEGIN:VEVENT
DTSTART;TZID=America/Denver:20210916T170000
DTEND;TZID=America/Denver:20210916T200000
DTSTAMP:20260422T095846
CREATED:20190731T212720Z
LAST-MODIFIED:20191014T194901Z
UID:10000988-1631811600-1631822400@citystarbrewing.com
SUMMARY:Summit Tacos
DESCRIPTION:Summit Tacos proudly serves authentic Mexican food and they love to share our passion for our food and our culture. Visit at 237 Collyer Street in Longmont and select food truck pop-ups. \nhttps://eatsummittacos.com
URL:https://citystarbrewing.com/event/summit-tacos/2021-09-16/
LOCATION:321 Mountain Avenue\, Berthoud\, CO\, 80513\, United States
CATEGORIES:Events,Food Trucks
ATTACH;FMTTYPE=image/png:https://citystarbrewing.com/wp-content/uploads/2017/05/summittacos.png
END:VEVENT
BEGIN:VEVENT
DTSTART;TZID=America/Denver:20210917T170000
DTEND;TZID=America/Denver:20210917T200000
DTSTAMP:20260422T095846
CREATED:20190731T212720Z
LAST-MODIFIED:20191014T194901Z
UID:10000989-1631898000-1631908800@citystarbrewing.com
SUMMARY:Summit Tacos
DESCRIPTION:Summit Tacos proudly serves authentic Mexican food and they love to share our passion for our food and our culture. Visit at 237 Collyer Street in Longmont and select food truck pop-ups. \nhttps://eatsummittacos.com
URL:https://citystarbrewing.com/event/summit-tacos/2021-09-17/
LOCATION:321 Mountain Avenue\, Berthoud\, CO\, 80513\, United States
CATEGORIES:Events,Food Trucks
ATTACH;FMTTYPE=image/png:https://citystarbrewing.com/wp-content/uploads/2017/05/summittacos.png
END:VEVENT
BEGIN:VEVENT
DTSTART;TZID=America/Denver:20210918T140000
DTEND;TZID=America/Denver:20210918T180000
DTSTAMP:20260422T095846
CREATED:20210810T181911Z
LAST-MODIFIED:20210810T181911Z
UID:10001706-1631973600-1631988000@citystarbrewing.com
SUMMARY:Steamboat Springs OktoberWest
DESCRIPTION:Celebrating it’s 12th year\, OktoberWest is a celebration of craft beer in beautiful Steamboat Springs\, Colorado. \nTypically the event is hosted at the base of Steamboat Mountain\, but due to exciting construction taking place\, we’re moving just down the way to the Wildhorse Marketplace. \nWith an anticipated 30 brewers and between 1\,000-1\,500 beer enthusiasts in attendance\, this one-day afternoon event will include live music\, food\, and festivities. \nWe hope you can join us – and be sure to check out our lodging partners for awesome weekend deals! \nTickets: steamboatoktoberwest.com/tickets
URL:https://citystarbrewing.com/event/steamboat-springs-oktoberwest/
LOCATION:CO
CATEGORIES:Events,Taproom Events
ATTACH;FMTTYPE=image/png:https://citystarbrewing.com/wp-content/uploads/2021/08/Screen-Shot-2016-09-16-at-4.06.34-PM.png
END:VEVENT
BEGIN:VEVENT
DTSTART;TZID=America/Denver:20210918T170000
DTEND;TZID=America/Denver:20210918T200000
DTSTAMP:20260422T095846
CREATED:20190731T212720Z
LAST-MODIFIED:20191014T194901Z
UID:10000990-1631984400-1631995200@citystarbrewing.com
SUMMARY:Summit Tacos
DESCRIPTION:Summit Tacos proudly serves authentic Mexican food and they love to share our passion for our food and our culture. Visit at 237 Collyer Street in Longmont and select food truck pop-ups. \nhttps://eatsummittacos.com
URL:https://citystarbrewing.com/event/summit-tacos/2021-09-18/
LOCATION:321 Mountain Avenue\, Berthoud\, CO\, 80513\, United States
CATEGORIES:Events,Food Trucks
ATTACH;FMTTYPE=image/png:https://citystarbrewing.com/wp-content/uploads/2017/05/summittacos.png
END:VEVENT
END:VCALENDAR