BEGIN:VCALENDAR
VERSION:2.0
PRODID:-//City Star Brewing - ECPv6.15.20//NONSGML v1.0//EN
CALSCALE:GREGORIAN
METHOD:PUBLISH
X-ORIGINAL-URL:https://citystarbrewing.com
X-WR-CALDESC:Events for City Star Brewing
REFRESH-INTERVAL;VALUE=DURATION:PT1H
X-Robots-Tag:noindex
X-PUBLISHED-TTL:PT1H
BEGIN:VTIMEZONE
TZID:America/Denver
BEGIN:DAYLIGHT
TZOFFSETFROM:-0700
TZOFFSETTO:-0600
TZNAME:MDT
DTSTART:20200308T090000
END:DAYLIGHT
BEGIN:STANDARD
TZOFFSETFROM:-0600
TZOFFSETTO:-0700
TZNAME:MST
DTSTART:20201101T080000
END:STANDARD
BEGIN:DAYLIGHT
TZOFFSETFROM:-0700
TZOFFSETTO:-0600
TZNAME:MDT
DTSTART:20210314T090000
END:DAYLIGHT
BEGIN:STANDARD
TZOFFSETFROM:-0600
TZOFFSETTO:-0700
TZNAME:MST
DTSTART:20211107T080000
END:STANDARD
BEGIN:DAYLIGHT
TZOFFSETFROM:-0700
TZOFFSETTO:-0600
TZNAME:MDT
DTSTART:20220313T090000
END:DAYLIGHT
BEGIN:STANDARD
TZOFFSETFROM:-0600
TZOFFSETTO:-0700
TZNAME:MST
DTSTART:20221106T080000
END:STANDARD
END:VTIMEZONE
BEGIN:VEVENT
DTSTART;TZID=America/Denver:20210808T170000
DTEND;TZID=America/Denver:20210808T200000
DTSTAMP:20260422T101422
CREATED:20190731T212720Z
LAST-MODIFIED:20191014T194901Z
UID:10000949-1628442000-1628452800@citystarbrewing.com
SUMMARY:Summit Tacos
DESCRIPTION:Summit Tacos proudly serves authentic Mexican food and they love to share our passion for our food and our culture. Visit at 237 Collyer Street in Longmont and select food truck pop-ups. \nhttps://eatsummittacos.com
URL:https://citystarbrewing.com/event/summit-tacos/2021-08-08/
LOCATION:321 Mountain Avenue\, Berthoud\, CO\, 80513\, United States
CATEGORIES:Events,Food Trucks
ATTACH;FMTTYPE=image/png:https://citystarbrewing.com/wp-content/uploads/2017/05/summittacos.png
END:VEVENT
BEGIN:VEVENT
DTSTART;TZID=America/Denver:20210809T170000
DTEND;TZID=America/Denver:20210809T200000
DTSTAMP:20260422T101422
CREATED:20190731T212720Z
LAST-MODIFIED:20191014T194901Z
UID:10000950-1628528400-1628539200@citystarbrewing.com
SUMMARY:Summit Tacos
DESCRIPTION:Summit Tacos proudly serves authentic Mexican food and they love to share our passion for our food and our culture. Visit at 237 Collyer Street in Longmont and select food truck pop-ups. \nhttps://eatsummittacos.com
URL:https://citystarbrewing.com/event/summit-tacos/2021-08-09/
LOCATION:321 Mountain Avenue\, Berthoud\, CO\, 80513\, United States
CATEGORIES:Events,Food Trucks
ATTACH;FMTTYPE=image/png:https://citystarbrewing.com/wp-content/uploads/2017/05/summittacos.png
END:VEVENT
BEGIN:VEVENT
DTSTART;TZID=America/Denver:20210810T170000
DTEND;TZID=America/Denver:20210810T200000
DTSTAMP:20260422T101422
CREATED:20190731T212720Z
LAST-MODIFIED:20191014T194901Z
UID:10000951-1628614800-1628625600@citystarbrewing.com
SUMMARY:Summit Tacos
DESCRIPTION:Summit Tacos proudly serves authentic Mexican food and they love to share our passion for our food and our culture. Visit at 237 Collyer Street in Longmont and select food truck pop-ups. \nhttps://eatsummittacos.com
URL:https://citystarbrewing.com/event/summit-tacos/2021-08-10/
LOCATION:321 Mountain Avenue\, Berthoud\, CO\, 80513\, United States
CATEGORIES:Events,Food Trucks
ATTACH;FMTTYPE=image/png:https://citystarbrewing.com/wp-content/uploads/2017/05/summittacos.png
END:VEVENT
BEGIN:VEVENT
DTSTART;TZID=America/Denver:20210811T170000
DTEND;TZID=America/Denver:20210811T200000
DTSTAMP:20260422T101422
CREATED:20190731T212720Z
LAST-MODIFIED:20191014T194901Z
UID:10000952-1628701200-1628712000@citystarbrewing.com
SUMMARY:Summit Tacos
DESCRIPTION:Summit Tacos proudly serves authentic Mexican food and they love to share our passion for our food and our culture. Visit at 237 Collyer Street in Longmont and select food truck pop-ups. \nhttps://eatsummittacos.com
URL:https://citystarbrewing.com/event/summit-tacos/2021-08-11/
LOCATION:321 Mountain Avenue\, Berthoud\, CO\, 80513\, United States
CATEGORIES:Events,Food Trucks
ATTACH;FMTTYPE=image/png:https://citystarbrewing.com/wp-content/uploads/2017/05/summittacos.png
END:VEVENT
BEGIN:VEVENT
DTSTART;TZID=America/Denver:20210812T170000
DTEND;TZID=America/Denver:20210812T200000
DTSTAMP:20260422T101422
CREATED:20190731T212720Z
LAST-MODIFIED:20191014T194901Z
UID:10000953-1628787600-1628798400@citystarbrewing.com
SUMMARY:Summit Tacos
DESCRIPTION:Summit Tacos proudly serves authentic Mexican food and they love to share our passion for our food and our culture. Visit at 237 Collyer Street in Longmont and select food truck pop-ups. \nhttps://eatsummittacos.com
URL:https://citystarbrewing.com/event/summit-tacos/2021-08-12/
LOCATION:321 Mountain Avenue\, Berthoud\, CO\, 80513\, United States
CATEGORIES:Events,Food Trucks
ATTACH;FMTTYPE=image/png:https://citystarbrewing.com/wp-content/uploads/2017/05/summittacos.png
END:VEVENT
BEGIN:VEVENT
DTSTART;TZID=America/Denver:20210813T170000
DTEND;TZID=America/Denver:20210813T200000
DTSTAMP:20260422T101422
CREATED:20190731T212720Z
LAST-MODIFIED:20191014T194901Z
UID:10000954-1628874000-1628884800@citystarbrewing.com
SUMMARY:Summit Tacos
DESCRIPTION:Summit Tacos proudly serves authentic Mexican food and they love to share our passion for our food and our culture. Visit at 237 Collyer Street in Longmont and select food truck pop-ups. \nhttps://eatsummittacos.com
URL:https://citystarbrewing.com/event/summit-tacos/2021-08-13/
LOCATION:321 Mountain Avenue\, Berthoud\, CO\, 80513\, United States
CATEGORIES:Events,Food Trucks
ATTACH;FMTTYPE=image/png:https://citystarbrewing.com/wp-content/uploads/2017/05/summittacos.png
END:VEVENT
BEGIN:VEVENT
DTSTART;VALUE=DATE:20210814
DTEND;VALUE=DATE:20210815
DTSTAMP:20260422T101422
CREATED:20210421T232241Z
LAST-MODIFIED:20221024T164245Z
UID:10001576-1628899200-1628985599@citystarbrewing.com
SUMMARY:Poppin' Bottles
DESCRIPTION:Saturdays we are poppin’ bottles of our barrel aged beers. Enjoy tasters and full pours!
URL:https://citystarbrewing.com/event/poppin-bottles/
LOCATION:CO
CATEGORIES:Events,Taproom Events
ATTACH;FMTTYPE=image/jpeg:https://citystarbrewing.com/wp-content/uploads/2020/06/barrelbottles2-e1598985724384.jpg
END:VEVENT
BEGIN:VEVENT
DTSTART;TZID=America/Denver:20210814T150000
DTEND;TZID=America/Denver:20210814T200000
DTSTAMP:20260422T101422
CREATED:20200825T220521Z
LAST-MODIFIED:20210814T193417Z
UID:10001508-1628953200-1628971200@citystarbrewing.com
SUMMARY:El Chuletazo Grill
DESCRIPTION:“Our concept was created by a couple of foodies who simply wanted to show “The Mile High City” of Denver how great is the Colombian Food\, but also expand their love for the kitchen and the idea of bringing different\, tasty and authentic dishes from Colombia to Colorado. As we have always said: “Colombians not only eat arepas and empanadas” because Colombia has several other yummy dishes that you would love to try. That’s why\, the team from “El Chuletazo Grill” is bringing mouth-watering food that will make you feel like if you were in Colombia!!” \nMENU: elchuletazogrill.com/menu/
URL:https://citystarbrewing.com/event/el-chuletazo-grill/
LOCATION:CO
CATEGORIES:Events,Food Trucks
ATTACH;FMTTYPE=image/jpeg:https://citystarbrewing.com/wp-content/uploads/2020/08/chuletazo-e1598393198242.jpg
END:VEVENT
BEGIN:VEVENT
DTSTART;TZID=America/Denver:20210814T170000
DTEND;TZID=America/Denver:20210814T200000
DTSTAMP:20260422T101422
CREATED:20190731T212720Z
LAST-MODIFIED:20191014T194901Z
UID:10000955-1628960400-1628971200@citystarbrewing.com
SUMMARY:Summit Tacos
DESCRIPTION:Summit Tacos proudly serves authentic Mexican food and they love to share our passion for our food and our culture. Visit at 237 Collyer Street in Longmont and select food truck pop-ups. \nhttps://eatsummittacos.com
URL:https://citystarbrewing.com/event/summit-tacos/2021-08-14/
LOCATION:321 Mountain Avenue\, Berthoud\, CO\, 80513\, United States
CATEGORIES:Events,Food Trucks
ATTACH;FMTTYPE=image/png:https://citystarbrewing.com/wp-content/uploads/2017/05/summittacos.png
END:VEVENT
BEGIN:VEVENT
DTSTART;TZID=America/Denver:20210814T180000
DTEND;TZID=America/Denver:20210814T203000
DTSTAMP:20260422T101422
CREATED:20190313T221843Z
LAST-MODIFIED:20210729T165625Z
UID:10000203-1628964000-1628973000@citystarbrewing.com
SUMMARY:Sean Flynn
DESCRIPTION:Acoustic folk rooted in soul.
URL:https://citystarbrewing.com/event/sean-flynn/
LOCATION:CO
CATEGORIES:Events,Live Music
ATTACH;FMTTYPE=image/png:https://citystarbrewing.com/wp-content/uploads/2015/05/flynnandco.png
END:VEVENT
END:VCALENDAR