BEGIN:VCALENDAR
VERSION:2.0
PRODID:-//City Star Brewing - ECPv6.15.20//NONSGML v1.0//EN
CALSCALE:GREGORIAN
METHOD:PUBLISH
X-WR-CALNAME:City Star Brewing
X-ORIGINAL-URL:https://citystarbrewing.com
X-WR-CALDESC:Events for City Star Brewing
REFRESH-INTERVAL;VALUE=DURATION:PT1H
X-Robots-Tag:noindex
X-PUBLISHED-TTL:PT1H
BEGIN:VTIMEZONE
TZID:America/Denver
BEGIN:DAYLIGHT
TZOFFSETFROM:-0700
TZOFFSETTO:-0600
TZNAME:MDT
DTSTART:20200308T090000
END:DAYLIGHT
BEGIN:STANDARD
TZOFFSETFROM:-0600
TZOFFSETTO:-0700
TZNAME:MST
DTSTART:20201101T080000
END:STANDARD
BEGIN:DAYLIGHT
TZOFFSETFROM:-0700
TZOFFSETTO:-0600
TZNAME:MDT
DTSTART:20210314T090000
END:DAYLIGHT
BEGIN:STANDARD
TZOFFSETFROM:-0600
TZOFFSETTO:-0700
TZNAME:MST
DTSTART:20211107T080000
END:STANDARD
BEGIN:DAYLIGHT
TZOFFSETFROM:-0700
TZOFFSETTO:-0600
TZNAME:MDT
DTSTART:20220313T090000
END:DAYLIGHT
BEGIN:STANDARD
TZOFFSETFROM:-0600
TZOFFSETTO:-0700
TZNAME:MST
DTSTART:20221106T080000
END:STANDARD
END:VTIMEZONE
BEGIN:VEVENT
DTSTART;TZID=America/Denver:20210725T170000
DTEND;TZID=America/Denver:20210725T193000
DTSTAMP:20260422T101422
CREATED:20210617T013949Z
LAST-MODIFIED:20210617T013949Z
UID:10001691-1627232400-1627241400@citystarbrewing.com
SUMMARY:Shelby Taylor
DESCRIPTION:comedian • songwriter • ravioli enthusiast \nhttps://beacons.ai/shelbytaylorexists
URL:https://citystarbrewing.com/event/shelby-taylor/
LOCATION:CO
CATEGORIES:Events,Live Music
ATTACH;FMTTYPE=image/jpeg:https://citystarbrewing.com/wp-content/uploads/2021/06/image_6487327-e1623893774837.jpg
END:VEVENT
BEGIN:VEVENT
DTSTART;TZID=America/Denver:20210725T170000
DTEND;TZID=America/Denver:20210725T200000
DTSTAMP:20260422T101422
CREATED:20190731T212720Z
LAST-MODIFIED:20191014T194901Z
UID:10000935-1627232400-1627243200@citystarbrewing.com
SUMMARY:Summit Tacos
DESCRIPTION:Summit Tacos proudly serves authentic Mexican food and they love to share our passion for our food and our culture. Visit at 237 Collyer Street in Longmont and select food truck pop-ups. \nhttps://eatsummittacos.com
URL:https://citystarbrewing.com/event/summit-tacos/2021-07-25/
LOCATION:321 Mountain Avenue\, Berthoud\, CO\, 80513\, United States
CATEGORIES:Events,Food Trucks
ATTACH;FMTTYPE=image/png:https://citystarbrewing.com/wp-content/uploads/2017/05/summittacos.png
END:VEVENT
BEGIN:VEVENT
DTSTART;TZID=America/Denver:20210726T170000
DTEND;TZID=America/Denver:20210726T200000
DTSTAMP:20260422T101422
CREATED:20190731T212720Z
LAST-MODIFIED:20191014T194901Z
UID:10000936-1627318800-1627329600@citystarbrewing.com
SUMMARY:Summit Tacos
DESCRIPTION:Summit Tacos proudly serves authentic Mexican food and they love to share our passion for our food and our culture. Visit at 237 Collyer Street in Longmont and select food truck pop-ups. \nhttps://eatsummittacos.com
URL:https://citystarbrewing.com/event/summit-tacos/2021-07-26/
LOCATION:321 Mountain Avenue\, Berthoud\, CO\, 80513\, United States
CATEGORIES:Events,Food Trucks
ATTACH;FMTTYPE=image/png:https://citystarbrewing.com/wp-content/uploads/2017/05/summittacos.png
END:VEVENT
BEGIN:VEVENT
DTSTART;TZID=America/Denver:20210727T170000
DTEND;TZID=America/Denver:20210727T200000
DTSTAMP:20260422T101422
CREATED:20190731T212720Z
LAST-MODIFIED:20191014T194901Z
UID:10000937-1627405200-1627416000@citystarbrewing.com
SUMMARY:Summit Tacos
DESCRIPTION:Summit Tacos proudly serves authentic Mexican food and they love to share our passion for our food and our culture. Visit at 237 Collyer Street in Longmont and select food truck pop-ups. \nhttps://eatsummittacos.com
URL:https://citystarbrewing.com/event/summit-tacos/2021-07-27/
LOCATION:321 Mountain Avenue\, Berthoud\, CO\, 80513\, United States
CATEGORIES:Events,Food Trucks
ATTACH;FMTTYPE=image/png:https://citystarbrewing.com/wp-content/uploads/2017/05/summittacos.png
END:VEVENT
BEGIN:VEVENT
DTSTART;TZID=America/Denver:20210728T170000
DTEND;TZID=America/Denver:20210728T200000
DTSTAMP:20260422T101422
CREATED:20190731T212720Z
LAST-MODIFIED:20191014T194901Z
UID:10000938-1627491600-1627502400@citystarbrewing.com
SUMMARY:Summit Tacos
DESCRIPTION:Summit Tacos proudly serves authentic Mexican food and they love to share our passion for our food and our culture. Visit at 237 Collyer Street in Longmont and select food truck pop-ups. \nhttps://eatsummittacos.com
URL:https://citystarbrewing.com/event/summit-tacos/2021-07-28/
LOCATION:321 Mountain Avenue\, Berthoud\, CO\, 80513\, United States
CATEGORIES:Events,Food Trucks
ATTACH;FMTTYPE=image/png:https://citystarbrewing.com/wp-content/uploads/2017/05/summittacos.png
END:VEVENT
BEGIN:VEVENT
DTSTART;TZID=America/Denver:20210729T170000
DTEND;TZID=America/Denver:20210729T200000
DTSTAMP:20260422T101422
CREATED:20190731T212720Z
LAST-MODIFIED:20191014T194901Z
UID:10000939-1627578000-1627588800@citystarbrewing.com
SUMMARY:Summit Tacos
DESCRIPTION:Summit Tacos proudly serves authentic Mexican food and they love to share our passion for our food and our culture. Visit at 237 Collyer Street in Longmont and select food truck pop-ups. \nhttps://eatsummittacos.com
URL:https://citystarbrewing.com/event/summit-tacos/2021-07-29/
LOCATION:321 Mountain Avenue\, Berthoud\, CO\, 80513\, United States
CATEGORIES:Events,Food Trucks
ATTACH;FMTTYPE=image/png:https://citystarbrewing.com/wp-content/uploads/2017/05/summittacos.png
END:VEVENT
BEGIN:VEVENT
DTSTART;TZID=America/Denver:20210730T170000
DTEND;TZID=America/Denver:20210730T200000
DTSTAMP:20260422T101422
CREATED:20190731T212720Z
LAST-MODIFIED:20191014T194901Z
UID:10000940-1627664400-1627675200@citystarbrewing.com
SUMMARY:Summit Tacos
DESCRIPTION:Summit Tacos proudly serves authentic Mexican food and they love to share our passion for our food and our culture. Visit at 237 Collyer Street in Longmont and select food truck pop-ups. \nhttps://eatsummittacos.com
URL:https://citystarbrewing.com/event/summit-tacos/2021-07-30/
LOCATION:321 Mountain Avenue\, Berthoud\, CO\, 80513\, United States
CATEGORIES:Events,Food Trucks
ATTACH;FMTTYPE=image/png:https://citystarbrewing.com/wp-content/uploads/2017/05/summittacos.png
END:VEVENT
BEGIN:VEVENT
DTSTART;TZID=America/Denver:20210730T180000
DTEND;TZID=America/Denver:20210730T203000
DTSTAMP:20260422T101422
CREATED:20210617T021036Z
LAST-MODIFIED:20210619T132806Z
UID:10001692-1627668000-1627677000@citystarbrewing.com
SUMMARY:Space Monkey Duo
DESCRIPTION:Space Monkey Duo with special guest Kacie Waters. \nA little country\, gospel\, and rock and roll; Oklahoma poet in Colorado. \n\n\n\n\nMichael Capshaw was born in southern Oklahoma and was raised on southern and classic rock with just a little bit of country. This is evident in his music. He has been song writing for 10 years and has over 80 original tunes. With his band the Space Monkeys From the Future out of Loveland\, Colorado\, he does many original songs as well as great classic covers by the likes of Bob Dylan\, Johnny Cash\, and Elvis. Whether playing with the full band\, a duo\, or solo\, Capshaw ignites the crowd and has everyone ready to dance. \nhttps://www.facebook.com/michaelcapshawmusic/
URL:https://citystarbrewing.com/event/space-monkey-duo/
LOCATION:CO
CATEGORIES:Events,Live Music
ATTACH;FMTTYPE=image/jpeg:https://citystarbrewing.com/wp-content/uploads/2021/06/michaelcapshaw-e1623895968387.jpg
END:VEVENT
BEGIN:VEVENT
DTSTART;TZID=America/Denver:20210731T170000
DTEND;TZID=America/Denver:20210731T200000
DTSTAMP:20260422T101422
CREATED:20190731T212720Z
LAST-MODIFIED:20191014T194901Z
UID:10000941-1627750800-1627761600@citystarbrewing.com
SUMMARY:Summit Tacos
DESCRIPTION:Summit Tacos proudly serves authentic Mexican food and they love to share our passion for our food and our culture. Visit at 237 Collyer Street in Longmont and select food truck pop-ups. \nhttps://eatsummittacos.com
URL:https://citystarbrewing.com/event/summit-tacos/2021-07-31/
LOCATION:321 Mountain Avenue\, Berthoud\, CO\, 80513\, United States
CATEGORIES:Events,Food Trucks
ATTACH;FMTTYPE=image/png:https://citystarbrewing.com/wp-content/uploads/2017/05/summittacos.png
END:VEVENT
BEGIN:VEVENT
DTSTART;TZID=America/Denver:20210731T180000
DTEND;TZID=America/Denver:20210731T203000
DTSTAMP:20260422T101422
CREATED:20210506T182818Z
LAST-MODIFIED:20210506T182818Z
UID:10001660-1627754400-1627763400@citystarbrewing.com
SUMMARY:Cat Jerky
DESCRIPTION:Cat Jerky plays an eclectic mix of music ranging from Johnny Cash to Black Sabbath. We’re a rock/funk/country/ska/disco/reggae/soul band based out of Longmont\, Colorado.
URL:https://citystarbrewing.com/event/cat-jerky/
LOCATION:CO
CATEGORIES:Events,Live Music
ATTACH;FMTTYPE=image/jpeg:https://citystarbrewing.com/wp-content/uploads/2021/05/catjerky.jpg
END:VEVENT
END:VCALENDAR