BEGIN:VCALENDAR
VERSION:2.0
PRODID:-//City Star Brewing - ECPv6.15.20//NONSGML v1.0//EN
CALSCALE:GREGORIAN
METHOD:PUBLISH
X-ORIGINAL-URL:https://citystarbrewing.com
X-WR-CALDESC:Events for City Star Brewing
REFRESH-INTERVAL;VALUE=DURATION:PT1H
X-Robots-Tag:noindex
X-PUBLISHED-TTL:PT1H
BEGIN:VTIMEZONE
TZID:America/Denver
BEGIN:DAYLIGHT
TZOFFSETFROM:-0700
TZOFFSETTO:-0600
TZNAME:MDT
DTSTART:20200308T090000
END:DAYLIGHT
BEGIN:STANDARD
TZOFFSETFROM:-0600
TZOFFSETTO:-0700
TZNAME:MST
DTSTART:20201101T080000
END:STANDARD
BEGIN:DAYLIGHT
TZOFFSETFROM:-0700
TZOFFSETTO:-0600
TZNAME:MDT
DTSTART:20210314T090000
END:DAYLIGHT
BEGIN:STANDARD
TZOFFSETFROM:-0600
TZOFFSETTO:-0700
TZNAME:MST
DTSTART:20211107T080000
END:STANDARD
BEGIN:DAYLIGHT
TZOFFSETFROM:-0700
TZOFFSETTO:-0600
TZNAME:MDT
DTSTART:20220313T090000
END:DAYLIGHT
BEGIN:STANDARD
TZOFFSETFROM:-0600
TZOFFSETTO:-0700
TZNAME:MST
DTSTART:20221106T080000
END:STANDARD
END:VTIMEZONE
BEGIN:VEVENT
DTSTART;TZID=America/Denver:20210704T170000
DTEND;TZID=America/Denver:20210704T200000
DTSTAMP:20260422T120829
CREATED:20190731T212720Z
LAST-MODIFIED:20191014T194901Z
UID:10000914-1625418000-1625428800@citystarbrewing.com
SUMMARY:Summit Tacos
DESCRIPTION:Summit Tacos proudly serves authentic Mexican food and they love to share our passion for our food and our culture. Visit at 237 Collyer Street in Longmont and select food truck pop-ups. \nhttps://eatsummittacos.com
URL:https://citystarbrewing.com/event/summit-tacos/2021-07-04/
LOCATION:321 Mountain Avenue\, Berthoud\, CO\, 80513\, United States
CATEGORIES:Events,Food Trucks
ATTACH;FMTTYPE=image/png:https://citystarbrewing.com/wp-content/uploads/2017/05/summittacos.png
END:VEVENT
BEGIN:VEVENT
DTSTART;TZID=America/Denver:20210705T170000
DTEND;TZID=America/Denver:20210705T200000
DTSTAMP:20260422T120829
CREATED:20190731T212720Z
LAST-MODIFIED:20191014T194901Z
UID:10000915-1625504400-1625515200@citystarbrewing.com
SUMMARY:Summit Tacos
DESCRIPTION:Summit Tacos proudly serves authentic Mexican food and they love to share our passion for our food and our culture. Visit at 237 Collyer Street in Longmont and select food truck pop-ups. \nhttps://eatsummittacos.com
URL:https://citystarbrewing.com/event/summit-tacos/2021-07-05/
LOCATION:321 Mountain Avenue\, Berthoud\, CO\, 80513\, United States
CATEGORIES:Events,Food Trucks
ATTACH;FMTTYPE=image/png:https://citystarbrewing.com/wp-content/uploads/2017/05/summittacos.png
END:VEVENT
BEGIN:VEVENT
DTSTART;TZID=America/Denver:20210706T170000
DTEND;TZID=America/Denver:20210706T200000
DTSTAMP:20260422T120829
CREATED:20190731T212720Z
LAST-MODIFIED:20191014T194901Z
UID:10000916-1625590800-1625601600@citystarbrewing.com
SUMMARY:Summit Tacos
DESCRIPTION:Summit Tacos proudly serves authentic Mexican food and they love to share our passion for our food and our culture. Visit at 237 Collyer Street in Longmont and select food truck pop-ups. \nhttps://eatsummittacos.com
URL:https://citystarbrewing.com/event/summit-tacos/2021-07-06/
LOCATION:321 Mountain Avenue\, Berthoud\, CO\, 80513\, United States
CATEGORIES:Events,Food Trucks
ATTACH;FMTTYPE=image/png:https://citystarbrewing.com/wp-content/uploads/2017/05/summittacos.png
END:VEVENT
BEGIN:VEVENT
DTSTART;TZID=America/Denver:20210707T170000
DTEND;TZID=America/Denver:20210707T200000
DTSTAMP:20260422T120829
CREATED:20190731T212720Z
LAST-MODIFIED:20191014T194901Z
UID:10000917-1625677200-1625688000@citystarbrewing.com
SUMMARY:Summit Tacos
DESCRIPTION:Summit Tacos proudly serves authentic Mexican food and they love to share our passion for our food and our culture. Visit at 237 Collyer Street in Longmont and select food truck pop-ups. \nhttps://eatsummittacos.com
URL:https://citystarbrewing.com/event/summit-tacos/2021-07-07/
LOCATION:321 Mountain Avenue\, Berthoud\, CO\, 80513\, United States
CATEGORIES:Events,Food Trucks
ATTACH;FMTTYPE=image/png:https://citystarbrewing.com/wp-content/uploads/2017/05/summittacos.png
END:VEVENT
BEGIN:VEVENT
DTSTART;TZID=America/Denver:20210708T170000
DTEND;TZID=America/Denver:20210708T200000
DTSTAMP:20260422T120829
CREATED:20190731T212720Z
LAST-MODIFIED:20191014T194901Z
UID:10000918-1625763600-1625774400@citystarbrewing.com
SUMMARY:Summit Tacos
DESCRIPTION:Summit Tacos proudly serves authentic Mexican food and they love to share our passion for our food and our culture. Visit at 237 Collyer Street in Longmont and select food truck pop-ups. \nhttps://eatsummittacos.com
URL:https://citystarbrewing.com/event/summit-tacos/2021-07-08/
LOCATION:321 Mountain Avenue\, Berthoud\, CO\, 80513\, United States
CATEGORIES:Events,Food Trucks
ATTACH;FMTTYPE=image/png:https://citystarbrewing.com/wp-content/uploads/2017/05/summittacos.png
END:VEVENT
BEGIN:VEVENT
DTSTART;TZID=America/Denver:20210709T170000
DTEND;TZID=America/Denver:20210709T200000
DTSTAMP:20260422T120829
CREATED:20190731T212720Z
LAST-MODIFIED:20191014T194901Z
UID:10000919-1625850000-1625860800@citystarbrewing.com
SUMMARY:Summit Tacos
DESCRIPTION:Summit Tacos proudly serves authentic Mexican food and they love to share our passion for our food and our culture. Visit at 237 Collyer Street in Longmont and select food truck pop-ups. \nhttps://eatsummittacos.com
URL:https://citystarbrewing.com/event/summit-tacos/2021-07-09/
LOCATION:321 Mountain Avenue\, Berthoud\, CO\, 80513\, United States
CATEGORIES:Events,Food Trucks
ATTACH;FMTTYPE=image/png:https://citystarbrewing.com/wp-content/uploads/2017/05/summittacos.png
END:VEVENT
BEGIN:VEVENT
DTSTART;TZID=America/Denver:20210709T180000
DTEND;TZID=America/Denver:20210709T203000
DTSTAMP:20260422T120829
CREATED:20200129T214148Z
LAST-MODIFIED:20210709T162032Z
UID:10001388-1625853600-1625862600@citystarbrewing.com
SUMMARY:Riley Ann & Dave Jensen
DESCRIPTION:Dave Jensen & Riley Ann make a dynamic team crossing bluegrass with old time and recalling the traditions of blues and R&B in a way that all generations can appreciate. Armed with tenor sax\, blues fiddle\, banjo\, and guitars\, their arrangements fill the room with an unbridled energy and soulful singing that is sure to get your heart pumping and your feet dancing.
URL:https://citystarbrewing.com/event/riley-ann-dave-jensen/
LOCATION:CO
CATEGORIES:Events,Live Music
ATTACH;FMTTYPE=image/jpeg:https://citystarbrewing.com/wp-content/uploads/2019/03/rileyann-e1551462035674.jpg
END:VEVENT
BEGIN:VEVENT
DTSTART;VALUE=DATE:20210710
DTEND;VALUE=DATE:20210711
DTSTAMP:20260422T120829
CREATED:20210630T185222Z
LAST-MODIFIED:20210708T161110Z
UID:10001699-1625875200-1625961599@citystarbrewing.com
SUMMARY:West Coast Peach IPA Release
DESCRIPTION:West-Coast American style IPA dry hopped with Mosaic and Galaxy hops\, fermented with yellow peach puree\, 7% ABV
URL:https://citystarbrewing.com/event/west-coast-peach/
LOCATION:CO
CATEGORIES:Beer Releases,Events
ATTACH;FMTTYPE=image/png:https://citystarbrewing.com/wp-content/uploads/2021/06/Screen-Shot-2021-06-30-at-12.46.55-PM.png
END:VEVENT
BEGIN:VEVENT
DTSTART;TZID=America/Denver:20210710T170000
DTEND;TZID=America/Denver:20210710T200000
DTSTAMP:20260422T120829
CREATED:20190731T212720Z
LAST-MODIFIED:20191014T194901Z
UID:10000920-1625936400-1625947200@citystarbrewing.com
SUMMARY:Summit Tacos
DESCRIPTION:Summit Tacos proudly serves authentic Mexican food and they love to share our passion for our food and our culture. Visit at 237 Collyer Street in Longmont and select food truck pop-ups. \nhttps://eatsummittacos.com
URL:https://citystarbrewing.com/event/summit-tacos/2021-07-10/
LOCATION:321 Mountain Avenue\, Berthoud\, CO\, 80513\, United States
CATEGORIES:Events,Food Trucks
ATTACH;FMTTYPE=image/png:https://citystarbrewing.com/wp-content/uploads/2017/05/summittacos.png
END:VEVENT
END:VCALENDAR