BEGIN:VCALENDAR
VERSION:2.0
PRODID:-//City Star Brewing - ECPv6.15.20//NONSGML v1.0//EN
CALSCALE:GREGORIAN
METHOD:PUBLISH
X-ORIGINAL-URL:https://citystarbrewing.com
X-WR-CALDESC:Events for City Star Brewing
REFRESH-INTERVAL;VALUE=DURATION:PT1H
X-Robots-Tag:noindex
X-PUBLISHED-TTL:PT1H
BEGIN:VTIMEZONE
TZID:America/Denver
BEGIN:DAYLIGHT
TZOFFSETFROM:-0700
TZOFFSETTO:-0600
TZNAME:MDT
DTSTART:20200308T090000
END:DAYLIGHT
BEGIN:STANDARD
TZOFFSETFROM:-0600
TZOFFSETTO:-0700
TZNAME:MST
DTSTART:20201101T080000
END:STANDARD
BEGIN:DAYLIGHT
TZOFFSETFROM:-0700
TZOFFSETTO:-0600
TZNAME:MDT
DTSTART:20210314T090000
END:DAYLIGHT
BEGIN:STANDARD
TZOFFSETFROM:-0600
TZOFFSETTO:-0700
TZNAME:MST
DTSTART:20211107T080000
END:STANDARD
BEGIN:DAYLIGHT
TZOFFSETFROM:-0700
TZOFFSETTO:-0600
TZNAME:MDT
DTSTART:20220313T090000
END:DAYLIGHT
BEGIN:STANDARD
TZOFFSETFROM:-0600
TZOFFSETTO:-0700
TZNAME:MST
DTSTART:20221106T080000
END:STANDARD
END:VTIMEZONE
BEGIN:VEVENT
DTSTART;TZID=America/Denver:20210627T170000
DTEND;TZID=America/Denver:20210627T200000
DTSTAMP:20260422T101422
CREATED:20190731T212720Z
LAST-MODIFIED:20191014T194901Z
UID:10000907-1624813200-1624824000@citystarbrewing.com
SUMMARY:Summit Tacos
DESCRIPTION:Summit Tacos proudly serves authentic Mexican food and they love to share our passion for our food and our culture. Visit at 237 Collyer Street in Longmont and select food truck pop-ups. \nhttps://eatsummittacos.com
URL:https://citystarbrewing.com/event/summit-tacos/2021-06-27/
LOCATION:321 Mountain Avenue\, Berthoud\, CO\, 80513\, United States
CATEGORIES:Events,Food Trucks
ATTACH;FMTTYPE=image/png:https://citystarbrewing.com/wp-content/uploads/2017/05/summittacos.png
END:VEVENT
BEGIN:VEVENT
DTSTART;TZID=America/Denver:20210628T150000
DTEND;TZID=America/Denver:20210628T200000
DTSTAMP:20260422T101422
CREATED:20210123T002007Z
LAST-MODIFIED:20210429T173123Z
UID:10001568-1624892400-1624910400@citystarbrewing.com
SUMMARY:The Red Checkered Tablecloth
DESCRIPTION:The Red Checkered Tablecloth is fresh Italian comfort food on wheels. \nWe hope you’re hungry\, and ready to eat some New Jersey style Italian comfort food! The aroma of roasted garlic infused olive oil\, simmering tomato gravy\, fresh baked rosemary focaccia\, and steaming authentic meatballs with a little Parmigiano Reggiano is what every street corner smells like when The Red Checkered Tablecloth is parked nearby. It is a privilege to be serving our community quality\, fresh Italian goodness. The kind of food that chef-proprietor\, Ian Taylor grew up having all around him on every block. \nMENU: https://www.theredcheckeredtablecloth.com/menu
URL:https://citystarbrewing.com/event/the-red-checkered-tablecloth/
LOCATION:CO
CATEGORIES:Events,Food Trucks
ATTACH;FMTTYPE=image/jpeg:https://citystarbrewing.com/wp-content/uploads/2021/01/redcheckered.jpg
END:VEVENT
BEGIN:VEVENT
DTSTART;TZID=America/Denver:20210628T170000
DTEND;TZID=America/Denver:20210628T200000
DTSTAMP:20260422T101422
CREATED:20190731T212720Z
LAST-MODIFIED:20191014T194901Z
UID:10000908-1624899600-1624910400@citystarbrewing.com
SUMMARY:Summit Tacos
DESCRIPTION:Summit Tacos proudly serves authentic Mexican food and they love to share our passion for our food and our culture. Visit at 237 Collyer Street in Longmont and select food truck pop-ups. \nhttps://eatsummittacos.com
URL:https://citystarbrewing.com/event/summit-tacos/2021-06-28/
LOCATION:321 Mountain Avenue\, Berthoud\, CO\, 80513\, United States
CATEGORIES:Events,Food Trucks
ATTACH;FMTTYPE=image/png:https://citystarbrewing.com/wp-content/uploads/2017/05/summittacos.png
END:VEVENT
BEGIN:VEVENT
DTSTART;TZID=America/Denver:20210629T170000
DTEND;TZID=America/Denver:20210629T200000
DTSTAMP:20260422T101422
CREATED:20190731T212720Z
LAST-MODIFIED:20191014T194901Z
UID:10000909-1624986000-1624996800@citystarbrewing.com
SUMMARY:Summit Tacos
DESCRIPTION:Summit Tacos proudly serves authentic Mexican food and they love to share our passion for our food and our culture. Visit at 237 Collyer Street in Longmont and select food truck pop-ups. \nhttps://eatsummittacos.com
URL:https://citystarbrewing.com/event/summit-tacos/2021-06-29/
LOCATION:321 Mountain Avenue\, Berthoud\, CO\, 80513\, United States
CATEGORIES:Events,Food Trucks
ATTACH;FMTTYPE=image/png:https://citystarbrewing.com/wp-content/uploads/2017/05/summittacos.png
END:VEVENT
BEGIN:VEVENT
DTSTART;TZID=America/Denver:20210630T170000
DTEND;TZID=America/Denver:20210630T200000
DTSTAMP:20260422T101422
CREATED:20190731T212720Z
LAST-MODIFIED:20191014T194901Z
UID:10000910-1625072400-1625083200@citystarbrewing.com
SUMMARY:Summit Tacos
DESCRIPTION:Summit Tacos proudly serves authentic Mexican food and they love to share our passion for our food and our culture. Visit at 237 Collyer Street in Longmont and select food truck pop-ups. \nhttps://eatsummittacos.com
URL:https://citystarbrewing.com/event/summit-tacos/2021-06-30/
LOCATION:321 Mountain Avenue\, Berthoud\, CO\, 80513\, United States
CATEGORIES:Events,Food Trucks
ATTACH;FMTTYPE=image/png:https://citystarbrewing.com/wp-content/uploads/2017/05/summittacos.png
END:VEVENT
BEGIN:VEVENT
DTSTART;TZID=America/Denver:20210701T170000
DTEND;TZID=America/Denver:20210701T200000
DTSTAMP:20260422T101422
CREATED:20190731T212720Z
LAST-MODIFIED:20191014T194901Z
UID:10000911-1625158800-1625169600@citystarbrewing.com
SUMMARY:Summit Tacos
DESCRIPTION:Summit Tacos proudly serves authentic Mexican food and they love to share our passion for our food and our culture. Visit at 237 Collyer Street in Longmont and select food truck pop-ups. \nhttps://eatsummittacos.com
URL:https://citystarbrewing.com/event/summit-tacos/2021-07-01/
LOCATION:321 Mountain Avenue\, Berthoud\, CO\, 80513\, United States
CATEGORIES:Events,Food Trucks
ATTACH;FMTTYPE=image/png:https://citystarbrewing.com/wp-content/uploads/2017/05/summittacos.png
END:VEVENT
BEGIN:VEVENT
DTSTART;TZID=America/Denver:20210702T160000
DTEND;TZID=America/Denver:20210702T200000
DTSTAMP:20260422T101422
CREATED:20200212T192740Z
LAST-MODIFIED:20210605T144605Z
UID:10001397-1625241600-1625256000@citystarbrewing.com
SUMMARY:Gaijin Street Food
DESCRIPTION:We serve Asian street food and inspired cuisine from our kawaii truck. \nWe hail from Baltimore but consider Longmont our home. We love the community\, the people and the beer! When we first met\, Brooks was a chef in Baltimore and April was in the wine industry. April had studied abroad in Japan while in college and Brooks loved Anime\, Ramen and most things Japanese. \nAfter moving to Colorado and landing pretty fast in Longmont we talked about doing a large trip abroad. Japan HAD to be on the list\, also Southeast Asia for its accessibility\, relative inexpensiveness and all around deliciousness. We ended up in Asia for 3+ months traveling to Japan\, Vietnam\, Thailand\, Laos and Malaysia. Realizing how broad the food scene is out there and how little we actually see of the different styles here in the states\, we decided it would be cool to bring some of that back with us. \nhttps://nhamnhamnhamcom.wordpress.com/ \n\nstreet food- ກິນ\n\n\nFOOD TRUCK  \nMenu will change seasonally as we work our way through Southeast and East Asia. \nSample: \nONIGIRI $4 – stuffed rice balls (come see us at the truck for today’s filling choices as they change frequently!) \nGAIJIN OKONOMIYAKI $12 – Savory Japanese pancake with: Bacon\, Napa cabbage & Scallions\, Katsubushi\, Okonomi sauce\, Kewpie mayo \nSPICY KOREAN OKONOMIYAKI $14 – Gaijin okonomiyaki with the additions of: Kimchi\, Sesame seed\, Korean chili flake\, Spicy sauce \nBREAKFAST FOR DINNER OKONOMIYAKI $15 – Gaijin okonomiyaki with the additions of: Extra Bacon\, Fried egg\, American cheese \nJAPANESE BEEF CURRY $12 – Beef\, potatoes\, onions and carrots stewed in a rich mild curry broth\, Served with fukujinzuke and rice \nLAOS STYLE BAR NUTS $5 – Roasted peanuts with kaffir lime\, lemongrass and garlic
URL:https://citystarbrewing.com/event/gaijin-street-food/2021-07-02/
LOCATION:CO
CATEGORIES:Events,Food Trucks
ATTACH;FMTTYPE=image/png:https://citystarbrewing.com/wp-content/uploads/2020/02/Screen-Shot-2020-04-30-at-8.17.50-AM.png
END:VEVENT
BEGIN:VEVENT
DTSTART;TZID=America/Denver:20210702T170000
DTEND;TZID=America/Denver:20210702T200000
DTSTAMP:20260422T101422
CREATED:20190731T212720Z
LAST-MODIFIED:20191014T194901Z
UID:10000912-1625245200-1625256000@citystarbrewing.com
SUMMARY:Summit Tacos
DESCRIPTION:Summit Tacos proudly serves authentic Mexican food and they love to share our passion for our food and our culture. Visit at 237 Collyer Street in Longmont and select food truck pop-ups. \nhttps://eatsummittacos.com
URL:https://citystarbrewing.com/event/summit-tacos/2021-07-02/
LOCATION:321 Mountain Avenue\, Berthoud\, CO\, 80513\, United States
CATEGORIES:Events,Food Trucks
ATTACH;FMTTYPE=image/png:https://citystarbrewing.com/wp-content/uploads/2017/05/summittacos.png
END:VEVENT
BEGIN:VEVENT
DTSTART;TZID=America/Denver:20210703T170000
DTEND;TZID=America/Denver:20210703T200000
DTSTAMP:20260422T101422
CREATED:20190731T212720Z
LAST-MODIFIED:20191014T194901Z
UID:10000913-1625331600-1625342400@citystarbrewing.com
SUMMARY:Summit Tacos
DESCRIPTION:Summit Tacos proudly serves authentic Mexican food and they love to share our passion for our food and our culture. Visit at 237 Collyer Street in Longmont and select food truck pop-ups. \nhttps://eatsummittacos.com
URL:https://citystarbrewing.com/event/summit-tacos/2021-07-03/
LOCATION:321 Mountain Avenue\, Berthoud\, CO\, 80513\, United States
CATEGORIES:Events,Food Trucks
ATTACH;FMTTYPE=image/png:https://citystarbrewing.com/wp-content/uploads/2017/05/summittacos.png
END:VEVENT
END:VCALENDAR