BEGIN:VCALENDAR
VERSION:2.0
PRODID:-//City Star Brewing - ECPv6.15.20//NONSGML v1.0//EN
CALSCALE:GREGORIAN
METHOD:PUBLISH
X-WR-CALNAME:City Star Brewing
X-ORIGINAL-URL:https://citystarbrewing.com
X-WR-CALDESC:Events for City Star Brewing
REFRESH-INTERVAL;VALUE=DURATION:PT1H
X-Robots-Tag:noindex
X-PUBLISHED-TTL:PT1H
BEGIN:VTIMEZONE
TZID:America/Denver
BEGIN:DAYLIGHT
TZOFFSETFROM:-0700
TZOFFSETTO:-0600
TZNAME:MDT
DTSTART:20200308T090000
END:DAYLIGHT
BEGIN:STANDARD
TZOFFSETFROM:-0600
TZOFFSETTO:-0700
TZNAME:MST
DTSTART:20201101T080000
END:STANDARD
BEGIN:DAYLIGHT
TZOFFSETFROM:-0700
TZOFFSETTO:-0600
TZNAME:MDT
DTSTART:20210314T090000
END:DAYLIGHT
BEGIN:STANDARD
TZOFFSETFROM:-0600
TZOFFSETTO:-0700
TZNAME:MST
DTSTART:20211107T080000
END:STANDARD
BEGIN:DAYLIGHT
TZOFFSETFROM:-0700
TZOFFSETTO:-0600
TZNAME:MDT
DTSTART:20220313T090000
END:DAYLIGHT
BEGIN:STANDARD
TZOFFSETFROM:-0600
TZOFFSETTO:-0700
TZNAME:MST
DTSTART:20221106T080000
END:STANDARD
END:VTIMEZONE
BEGIN:VEVENT
DTSTART;TZID=America/Denver:20210606T130000
DTEND;TZID=America/Denver:20210606T190000
DTSTAMP:20260422T153103
CREATED:20200212T192740Z
LAST-MODIFIED:20210605T144605Z
UID:10001396-1622984400-1623006000@citystarbrewing.com
SUMMARY:Gaijin Street Food
DESCRIPTION:We serve Asian street food and inspired cuisine from our kawaii truck. \nWe hail from Baltimore but consider Longmont our home. We love the community\, the people and the beer! When we first met\, Brooks was a chef in Baltimore and April was in the wine industry. April had studied abroad in Japan while in college and Brooks loved Anime\, Ramen and most things Japanese. \nAfter moving to Colorado and landing pretty fast in Longmont we talked about doing a large trip abroad. Japan HAD to be on the list\, also Southeast Asia for its accessibility\, relative inexpensiveness and all around deliciousness. We ended up in Asia for 3+ months traveling to Japan\, Vietnam\, Thailand\, Laos and Malaysia. Realizing how broad the food scene is out there and how little we actually see of the different styles here in the states\, we decided it would be cool to bring some of that back with us. \nhttps://nhamnhamnhamcom.wordpress.com/ \n\nstreet food- ກິນ\n\n\nFOOD TRUCK  \nMenu will change seasonally as we work our way through Southeast and East Asia. \nSample: \nONIGIRI $4 – stuffed rice balls (come see us at the truck for today’s filling choices as they change frequently!) \nGAIJIN OKONOMIYAKI $12 – Savory Japanese pancake with: Bacon\, Napa cabbage & Scallions\, Katsubushi\, Okonomi sauce\, Kewpie mayo \nSPICY KOREAN OKONOMIYAKI $14 – Gaijin okonomiyaki with the additions of: Kimchi\, Sesame seed\, Korean chili flake\, Spicy sauce \nBREAKFAST FOR DINNER OKONOMIYAKI $15 – Gaijin okonomiyaki with the additions of: Extra Bacon\, Fried egg\, American cheese \nJAPANESE BEEF CURRY $12 – Beef\, potatoes\, onions and carrots stewed in a rich mild curry broth\, Served with fukujinzuke and rice \nLAOS STYLE BAR NUTS $5 – Roasted peanuts with kaffir lime\, lemongrass and garlic
URL:https://citystarbrewing.com/event/gaijin-street-food/2021-06-06/
LOCATION:CO
CATEGORIES:Events,Food Trucks
ATTACH;FMTTYPE=image/png:https://citystarbrewing.com/wp-content/uploads/2020/02/Screen-Shot-2020-04-30-at-8.17.50-AM.png
END:VEVENT
BEGIN:VEVENT
DTSTART;TZID=America/Denver:20210606T170000
DTEND;TZID=America/Denver:20210606T200000
DTSTAMP:20260422T153103
CREATED:20190731T212720Z
LAST-MODIFIED:20191014T194901Z
UID:10000886-1622998800-1623009600@citystarbrewing.com
SUMMARY:Summit Tacos
DESCRIPTION:Summit Tacos proudly serves authentic Mexican food and they love to share our passion for our food and our culture. Visit at 237 Collyer Street in Longmont and select food truck pop-ups. \nhttps://eatsummittacos.com
URL:https://citystarbrewing.com/event/summit-tacos/2021-06-06/
LOCATION:321 Mountain Avenue\, Berthoud\, CO\, 80513\, United States
CATEGORIES:Events,Food Trucks
ATTACH;FMTTYPE=image/png:https://citystarbrewing.com/wp-content/uploads/2017/05/summittacos.png
END:VEVENT
BEGIN:VEVENT
DTSTART;TZID=America/Denver:20210607T170000
DTEND;TZID=America/Denver:20210607T200000
DTSTAMP:20260422T153103
CREATED:20190731T212720Z
LAST-MODIFIED:20191014T194901Z
UID:10000887-1623085200-1623096000@citystarbrewing.com
SUMMARY:Summit Tacos
DESCRIPTION:Summit Tacos proudly serves authentic Mexican food and they love to share our passion for our food and our culture. Visit at 237 Collyer Street in Longmont and select food truck pop-ups. \nhttps://eatsummittacos.com
URL:https://citystarbrewing.com/event/summit-tacos/2021-06-07/
LOCATION:321 Mountain Avenue\, Berthoud\, CO\, 80513\, United States
CATEGORIES:Events,Food Trucks
ATTACH;FMTTYPE=image/png:https://citystarbrewing.com/wp-content/uploads/2017/05/summittacos.png
END:VEVENT
BEGIN:VEVENT
DTSTART;TZID=America/Denver:20210608T170000
DTEND;TZID=America/Denver:20210608T200000
DTSTAMP:20260422T153103
CREATED:20190731T212720Z
LAST-MODIFIED:20191014T194901Z
UID:10000888-1623171600-1623182400@citystarbrewing.com
SUMMARY:Summit Tacos
DESCRIPTION:Summit Tacos proudly serves authentic Mexican food and they love to share our passion for our food and our culture. Visit at 237 Collyer Street in Longmont and select food truck pop-ups. \nhttps://eatsummittacos.com
URL:https://citystarbrewing.com/event/summit-tacos/2021-06-08/
LOCATION:321 Mountain Avenue\, Berthoud\, CO\, 80513\, United States
CATEGORIES:Events,Food Trucks
ATTACH;FMTTYPE=image/png:https://citystarbrewing.com/wp-content/uploads/2017/05/summittacos.png
END:VEVENT
BEGIN:VEVENT
DTSTART;TZID=America/Denver:20210609T170000
DTEND;TZID=America/Denver:20210609T200000
DTSTAMP:20260422T153103
CREATED:20190731T212720Z
LAST-MODIFIED:20191014T194901Z
UID:10000889-1623258000-1623268800@citystarbrewing.com
SUMMARY:Summit Tacos
DESCRIPTION:Summit Tacos proudly serves authentic Mexican food and they love to share our passion for our food and our culture. Visit at 237 Collyer Street in Longmont and select food truck pop-ups. \nhttps://eatsummittacos.com
URL:https://citystarbrewing.com/event/summit-tacos/2021-06-09/
LOCATION:321 Mountain Avenue\, Berthoud\, CO\, 80513\, United States
CATEGORIES:Events,Food Trucks
ATTACH;FMTTYPE=image/png:https://citystarbrewing.com/wp-content/uploads/2017/05/summittacos.png
END:VEVENT
BEGIN:VEVENT
DTSTART;TZID=America/Denver:20210610T170000
DTEND;TZID=America/Denver:20210610T200000
DTSTAMP:20260422T153103
CREATED:20190731T212720Z
LAST-MODIFIED:20191014T194901Z
UID:10000890-1623344400-1623355200@citystarbrewing.com
SUMMARY:Summit Tacos
DESCRIPTION:Summit Tacos proudly serves authentic Mexican food and they love to share our passion for our food and our culture. Visit at 237 Collyer Street in Longmont and select food truck pop-ups. \nhttps://eatsummittacos.com
URL:https://citystarbrewing.com/event/summit-tacos/2021-06-10/
LOCATION:321 Mountain Avenue\, Berthoud\, CO\, 80513\, United States
CATEGORIES:Events,Food Trucks
ATTACH;FMTTYPE=image/png:https://citystarbrewing.com/wp-content/uploads/2017/05/summittacos.png
END:VEVENT
BEGIN:VEVENT
DTSTART;TZID=America/Denver:20210611T160000
DTEND;TZID=America/Denver:20210611T200000
DTSTAMP:20260422T153103
CREATED:20191108T154304Z
LAST-MODIFIED:20220726T214300Z
UID:10001371-1623427200-1623441600@citystarbrewing.com
SUMMARY:Cilantro & Lime
DESCRIPTION:Serving up the freshest soups\, salads\, wraps and bowls near you!\nhttps://www.cilantroandlime.com/ \nSAMPLE MENU (subject to change and availability)\nBowls (served over your choice of white or brown rice\, or mixed greens): \n​Peanut Chicken Bowl\nseasoned chicken breast\, baby spinach\, roasted sweet potatoes and onions\, avocado\, peanut sauce\, sesame seeds \nHawaiian BBQ (gf)\ngrilled chicken or tofu\, sautéed zucchini and peppers\, fresh pineapple\, red onion\, bbq sauce\, green onions and cilantro \nTeriyaki Turkey\nground turkey\, carrots and finely chopped broccoli in a sweet and salty teriyaki sauce\, topped with green onions and toasted sesame seeds \nCalifornia Roll (gf)\nimitation crab\, cucumber\, avocado\, and shredded carrots\, pickled ginger and toasted sesame seeds \nSignature Soups\nBlack Bean (v\, gf)\ncreamy black bean soup topped with fresh tomatoes\, cilantro\, green onions \nand cotija cheese\noptional add-ons: andouille sausage\, fresh avocado \nThai coconut w/ shrimp (gf)\nred curry and coconut milk with rice\, onions\, peppers\, lime and cilantro \nHot & Sour (v)\ntofu\, portabella mushrooms\, carrots\, bamboo shoots and egg in a tangy broth topped with green onions \nPosole\npork and hominy simmered in a tomato-based broth\, served with shredded cheese\, fresh cabbage\, cilantro and lime \nSalads\nThai quinoa (gf)\nquinoa\, cabbage\, carrot\, red bell pepper\, cucumber\, edamame and green onions with a sweet\, ginger-lime dressing\, topped with cilantro and peanuts \nMexican corn (v\, gf)\nroasted corn\, avocado\, bell pepper and red onion with lime and cotija cheese \nSpecials\nPork Banh Mi Wrap\nmarinated pork loin\, pickled vegetables\, cucumber\, mayo\, cilantro\, mint and lime wrapped in a flour tortilla \nChicken Mole Tacos (gf)\ndiced chicken thighs marinated in a rich\, spicy mole sauce\, topped with cilantro and onion in corn tortillas \nSteak and Kimchi Bowl \nKorean grilled steak\, shredded carrots\, house-made kimchi\, avocado\, pico de gallo\, green onions\, gochujang aioli \nKids’ Quesadilla (v)\nkeepin’ it simple with just a tortilla and melted cheese. Try it with a cup of soup or small salad!
URL:https://citystarbrewing.com/event/cilantro-lime/2021-06-11/
LOCATION:CO
CATEGORIES:Events,Food Trucks
ATTACH;FMTTYPE=image/jpeg:https://citystarbrewing.com/wp-content/uploads/2019/11/cilantroLimeLOGO@4x-100-e1573228721473.jpg
END:VEVENT
BEGIN:VEVENT
DTSTART;TZID=America/Denver:20210611T170000
DTEND;TZID=America/Denver:20210611T200000
DTSTAMP:20260422T153103
CREATED:20190731T212720Z
LAST-MODIFIED:20191014T194901Z
UID:10000891-1623430800-1623441600@citystarbrewing.com
SUMMARY:Summit Tacos
DESCRIPTION:Summit Tacos proudly serves authentic Mexican food and they love to share our passion for our food and our culture. Visit at 237 Collyer Street in Longmont and select food truck pop-ups. \nhttps://eatsummittacos.com
URL:https://citystarbrewing.com/event/summit-tacos/2021-06-11/
LOCATION:321 Mountain Avenue\, Berthoud\, CO\, 80513\, United States
CATEGORIES:Events,Food Trucks
ATTACH;FMTTYPE=image/png:https://citystarbrewing.com/wp-content/uploads/2017/05/summittacos.png
END:VEVENT
BEGIN:VEVENT
DTSTART;TZID=America/Denver:20210612T170000
DTEND;TZID=America/Denver:20210612T200000
DTSTAMP:20260422T153103
CREATED:20190731T212720Z
LAST-MODIFIED:20191014T194901Z
UID:10000892-1623517200-1623528000@citystarbrewing.com
SUMMARY:Summit Tacos
DESCRIPTION:Summit Tacos proudly serves authentic Mexican food and they love to share our passion for our food and our culture. Visit at 237 Collyer Street in Longmont and select food truck pop-ups. \nhttps://eatsummittacos.com
URL:https://citystarbrewing.com/event/summit-tacos/2021-06-12/
LOCATION:321 Mountain Avenue\, Berthoud\, CO\, 80513\, United States
CATEGORIES:Events,Food Trucks
ATTACH;FMTTYPE=image/png:https://citystarbrewing.com/wp-content/uploads/2017/05/summittacos.png
END:VEVENT
END:VCALENDAR