BEGIN:VCALENDAR
VERSION:2.0
PRODID:-//City Star Brewing - ECPv6.15.20//NONSGML v1.0//EN
CALSCALE:GREGORIAN
METHOD:PUBLISH
X-WR-CALNAME:City Star Brewing
X-ORIGINAL-URL:https://citystarbrewing.com
X-WR-CALDESC:Events for City Star Brewing
REFRESH-INTERVAL;VALUE=DURATION:PT1H
X-Robots-Tag:noindex
X-PUBLISHED-TTL:PT1H
BEGIN:VTIMEZONE
TZID:America/Denver
BEGIN:DAYLIGHT
TZOFFSETFROM:-0700
TZOFFSETTO:-0600
TZNAME:MDT
DTSTART:20200308T090000
END:DAYLIGHT
BEGIN:STANDARD
TZOFFSETFROM:-0600
TZOFFSETTO:-0700
TZNAME:MST
DTSTART:20201101T080000
END:STANDARD
BEGIN:DAYLIGHT
TZOFFSETFROM:-0700
TZOFFSETTO:-0600
TZNAME:MDT
DTSTART:20210314T090000
END:DAYLIGHT
BEGIN:STANDARD
TZOFFSETFROM:-0600
TZOFFSETTO:-0700
TZNAME:MST
DTSTART:20211107T080000
END:STANDARD
BEGIN:DAYLIGHT
TZOFFSETFROM:-0700
TZOFFSETTO:-0600
TZNAME:MDT
DTSTART:20220313T090000
END:DAYLIGHT
BEGIN:STANDARD
TZOFFSETFROM:-0600
TZOFFSETTO:-0700
TZNAME:MST
DTSTART:20221106T080000
END:STANDARD
END:VTIMEZONE
BEGIN:VEVENT
DTSTART;TZID=America/Denver:20210418T170000
DTEND;TZID=America/Denver:20210418T200000
DTSTAMP:20260422T153040
CREATED:20190731T212720Z
LAST-MODIFIED:20191014T194901Z
UID:10000837-1618765200-1618776000@citystarbrewing.com
SUMMARY:Summit Tacos
DESCRIPTION:Summit Tacos proudly serves authentic Mexican food and they love to share our passion for our food and our culture. Visit at 237 Collyer Street in Longmont and select food truck pop-ups. \nhttps://eatsummittacos.com
URL:https://citystarbrewing.com/event/summit-tacos/2021-04-18/
LOCATION:321 Mountain Avenue\, Berthoud\, CO\, 80513\, United States
CATEGORIES:Events,Food Trucks
ATTACH;FMTTYPE=image/png:https://citystarbrewing.com/wp-content/uploads/2017/05/summittacos.png
END:VEVENT
BEGIN:VEVENT
DTSTART;TZID=America/Denver:20210419T170000
DTEND;TZID=America/Denver:20210419T200000
DTSTAMP:20260422T153040
CREATED:20190731T212720Z
LAST-MODIFIED:20191014T194901Z
UID:10000838-1618851600-1618862400@citystarbrewing.com
SUMMARY:Summit Tacos
DESCRIPTION:Summit Tacos proudly serves authentic Mexican food and they love to share our passion for our food and our culture. Visit at 237 Collyer Street in Longmont and select food truck pop-ups. \nhttps://eatsummittacos.com
URL:https://citystarbrewing.com/event/summit-tacos/2021-04-19/
LOCATION:321 Mountain Avenue\, Berthoud\, CO\, 80513\, United States
CATEGORIES:Events,Food Trucks
ATTACH;FMTTYPE=image/png:https://citystarbrewing.com/wp-content/uploads/2017/05/summittacos.png
END:VEVENT
BEGIN:VEVENT
DTSTART;TZID=America/Denver:20210420T170000
DTEND;TZID=America/Denver:20210420T200000
DTSTAMP:20260422T153040
CREATED:20190731T212720Z
LAST-MODIFIED:20191014T194901Z
UID:10000839-1618938000-1618948800@citystarbrewing.com
SUMMARY:Summit Tacos
DESCRIPTION:Summit Tacos proudly serves authentic Mexican food and they love to share our passion for our food and our culture. Visit at 237 Collyer Street in Longmont and select food truck pop-ups. \nhttps://eatsummittacos.com
URL:https://citystarbrewing.com/event/summit-tacos/2021-04-20/
LOCATION:321 Mountain Avenue\, Berthoud\, CO\, 80513\, United States
CATEGORIES:Events,Food Trucks
ATTACH;FMTTYPE=image/png:https://citystarbrewing.com/wp-content/uploads/2017/05/summittacos.png
END:VEVENT
BEGIN:VEVENT
DTSTART;TZID=America/Denver:20210421T170000
DTEND;TZID=America/Denver:20210421T200000
DTSTAMP:20260422T153040
CREATED:20190731T212720Z
LAST-MODIFIED:20191014T194901Z
UID:10000840-1619024400-1619035200@citystarbrewing.com
SUMMARY:Summit Tacos
DESCRIPTION:Summit Tacos proudly serves authentic Mexican food and they love to share our passion for our food and our culture. Visit at 237 Collyer Street in Longmont and select food truck pop-ups. \nhttps://eatsummittacos.com
URL:https://citystarbrewing.com/event/summit-tacos/2021-04-21/
LOCATION:321 Mountain Avenue\, Berthoud\, CO\, 80513\, United States
CATEGORIES:Events,Food Trucks
ATTACH;FMTTYPE=image/png:https://citystarbrewing.com/wp-content/uploads/2017/05/summittacos.png
END:VEVENT
BEGIN:VEVENT
DTSTART;TZID=America/Denver:20210422T170000
DTEND;TZID=America/Denver:20210422T200000
DTSTAMP:20260422T153040
CREATED:20190731T212720Z
LAST-MODIFIED:20191014T194901Z
UID:10000841-1619110800-1619121600@citystarbrewing.com
SUMMARY:Summit Tacos
DESCRIPTION:Summit Tacos proudly serves authentic Mexican food and they love to share our passion for our food and our culture. Visit at 237 Collyer Street in Longmont and select food truck pop-ups. \nhttps://eatsummittacos.com
URL:https://citystarbrewing.com/event/summit-tacos/2021-04-22/
LOCATION:321 Mountain Avenue\, Berthoud\, CO\, 80513\, United States
CATEGORIES:Events,Food Trucks
ATTACH;FMTTYPE=image/png:https://citystarbrewing.com/wp-content/uploads/2017/05/summittacos.png
END:VEVENT
BEGIN:VEVENT
DTSTART;TZID=America/Denver:20210423T170000
DTEND;TZID=America/Denver:20210423T200000
DTSTAMP:20260422T153040
CREATED:20190731T212720Z
LAST-MODIFIED:20191014T194901Z
UID:10000842-1619197200-1619208000@citystarbrewing.com
SUMMARY:Summit Tacos
DESCRIPTION:Summit Tacos proudly serves authentic Mexican food and they love to share our passion for our food and our culture. Visit at 237 Collyer Street in Longmont and select food truck pop-ups. \nhttps://eatsummittacos.com
URL:https://citystarbrewing.com/event/summit-tacos/2021-04-23/
LOCATION:321 Mountain Avenue\, Berthoud\, CO\, 80513\, United States
CATEGORIES:Events,Food Trucks
ATTACH;FMTTYPE=image/png:https://citystarbrewing.com/wp-content/uploads/2017/05/summittacos.png
END:VEVENT
BEGIN:VEVENT
DTSTART;TZID=America/Denver:20210424T120000
DTEND;TZID=America/Denver:20210424T140000
DTSTAMP:20260422T153040
CREATED:20190726T195553Z
LAST-MODIFIED:20220427T150147Z
UID:10000258-1619265600-1619272800@citystarbrewing.com
SUMMARY:Max Mackey
DESCRIPTION:Genuine Americana Rock. \nhttp://www.maxmackey.com
URL:https://citystarbrewing.com/event/max-mackey/
LOCATION:CO
CATEGORIES:Events,Live Music
ATTACH;FMTTYPE=image/jpeg:https://citystarbrewing.com/wp-content/uploads/2019/07/maxmackey.jpg
END:VEVENT
BEGIN:VEVENT
DTSTART;TZID=America/Denver:20210424T170000
DTEND;TZID=America/Denver:20210424T200000
DTSTAMP:20260422T153040
CREATED:20190731T212720Z
LAST-MODIFIED:20191014T194901Z
UID:10000843-1619283600-1619294400@citystarbrewing.com
SUMMARY:Summit Tacos
DESCRIPTION:Summit Tacos proudly serves authentic Mexican food and they love to share our passion for our food and our culture. Visit at 237 Collyer Street in Longmont and select food truck pop-ups. \nhttps://eatsummittacos.com
URL:https://citystarbrewing.com/event/summit-tacos/2021-04-24/
LOCATION:321 Mountain Avenue\, Berthoud\, CO\, 80513\, United States
CATEGORIES:Events,Food Trucks
ATTACH;FMTTYPE=image/png:https://citystarbrewing.com/wp-content/uploads/2017/05/summittacos.png
END:VEVENT
BEGIN:VEVENT
DTSTART;TZID=America/Denver:20210424T180000
DTEND;TZID=America/Denver:20210424T203000
DTSTAMP:20260422T153040
CREATED:20201001T162805Z
LAST-MODIFIED:20210421T203604Z
UID:10001512-1619287200-1619296200@citystarbrewing.com
SUMMARY:Brian Collins
DESCRIPTION:We welcome Brian Collins of The Seers for a special solo performance. \nWriter\, vocalist\, pianist\, and multi-instrumentalist Brian Collins has seen the world through music since he was six. Blind from birth\, Brian’s father taught him drums and keyboard at an early age. He then learned tuba\, trumpet\, bass\, guitar\, and synthesizers. He now writes music as he swims\, working out complex arrangements that he’ll later perform on drums\, piano and guitar. \nIn 1999\, Brian was studying music at UNC-Greeley\, but “sight-reading” classical music required too many hours of monotonously memorizing sheet music. Deciding to re-focus on his own progressive rock music\, Brian began building a career as a musical performer and writer. \nWorking odd jobs\, Brian transferred back CSU and eventually earned a B.A. in Social Work in 2013 – the same time he was training at a Fort Collins Piano bar and beginning to see a way to sustain himself through performing music with the Seers and as a solo pianist / vocalist. \nBrian has since worked professionally as a musician\, and is excited to share his newest songs in creative new ways. \nWhen he’s not doing the business of writing\, performing and networking for the Seers\, spends his free time swimming\, writing\, and taking care of his family and friends.
URL:https://citystarbrewing.com/event/brian-collins/2021-04-24/
LOCATION:CO
CATEGORIES:Events,Live Music
ATTACH;FMTTYPE=image/jpeg:https://citystarbrewing.com/wp-content/uploads/2020/10/briancollins-e1601569669344.jpg
END:VEVENT
END:VCALENDAR