BEGIN:VCALENDAR
VERSION:2.0
PRODID:-//City Star Brewing - ECPv6.15.20//NONSGML v1.0//EN
CALSCALE:GREGORIAN
METHOD:PUBLISH
X-ORIGINAL-URL:https://citystarbrewing.com
X-WR-CALDESC:Events for City Star Brewing
REFRESH-INTERVAL;VALUE=DURATION:PT1H
X-Robots-Tag:noindex
X-PUBLISHED-TTL:PT1H
BEGIN:VTIMEZONE
TZID:America/Denver
BEGIN:DAYLIGHT
TZOFFSETFROM:-0700
TZOFFSETTO:-0600
TZNAME:MDT
DTSTART:20190310T090000
END:DAYLIGHT
BEGIN:STANDARD
TZOFFSETFROM:-0600
TZOFFSETTO:-0700
TZNAME:MST
DTSTART:20191103T080000
END:STANDARD
BEGIN:DAYLIGHT
TZOFFSETFROM:-0700
TZOFFSETTO:-0600
TZNAME:MDT
DTSTART:20200308T090000
END:DAYLIGHT
BEGIN:STANDARD
TZOFFSETFROM:-0600
TZOFFSETTO:-0700
TZNAME:MST
DTSTART:20201101T080000
END:STANDARD
BEGIN:DAYLIGHT
TZOFFSETFROM:-0700
TZOFFSETTO:-0600
TZNAME:MDT
DTSTART:20210314T090000
END:DAYLIGHT
BEGIN:STANDARD
TZOFFSETFROM:-0600
TZOFFSETTO:-0700
TZNAME:MST
DTSTART:20211107T080000
END:STANDARD
END:VTIMEZONE
BEGIN:VEVENT
DTSTART;VALUE=DATE:20201115
DTEND;VALUE=DATE:20201116
DTSTAMP:20260425T084727
CREATED:20201110T203446Z
LAST-MODIFIED:20201110T203558Z
UID:10001529-1605398400-1605484799@citystarbrewing.com
SUMMARY:Fall Food Drive
DESCRIPTION:Food Drive! You can donate a case of food to Larimer County Food Bank simply by visiting citystarpickup.com and purchasing a $25 or $50 case to donate. We will submit your donations to Loco Food Distribution on November 20th\, who will send cases of food to the Larimer County Food Bank (along with supplier and retailer donations). Loco Food will be able to move cases of quality\, wholesale priced (or donated) food\, and not just any old food item off the shelf. They’ll be able to donate items that the Food Bank needs. This is a wonderful initiative to support those in need AND great local food suppliers! \nAt City Star we’ve been working with Loco Food Distribution for several years\, sourcing our taproom snacks and non-alcoholic beverages from them. Based in Fort Collins they source and distribute healthy and delicious Colorado foods\, offering a distribution channel for many small\, independent Front Range businesses. We love what they are about and we are excited to support their Fall Food Drive! \nLearn more: https://www.locofooddistribution.com/2020-food-drive
URL:https://citystarbrewing.com/event/fall-food-drive/2020-11-15/
LOCATION:321 Mountain Avenue\, Berthoud\, CO\, 80513\, United States
CATEGORIES:Events,Taproom Events
ATTACH;FMTTYPE=image/jpeg:https://citystarbrewing.com/wp-content/uploads/2020/11/locofooddrive.jpg
END:VEVENT
BEGIN:VEVENT
DTSTART;TZID=America/Denver:20201115T170000
DTEND;TZID=America/Denver:20201115T200000
DTSTAMP:20260425T084727
CREATED:20190731T212720Z
LAST-MODIFIED:20191014T194901Z
UID:10000684-1605459600-1605470400@citystarbrewing.com
SUMMARY:Summit Tacos
DESCRIPTION:Summit Tacos proudly serves authentic Mexican food and they love to share our passion for our food and our culture. Visit at 237 Collyer Street in Longmont and select food truck pop-ups. \nhttps://eatsummittacos.com
URL:https://citystarbrewing.com/event/summit-tacos/2020-11-15/
LOCATION:321 Mountain Avenue\, Berthoud\, CO\, 80513\, United States
CATEGORIES:Events,Food Trucks
ATTACH;FMTTYPE=image/png:https://citystarbrewing.com/wp-content/uploads/2017/05/summittacos.png
END:VEVENT
BEGIN:VEVENT
DTSTART;VALUE=DATE:20201116
DTEND;VALUE=DATE:20201117
DTSTAMP:20260425T084727
CREATED:20201110T203446Z
LAST-MODIFIED:20201110T203558Z
UID:10001530-1605484800-1605571199@citystarbrewing.com
SUMMARY:Fall Food Drive
DESCRIPTION:Food Drive! You can donate a case of food to Larimer County Food Bank simply by visiting citystarpickup.com and purchasing a $25 or $50 case to donate. We will submit your donations to Loco Food Distribution on November 20th\, who will send cases of food to the Larimer County Food Bank (along with supplier and retailer donations). Loco Food will be able to move cases of quality\, wholesale priced (or donated) food\, and not just any old food item off the shelf. They’ll be able to donate items that the Food Bank needs. This is a wonderful initiative to support those in need AND great local food suppliers! \nAt City Star we’ve been working with Loco Food Distribution for several years\, sourcing our taproom snacks and non-alcoholic beverages from them. Based in Fort Collins they source and distribute healthy and delicious Colorado foods\, offering a distribution channel for many small\, independent Front Range businesses. We love what they are about and we are excited to support their Fall Food Drive! \nLearn more: https://www.locofooddistribution.com/2020-food-drive
URL:https://citystarbrewing.com/event/fall-food-drive/2020-11-16/
LOCATION:321 Mountain Avenue\, Berthoud\, CO\, 80513\, United States
CATEGORIES:Events,Taproom Events
ATTACH;FMTTYPE=image/jpeg:https://citystarbrewing.com/wp-content/uploads/2020/11/locofooddrive.jpg
END:VEVENT
BEGIN:VEVENT
DTSTART;TZID=America/Denver:20201116T170000
DTEND;TZID=America/Denver:20201116T200000
DTSTAMP:20260425T084727
CREATED:20190731T212720Z
LAST-MODIFIED:20191014T194901Z
UID:10000685-1605546000-1605556800@citystarbrewing.com
SUMMARY:Summit Tacos
DESCRIPTION:Summit Tacos proudly serves authentic Mexican food and they love to share our passion for our food and our culture. Visit at 237 Collyer Street in Longmont and select food truck pop-ups. \nhttps://eatsummittacos.com
URL:https://citystarbrewing.com/event/summit-tacos/2020-11-16/
LOCATION:321 Mountain Avenue\, Berthoud\, CO\, 80513\, United States
CATEGORIES:Events,Food Trucks
ATTACH;FMTTYPE=image/png:https://citystarbrewing.com/wp-content/uploads/2017/05/summittacos.png
END:VEVENT
BEGIN:VEVENT
DTSTART;VALUE=DATE:20201117
DTEND;VALUE=DATE:20201118
DTSTAMP:20260425T084727
CREATED:20201110T203446Z
LAST-MODIFIED:20201110T203558Z
UID:10001531-1605571200-1605657599@citystarbrewing.com
SUMMARY:Fall Food Drive
DESCRIPTION:Food Drive! You can donate a case of food to Larimer County Food Bank simply by visiting citystarpickup.com and purchasing a $25 or $50 case to donate. We will submit your donations to Loco Food Distribution on November 20th\, who will send cases of food to the Larimer County Food Bank (along with supplier and retailer donations). Loco Food will be able to move cases of quality\, wholesale priced (or donated) food\, and not just any old food item off the shelf. They’ll be able to donate items that the Food Bank needs. This is a wonderful initiative to support those in need AND great local food suppliers! \nAt City Star we’ve been working with Loco Food Distribution for several years\, sourcing our taproom snacks and non-alcoholic beverages from them. Based in Fort Collins they source and distribute healthy and delicious Colorado foods\, offering a distribution channel for many small\, independent Front Range businesses. We love what they are about and we are excited to support their Fall Food Drive! \nLearn more: https://www.locofooddistribution.com/2020-food-drive
URL:https://citystarbrewing.com/event/fall-food-drive/2020-11-17/
LOCATION:321 Mountain Avenue\, Berthoud\, CO\, 80513\, United States
CATEGORIES:Events,Taproom Events
ATTACH;FMTTYPE=image/jpeg:https://citystarbrewing.com/wp-content/uploads/2020/11/locofooddrive.jpg
END:VEVENT
BEGIN:VEVENT
DTSTART;TZID=America/Denver:20201117T170000
DTEND;TZID=America/Denver:20201117T200000
DTSTAMP:20260425T084727
CREATED:20190731T212720Z
LAST-MODIFIED:20191014T194901Z
UID:10000686-1605632400-1605643200@citystarbrewing.com
SUMMARY:Summit Tacos
DESCRIPTION:Summit Tacos proudly serves authentic Mexican food and they love to share our passion for our food and our culture. Visit at 237 Collyer Street in Longmont and select food truck pop-ups. \nhttps://eatsummittacos.com
URL:https://citystarbrewing.com/event/summit-tacos/2020-11-17/
LOCATION:321 Mountain Avenue\, Berthoud\, CO\, 80513\, United States
CATEGORIES:Events,Food Trucks
ATTACH;FMTTYPE=image/png:https://citystarbrewing.com/wp-content/uploads/2017/05/summittacos.png
END:VEVENT
BEGIN:VEVENT
DTSTART;VALUE=DATE:20201118
DTEND;VALUE=DATE:20201119
DTSTAMP:20260425T084727
CREATED:20201110T203446Z
LAST-MODIFIED:20201110T203558Z
UID:10001532-1605657600-1605743999@citystarbrewing.com
SUMMARY:Fall Food Drive
DESCRIPTION:Food Drive! You can donate a case of food to Larimer County Food Bank simply by visiting citystarpickup.com and purchasing a $25 or $50 case to donate. We will submit your donations to Loco Food Distribution on November 20th\, who will send cases of food to the Larimer County Food Bank (along with supplier and retailer donations). Loco Food will be able to move cases of quality\, wholesale priced (or donated) food\, and not just any old food item off the shelf. They’ll be able to donate items that the Food Bank needs. This is a wonderful initiative to support those in need AND great local food suppliers! \nAt City Star we’ve been working with Loco Food Distribution for several years\, sourcing our taproom snacks and non-alcoholic beverages from them. Based in Fort Collins they source and distribute healthy and delicious Colorado foods\, offering a distribution channel for many small\, independent Front Range businesses. We love what they are about and we are excited to support their Fall Food Drive! \nLearn more: https://www.locofooddistribution.com/2020-food-drive
URL:https://citystarbrewing.com/event/fall-food-drive/2020-11-18/
LOCATION:321 Mountain Avenue\, Berthoud\, CO\, 80513\, United States
CATEGORIES:Events,Taproom Events
ATTACH;FMTTYPE=image/jpeg:https://citystarbrewing.com/wp-content/uploads/2020/11/locofooddrive.jpg
END:VEVENT
BEGIN:VEVENT
DTSTART;TZID=America/Denver:20201118T170000
DTEND;TZID=America/Denver:20201118T200000
DTSTAMP:20260425T084727
CREATED:20190731T212720Z
LAST-MODIFIED:20191014T194901Z
UID:10000687-1605718800-1605729600@citystarbrewing.com
SUMMARY:Summit Tacos
DESCRIPTION:Summit Tacos proudly serves authentic Mexican food and they love to share our passion for our food and our culture. Visit at 237 Collyer Street in Longmont and select food truck pop-ups. \nhttps://eatsummittacos.com
URL:https://citystarbrewing.com/event/summit-tacos/2020-11-18/
LOCATION:321 Mountain Avenue\, Berthoud\, CO\, 80513\, United States
CATEGORIES:Events,Food Trucks
ATTACH;FMTTYPE=image/png:https://citystarbrewing.com/wp-content/uploads/2017/05/summittacos.png
END:VEVENT
BEGIN:VEVENT
DTSTART;VALUE=DATE:20201119
DTEND;VALUE=DATE:20201120
DTSTAMP:20260425T084727
CREATED:20201110T203446Z
LAST-MODIFIED:20201110T203558Z
UID:10001533-1605744000-1605830399@citystarbrewing.com
SUMMARY:Fall Food Drive
DESCRIPTION:Food Drive! You can donate a case of food to Larimer County Food Bank simply by visiting citystarpickup.com and purchasing a $25 or $50 case to donate. We will submit your donations to Loco Food Distribution on November 20th\, who will send cases of food to the Larimer County Food Bank (along with supplier and retailer donations). Loco Food will be able to move cases of quality\, wholesale priced (or donated) food\, and not just any old food item off the shelf. They’ll be able to donate items that the Food Bank needs. This is a wonderful initiative to support those in need AND great local food suppliers! \nAt City Star we’ve been working with Loco Food Distribution for several years\, sourcing our taproom snacks and non-alcoholic beverages from them. Based in Fort Collins they source and distribute healthy and delicious Colorado foods\, offering a distribution channel for many small\, independent Front Range businesses. We love what they are about and we are excited to support their Fall Food Drive! \nLearn more: https://www.locofooddistribution.com/2020-food-drive
URL:https://citystarbrewing.com/event/fall-food-drive/2020-11-19/
LOCATION:321 Mountain Avenue\, Berthoud\, CO\, 80513\, United States
CATEGORIES:Events,Taproom Events
ATTACH;FMTTYPE=image/jpeg:https://citystarbrewing.com/wp-content/uploads/2020/11/locofooddrive.jpg
END:VEVENT
BEGIN:VEVENT
DTSTART;TZID=America/Denver:20201119T170000
DTEND;TZID=America/Denver:20201119T200000
DTSTAMP:20260425T084727
CREATED:20190731T212720Z
LAST-MODIFIED:20191014T194901Z
UID:10000688-1605805200-1605816000@citystarbrewing.com
SUMMARY:Summit Tacos
DESCRIPTION:Summit Tacos proudly serves authentic Mexican food and they love to share our passion for our food and our culture. Visit at 237 Collyer Street in Longmont and select food truck pop-ups. \nhttps://eatsummittacos.com
URL:https://citystarbrewing.com/event/summit-tacos/2020-11-19/
LOCATION:321 Mountain Avenue\, Berthoud\, CO\, 80513\, United States
CATEGORIES:Events,Food Trucks
ATTACH;FMTTYPE=image/png:https://citystarbrewing.com/wp-content/uploads/2017/05/summittacos.png
END:VEVENT
BEGIN:VEVENT
DTSTART;VALUE=DATE:20201120
DTEND;VALUE=DATE:20201121
DTSTAMP:20260425T084727
CREATED:20201110T203446Z
LAST-MODIFIED:20201110T203558Z
UID:10001534-1605830400-1605916799@citystarbrewing.com
SUMMARY:Fall Food Drive
DESCRIPTION:Food Drive! You can donate a case of food to Larimer County Food Bank simply by visiting citystarpickup.com and purchasing a $25 or $50 case to donate. We will submit your donations to Loco Food Distribution on November 20th\, who will send cases of food to the Larimer County Food Bank (along with supplier and retailer donations). Loco Food will be able to move cases of quality\, wholesale priced (or donated) food\, and not just any old food item off the shelf. They’ll be able to donate items that the Food Bank needs. This is a wonderful initiative to support those in need AND great local food suppliers! \nAt City Star we’ve been working with Loco Food Distribution for several years\, sourcing our taproom snacks and non-alcoholic beverages from them. Based in Fort Collins they source and distribute healthy and delicious Colorado foods\, offering a distribution channel for many small\, independent Front Range businesses. We love what they are about and we are excited to support their Fall Food Drive! \nLearn more: https://www.locofooddistribution.com/2020-food-drive
URL:https://citystarbrewing.com/event/fall-food-drive/2020-11-20/
LOCATION:321 Mountain Avenue\, Berthoud\, CO\, 80513\, United States
CATEGORIES:Events,Taproom Events
ATTACH;FMTTYPE=image/jpeg:https://citystarbrewing.com/wp-content/uploads/2020/11/locofooddrive.jpg
END:VEVENT
BEGIN:VEVENT
DTSTART;TZID=America/Denver:20201120T170000
DTEND;TZID=America/Denver:20201120T200000
DTSTAMP:20260425T084727
CREATED:20190731T212720Z
LAST-MODIFIED:20191014T194901Z
UID:10000689-1605891600-1605902400@citystarbrewing.com
SUMMARY:Summit Tacos
DESCRIPTION:Summit Tacos proudly serves authentic Mexican food and they love to share our passion for our food and our culture. Visit at 237 Collyer Street in Longmont and select food truck pop-ups. \nhttps://eatsummittacos.com
URL:https://citystarbrewing.com/event/summit-tacos/2020-11-20/
LOCATION:321 Mountain Avenue\, Berthoud\, CO\, 80513\, United States
CATEGORIES:Events,Food Trucks
ATTACH;FMTTYPE=image/png:https://citystarbrewing.com/wp-content/uploads/2017/05/summittacos.png
END:VEVENT
BEGIN:VEVENT
DTSTART;TZID=America/Denver:20201121T170000
DTEND;TZID=America/Denver:20201121T200000
DTSTAMP:20260425T084727
CREATED:20190731T212720Z
LAST-MODIFIED:20191014T194901Z
UID:10000690-1605978000-1605988800@citystarbrewing.com
SUMMARY:Summit Tacos
DESCRIPTION:Summit Tacos proudly serves authentic Mexican food and they love to share our passion for our food and our culture. Visit at 237 Collyer Street in Longmont and select food truck pop-ups. \nhttps://eatsummittacos.com
URL:https://citystarbrewing.com/event/summit-tacos/2020-11-21/
LOCATION:321 Mountain Avenue\, Berthoud\, CO\, 80513\, United States
CATEGORIES:Events,Food Trucks
ATTACH;FMTTYPE=image/png:https://citystarbrewing.com/wp-content/uploads/2017/05/summittacos.png
END:VEVENT
END:VCALENDAR