BEGIN:VCALENDAR
VERSION:2.0
PRODID:-//City Star Brewing - ECPv6.15.20//NONSGML v1.0//EN
CALSCALE:GREGORIAN
METHOD:PUBLISH
X-ORIGINAL-URL:https://citystarbrewing.com
X-WR-CALDESC:Events for City Star Brewing
REFRESH-INTERVAL;VALUE=DURATION:PT1H
X-Robots-Tag:noindex
X-PUBLISHED-TTL:PT1H
BEGIN:VTIMEZONE
TZID:America/Denver
BEGIN:DAYLIGHT
TZOFFSETFROM:-0700
TZOFFSETTO:-0600
TZNAME:MDT
DTSTART:20190310T090000
END:DAYLIGHT
BEGIN:STANDARD
TZOFFSETFROM:-0600
TZOFFSETTO:-0700
TZNAME:MST
DTSTART:20191103T080000
END:STANDARD
BEGIN:DAYLIGHT
TZOFFSETFROM:-0700
TZOFFSETTO:-0600
TZNAME:MDT
DTSTART:20200308T090000
END:DAYLIGHT
BEGIN:STANDARD
TZOFFSETFROM:-0600
TZOFFSETTO:-0700
TZNAME:MST
DTSTART:20201101T080000
END:STANDARD
BEGIN:DAYLIGHT
TZOFFSETFROM:-0700
TZOFFSETTO:-0600
TZNAME:MDT
DTSTART:20210314T090000
END:DAYLIGHT
BEGIN:STANDARD
TZOFFSETFROM:-0600
TZOFFSETTO:-0700
TZNAME:MST
DTSTART:20211107T080000
END:STANDARD
END:VTIMEZONE
BEGIN:VEVENT
DTSTART;VALUE=DATE:20201001
DTEND;VALUE=DATE:20201019
DTSTAMP:20260425T095557
CREATED:20200722T180151Z
LAST-MODIFIED:20200722T180151Z
UID:10001492-1601510400-1603065599@citystarbrewing.com
SUMMARY:GABF at City Star
DESCRIPTION:“By now you’ve probably heard the news. Due to the global health pandemic\, we won’t be able to gather in person in Denver this fall and celebrate the wonderful world of craft beer together. Well\, we couldn’t imagine a year without GABF\, so this year\, we’re not only going to meet in spirit\, but virtually and locally\, as we “Brewnite” and bring the 39th annual Great American Beer Festival (GABF) to you through a nationwide “passport” program. \nBetween October 1-18\, Great American Beer Festival passport holders will have exclusive access to beery deals at participating festival breweries nationwide. Participating breweries will be added on a rolling basis starting mid-July\, with a complete list of brewery deals published September 15. \nIn addition\, passport holders will have exclusive access to online content during the official virtual festival dates\, October 16-17.  The online schedule is still being finalized but highlights include fun\, interactive activities like Brewers Studio happy hours\, tastings and interviews with brewers from around the country. All content will be broadcast via our friends at The Brewing Network. Complete festival details and schedule will be announced mid-August.” \nFestival goers purchase passports at gabf.org. City Star is giving away a flight of 5 tasters to passport holders. Specialty beer lineup to be released \nPurchase your GABF Passport here
URL:https://citystarbrewing.com/event/gabf/
LOCATION:city star brewing\, 321 Mountain Avenue\, Berthoud\, CO\, 80513\, United States
CATEGORIES:Events,Taproom Events
ATTACH;FMTTYPE=image/png:https://citystarbrewing.com/wp-content/uploads/2020/07/Screen-Shot-2020-07-22-at-11.40.39-AM.png
END:VEVENT
BEGIN:VEVENT
DTSTART;TZID=America/Denver:20201018T170000
DTEND;TZID=America/Denver:20201018T200000
DTSTAMP:20260425T095557
CREATED:20190731T212720Z
LAST-MODIFIED:20191014T194901Z
UID:10000656-1603040400-1603051200@citystarbrewing.com
SUMMARY:Summit Tacos
DESCRIPTION:Summit Tacos proudly serves authentic Mexican food and they love to share our passion for our food and our culture. Visit at 237 Collyer Street in Longmont and select food truck pop-ups. \nhttps://eatsummittacos.com
URL:https://citystarbrewing.com/event/summit-tacos/2020-10-18/
LOCATION:321 Mountain Avenue\, Berthoud\, CO\, 80513\, United States
CATEGORIES:Events,Food Trucks
ATTACH;FMTTYPE=image/png:https://citystarbrewing.com/wp-content/uploads/2017/05/summittacos.png
END:VEVENT
BEGIN:VEVENT
DTSTART;TZID=America/Denver:20201019T170000
DTEND;TZID=America/Denver:20201019T200000
DTSTAMP:20260425T095557
CREATED:20190731T212720Z
LAST-MODIFIED:20191014T194901Z
UID:10000657-1603126800-1603137600@citystarbrewing.com
SUMMARY:Summit Tacos
DESCRIPTION:Summit Tacos proudly serves authentic Mexican food and they love to share our passion for our food and our culture. Visit at 237 Collyer Street in Longmont and select food truck pop-ups. \nhttps://eatsummittacos.com
URL:https://citystarbrewing.com/event/summit-tacos/2020-10-19/
LOCATION:321 Mountain Avenue\, Berthoud\, CO\, 80513\, United States
CATEGORIES:Events,Food Trucks
ATTACH;FMTTYPE=image/png:https://citystarbrewing.com/wp-content/uploads/2017/05/summittacos.png
END:VEVENT
BEGIN:VEVENT
DTSTART;TZID=America/Denver:20201020T170000
DTEND;TZID=America/Denver:20201020T200000
DTSTAMP:20260425T095557
CREATED:20190731T212720Z
LAST-MODIFIED:20191014T194901Z
UID:10000658-1603213200-1603224000@citystarbrewing.com
SUMMARY:Summit Tacos
DESCRIPTION:Summit Tacos proudly serves authentic Mexican food and they love to share our passion for our food and our culture. Visit at 237 Collyer Street in Longmont and select food truck pop-ups. \nhttps://eatsummittacos.com
URL:https://citystarbrewing.com/event/summit-tacos/2020-10-20/
LOCATION:321 Mountain Avenue\, Berthoud\, CO\, 80513\, United States
CATEGORIES:Events,Food Trucks
ATTACH;FMTTYPE=image/png:https://citystarbrewing.com/wp-content/uploads/2017/05/summittacos.png
END:VEVENT
BEGIN:VEVENT
DTSTART;TZID=America/Denver:20201021T170000
DTEND;TZID=America/Denver:20201021T200000
DTSTAMP:20260425T095557
CREATED:20190731T212720Z
LAST-MODIFIED:20191014T194901Z
UID:10000659-1603299600-1603310400@citystarbrewing.com
SUMMARY:Summit Tacos
DESCRIPTION:Summit Tacos proudly serves authentic Mexican food and they love to share our passion for our food and our culture. Visit at 237 Collyer Street in Longmont and select food truck pop-ups. \nhttps://eatsummittacos.com
URL:https://citystarbrewing.com/event/summit-tacos/2020-10-21/
LOCATION:321 Mountain Avenue\, Berthoud\, CO\, 80513\, United States
CATEGORIES:Events,Food Trucks
ATTACH;FMTTYPE=image/png:https://citystarbrewing.com/wp-content/uploads/2017/05/summittacos.png
END:VEVENT
BEGIN:VEVENT
DTSTART;TZID=America/Denver:20201022T170000
DTEND;TZID=America/Denver:20201022T200000
DTSTAMP:20260425T095557
CREATED:20190731T212720Z
LAST-MODIFIED:20191014T194901Z
UID:10000660-1603386000-1603396800@citystarbrewing.com
SUMMARY:Summit Tacos
DESCRIPTION:Summit Tacos proudly serves authentic Mexican food and they love to share our passion for our food and our culture. Visit at 237 Collyer Street in Longmont and select food truck pop-ups. \nhttps://eatsummittacos.com
URL:https://citystarbrewing.com/event/summit-tacos/2020-10-22/
LOCATION:321 Mountain Avenue\, Berthoud\, CO\, 80513\, United States
CATEGORIES:Events,Food Trucks
ATTACH;FMTTYPE=image/png:https://citystarbrewing.com/wp-content/uploads/2017/05/summittacos.png
END:VEVENT
BEGIN:VEVENT
DTSTART;TZID=America/Denver:20201023T170000
DTEND;TZID=America/Denver:20201023T200000
DTSTAMP:20260425T095557
CREATED:20190731T212720Z
LAST-MODIFIED:20191014T194901Z
UID:10000661-1603472400-1603483200@citystarbrewing.com
SUMMARY:Summit Tacos
DESCRIPTION:Summit Tacos proudly serves authentic Mexican food and they love to share our passion for our food and our culture. Visit at 237 Collyer Street in Longmont and select food truck pop-ups. \nhttps://eatsummittacos.com
URL:https://citystarbrewing.com/event/summit-tacos/2020-10-23/
LOCATION:321 Mountain Avenue\, Berthoud\, CO\, 80513\, United States
CATEGORIES:Events,Food Trucks
ATTACH;FMTTYPE=image/png:https://citystarbrewing.com/wp-content/uploads/2017/05/summittacos.png
END:VEVENT
BEGIN:VEVENT
DTSTART;TZID=America/Denver:20201024T170000
DTEND;TZID=America/Denver:20201024T200000
DTSTAMP:20260425T095557
CREATED:20190731T212720Z
LAST-MODIFIED:20191014T194901Z
UID:10000662-1603558800-1603569600@citystarbrewing.com
SUMMARY:Summit Tacos
DESCRIPTION:Summit Tacos proudly serves authentic Mexican food and they love to share our passion for our food and our culture. Visit at 237 Collyer Street in Longmont and select food truck pop-ups. \nhttps://eatsummittacos.com
URL:https://citystarbrewing.com/event/summit-tacos/2020-10-24/
LOCATION:321 Mountain Avenue\, Berthoud\, CO\, 80513\, United States
CATEGORIES:Events,Food Trucks
ATTACH;FMTTYPE=image/png:https://citystarbrewing.com/wp-content/uploads/2017/05/summittacos.png
END:VEVENT
END:VCALENDAR