BEGIN:VCALENDAR
VERSION:2.0
PRODID:-//City Star Brewing - ECPv6.15.20//NONSGML v1.0//EN
CALSCALE:GREGORIAN
METHOD:PUBLISH
X-ORIGINAL-URL:https://citystarbrewing.com
X-WR-CALDESC:Events for City Star Brewing
REFRESH-INTERVAL;VALUE=DURATION:PT1H
X-Robots-Tag:noindex
X-PUBLISHED-TTL:PT1H
BEGIN:VTIMEZONE
TZID:America/Denver
BEGIN:DAYLIGHT
TZOFFSETFROM:-0700
TZOFFSETTO:-0600
TZNAME:MDT
DTSTART:20190310T090000
END:DAYLIGHT
BEGIN:STANDARD
TZOFFSETFROM:-0600
TZOFFSETTO:-0700
TZNAME:MST
DTSTART:20191103T080000
END:STANDARD
BEGIN:DAYLIGHT
TZOFFSETFROM:-0700
TZOFFSETTO:-0600
TZNAME:MDT
DTSTART:20200308T090000
END:DAYLIGHT
BEGIN:STANDARD
TZOFFSETFROM:-0600
TZOFFSETTO:-0700
TZNAME:MST
DTSTART:20201101T080000
END:STANDARD
BEGIN:DAYLIGHT
TZOFFSETFROM:-0700
TZOFFSETTO:-0600
TZNAME:MDT
DTSTART:20210314T090000
END:DAYLIGHT
BEGIN:STANDARD
TZOFFSETFROM:-0600
TZOFFSETTO:-0700
TZNAME:MST
DTSTART:20211107T080000
END:STANDARD
END:VTIMEZONE
BEGIN:VEVENT
DTSTART;VALUE=DATE:20201001
DTEND;VALUE=DATE:20201019
DTSTAMP:20260425T114024
CREATED:20200722T180151Z
LAST-MODIFIED:20200722T180151Z
UID:10001492-1601510400-1603065599@citystarbrewing.com
SUMMARY:GABF at City Star
DESCRIPTION:“By now you’ve probably heard the news. Due to the global health pandemic\, we won’t be able to gather in person in Denver this fall and celebrate the wonderful world of craft beer together. Well\, we couldn’t imagine a year without GABF\, so this year\, we’re not only going to meet in spirit\, but virtually and locally\, as we “Brewnite” and bring the 39th annual Great American Beer Festival (GABF) to you through a nationwide “passport” program. \nBetween October 1-18\, Great American Beer Festival passport holders will have exclusive access to beery deals at participating festival breweries nationwide. Participating breweries will be added on a rolling basis starting mid-July\, with a complete list of brewery deals published September 15. \nIn addition\, passport holders will have exclusive access to online content during the official virtual festival dates\, October 16-17.  The online schedule is still being finalized but highlights include fun\, interactive activities like Brewers Studio happy hours\, tastings and interviews with brewers from around the country. All content will be broadcast via our friends at The Brewing Network. Complete festival details and schedule will be announced mid-August.” \nFestival goers purchase passports at gabf.org. City Star is giving away a flight of 5 tasters to passport holders. Specialty beer lineup to be released \nPurchase your GABF Passport here
URL:https://citystarbrewing.com/event/gabf/
LOCATION:city star brewing\, 321 Mountain Avenue\, Berthoud\, CO\, 80513\, United States
CATEGORIES:Events,Taproom Events
ATTACH;FMTTYPE=image/png:https://citystarbrewing.com/wp-content/uploads/2020/07/Screen-Shot-2020-07-22-at-11.40.39-AM.png
END:VEVENT
BEGIN:VEVENT
DTSTART;TZID=America/Denver:20201011T170000
DTEND;TZID=America/Denver:20201011T200000
DTSTAMP:20260425T114024
CREATED:20190731T212720Z
LAST-MODIFIED:20191014T194901Z
UID:10000649-1602435600-1602446400@citystarbrewing.com
SUMMARY:Summit Tacos
DESCRIPTION:Summit Tacos proudly serves authentic Mexican food and they love to share our passion for our food and our culture. Visit at 237 Collyer Street in Longmont and select food truck pop-ups. \nhttps://eatsummittacos.com
URL:https://citystarbrewing.com/event/summit-tacos/2020-10-11/
LOCATION:321 Mountain Avenue\, Berthoud\, CO\, 80513\, United States
CATEGORIES:Events,Food Trucks
ATTACH;FMTTYPE=image/png:https://citystarbrewing.com/wp-content/uploads/2017/05/summittacos.png
END:VEVENT
BEGIN:VEVENT
DTSTART;TZID=America/Denver:20201012T170000
DTEND;TZID=America/Denver:20201012T200000
DTSTAMP:20260425T114024
CREATED:20190731T212720Z
LAST-MODIFIED:20191014T194901Z
UID:10000650-1602522000-1602532800@citystarbrewing.com
SUMMARY:Summit Tacos
DESCRIPTION:Summit Tacos proudly serves authentic Mexican food and they love to share our passion for our food and our culture. Visit at 237 Collyer Street in Longmont and select food truck pop-ups. \nhttps://eatsummittacos.com
URL:https://citystarbrewing.com/event/summit-tacos/2020-10-12/
LOCATION:321 Mountain Avenue\, Berthoud\, CO\, 80513\, United States
CATEGORIES:Events,Food Trucks
ATTACH;FMTTYPE=image/png:https://citystarbrewing.com/wp-content/uploads/2017/05/summittacos.png
END:VEVENT
BEGIN:VEVENT
DTSTART;TZID=America/Denver:20201013T170000
DTEND;TZID=America/Denver:20201013T200000
DTSTAMP:20260425T114024
CREATED:20190731T212720Z
LAST-MODIFIED:20191014T194901Z
UID:10000651-1602608400-1602619200@citystarbrewing.com
SUMMARY:Summit Tacos
DESCRIPTION:Summit Tacos proudly serves authentic Mexican food and they love to share our passion for our food and our culture. Visit at 237 Collyer Street in Longmont and select food truck pop-ups. \nhttps://eatsummittacos.com
URL:https://citystarbrewing.com/event/summit-tacos/2020-10-13/
LOCATION:321 Mountain Avenue\, Berthoud\, CO\, 80513\, United States
CATEGORIES:Events,Food Trucks
ATTACH;FMTTYPE=image/png:https://citystarbrewing.com/wp-content/uploads/2017/05/summittacos.png
END:VEVENT
BEGIN:VEVENT
DTSTART;TZID=America/Denver:20201014T170000
DTEND;TZID=America/Denver:20201014T200000
DTSTAMP:20260425T114024
CREATED:20190731T212720Z
LAST-MODIFIED:20191014T194901Z
UID:10000652-1602694800-1602705600@citystarbrewing.com
SUMMARY:Summit Tacos
DESCRIPTION:Summit Tacos proudly serves authentic Mexican food and they love to share our passion for our food and our culture. Visit at 237 Collyer Street in Longmont and select food truck pop-ups. \nhttps://eatsummittacos.com
URL:https://citystarbrewing.com/event/summit-tacos/2020-10-14/
LOCATION:321 Mountain Avenue\, Berthoud\, CO\, 80513\, United States
CATEGORIES:Events,Food Trucks
ATTACH;FMTTYPE=image/png:https://citystarbrewing.com/wp-content/uploads/2017/05/summittacos.png
END:VEVENT
BEGIN:VEVENT
DTSTART;TZID=America/Denver:20201015T170000
DTEND;TZID=America/Denver:20201015T200000
DTSTAMP:20260425T114024
CREATED:20190731T212720Z
LAST-MODIFIED:20191014T194901Z
UID:10000653-1602781200-1602792000@citystarbrewing.com
SUMMARY:Summit Tacos
DESCRIPTION:Summit Tacos proudly serves authentic Mexican food and they love to share our passion for our food and our culture. Visit at 237 Collyer Street in Longmont and select food truck pop-ups. \nhttps://eatsummittacos.com
URL:https://citystarbrewing.com/event/summit-tacos/2020-10-15/
LOCATION:321 Mountain Avenue\, Berthoud\, CO\, 80513\, United States
CATEGORIES:Events,Food Trucks
ATTACH;FMTTYPE=image/png:https://citystarbrewing.com/wp-content/uploads/2017/05/summittacos.png
END:VEVENT
BEGIN:VEVENT
DTSTART;TZID=America/Denver:20201016T150000
DTEND;TZID=America/Denver:20201016T220000
DTSTAMP:20260425T114024
CREATED:20201012T154857Z
LAST-MODIFIED:20201016T184524Z
UID:10001515-1602860400-1602885600@citystarbrewing.com
SUMMARY:Beer Release: Rhuby Slippers
DESCRIPTION:Hibiscus Rhubarb Sour – golden strong ale brewed with Berthoud grown rhubarb\, aged and soured in oak barrels 16 months\, and conditioned on hibiscus flowers. Draft only release (no to-go availability).
URL:https://citystarbrewing.com/event/beer-release-rhuby-slippers/
LOCATION:321 Mountain Avenue\, Berthoud\, CO\, 80513\, United States
CATEGORIES:Beer Releases,Events
END:VEVENT
BEGIN:VEVENT
DTSTART;TZID=America/Denver:20201016T170000
DTEND;TZID=America/Denver:20201016T200000
DTSTAMP:20260425T114024
CREATED:20190731T212720Z
LAST-MODIFIED:20191014T194901Z
UID:10000654-1602867600-1602878400@citystarbrewing.com
SUMMARY:Summit Tacos
DESCRIPTION:Summit Tacos proudly serves authentic Mexican food and they love to share our passion for our food and our culture. Visit at 237 Collyer Street in Longmont and select food truck pop-ups. \nhttps://eatsummittacos.com
URL:https://citystarbrewing.com/event/summit-tacos/2020-10-16/
LOCATION:321 Mountain Avenue\, Berthoud\, CO\, 80513\, United States
CATEGORIES:Events,Food Trucks
ATTACH;FMTTYPE=image/png:https://citystarbrewing.com/wp-content/uploads/2017/05/summittacos.png
END:VEVENT
BEGIN:VEVENT
DTSTART;TZID=America/Denver:20201017T170000
DTEND;TZID=America/Denver:20201017T200000
DTSTAMP:20260425T114024
CREATED:20190731T212720Z
LAST-MODIFIED:20191014T194901Z
UID:10000655-1602954000-1602964800@citystarbrewing.com
SUMMARY:Summit Tacos
DESCRIPTION:Summit Tacos proudly serves authentic Mexican food and they love to share our passion for our food and our culture. Visit at 237 Collyer Street in Longmont and select food truck pop-ups. \nhttps://eatsummittacos.com
URL:https://citystarbrewing.com/event/summit-tacos/2020-10-17/
LOCATION:321 Mountain Avenue\, Berthoud\, CO\, 80513\, United States
CATEGORIES:Events,Food Trucks
ATTACH;FMTTYPE=image/png:https://citystarbrewing.com/wp-content/uploads/2017/05/summittacos.png
END:VEVENT
END:VCALENDAR