BEGIN:VCALENDAR
VERSION:2.0
PRODID:-//City Star Brewing - ECPv6.15.20//NONSGML v1.0//EN
CALSCALE:GREGORIAN
METHOD:PUBLISH
X-WR-CALNAME:City Star Brewing
X-ORIGINAL-URL:https://citystarbrewing.com
X-WR-CALDESC:Events for City Star Brewing
REFRESH-INTERVAL;VALUE=DURATION:PT1H
X-Robots-Tag:noindex
X-PUBLISHED-TTL:PT1H
BEGIN:VTIMEZONE
TZID:America/Denver
BEGIN:DAYLIGHT
TZOFFSETFROM:-0700
TZOFFSETTO:-0600
TZNAME:MDT
DTSTART:20190310T090000
END:DAYLIGHT
BEGIN:STANDARD
TZOFFSETFROM:-0600
TZOFFSETTO:-0700
TZNAME:MST
DTSTART:20191103T080000
END:STANDARD
BEGIN:DAYLIGHT
TZOFFSETFROM:-0700
TZOFFSETTO:-0600
TZNAME:MDT
DTSTART:20200308T090000
END:DAYLIGHT
BEGIN:STANDARD
TZOFFSETFROM:-0600
TZOFFSETTO:-0700
TZNAME:MST
DTSTART:20201101T080000
END:STANDARD
BEGIN:DAYLIGHT
TZOFFSETFROM:-0700
TZOFFSETTO:-0600
TZNAME:MDT
DTSTART:20210314T090000
END:DAYLIGHT
BEGIN:STANDARD
TZOFFSETFROM:-0600
TZOFFSETTO:-0700
TZNAME:MST
DTSTART:20211107T080000
END:STANDARD
END:VTIMEZONE
BEGIN:VEVENT
DTSTART;TZID=America/Denver:20200927T170000
DTEND;TZID=America/Denver:20200927T200000
DTSTAMP:20260425T081324
CREATED:20190731T212720Z
LAST-MODIFIED:20191014T194901Z
UID:10000635-1601226000-1601236800@citystarbrewing.com
SUMMARY:Summit Tacos
DESCRIPTION:Summit Tacos proudly serves authentic Mexican food and they love to share our passion for our food and our culture. Visit at 237 Collyer Street in Longmont and select food truck pop-ups. \nhttps://eatsummittacos.com
URL:https://citystarbrewing.com/event/summit-tacos/2020-09-27/
LOCATION:321 Mountain Avenue\, Berthoud\, CO\, 80513\, United States
CATEGORIES:Events,Food Trucks
ATTACH;FMTTYPE=image/png:https://citystarbrewing.com/wp-content/uploads/2017/05/summittacos.png
END:VEVENT
BEGIN:VEVENT
DTSTART;TZID=America/Denver:20200928T170000
DTEND;TZID=America/Denver:20200928T200000
DTSTAMP:20260425T081324
CREATED:20190731T212720Z
LAST-MODIFIED:20191014T194901Z
UID:10000636-1601312400-1601323200@citystarbrewing.com
SUMMARY:Summit Tacos
DESCRIPTION:Summit Tacos proudly serves authentic Mexican food and they love to share our passion for our food and our culture. Visit at 237 Collyer Street in Longmont and select food truck pop-ups. \nhttps://eatsummittacos.com
URL:https://citystarbrewing.com/event/summit-tacos/2020-09-28/
LOCATION:321 Mountain Avenue\, Berthoud\, CO\, 80513\, United States
CATEGORIES:Events,Food Trucks
ATTACH;FMTTYPE=image/png:https://citystarbrewing.com/wp-content/uploads/2017/05/summittacos.png
END:VEVENT
BEGIN:VEVENT
DTSTART;TZID=America/Denver:20200929T170000
DTEND;TZID=America/Denver:20200929T200000
DTSTAMP:20260425T081324
CREATED:20190731T212720Z
LAST-MODIFIED:20191014T194901Z
UID:10000637-1601398800-1601409600@citystarbrewing.com
SUMMARY:Summit Tacos
DESCRIPTION:Summit Tacos proudly serves authentic Mexican food and they love to share our passion for our food and our culture. Visit at 237 Collyer Street in Longmont and select food truck pop-ups. \nhttps://eatsummittacos.com
URL:https://citystarbrewing.com/event/summit-tacos/2020-09-29/
LOCATION:321 Mountain Avenue\, Berthoud\, CO\, 80513\, United States
CATEGORIES:Events,Food Trucks
ATTACH;FMTTYPE=image/png:https://citystarbrewing.com/wp-content/uploads/2017/05/summittacos.png
END:VEVENT
BEGIN:VEVENT
DTSTART;TZID=America/Denver:20200930T170000
DTEND;TZID=America/Denver:20200930T200000
DTSTAMP:20260425T081324
CREATED:20190731T212720Z
LAST-MODIFIED:20191014T194901Z
UID:10000638-1601485200-1601496000@citystarbrewing.com
SUMMARY:Summit Tacos
DESCRIPTION:Summit Tacos proudly serves authentic Mexican food and they love to share our passion for our food and our culture. Visit at 237 Collyer Street in Longmont and select food truck pop-ups. \nhttps://eatsummittacos.com
URL:https://citystarbrewing.com/event/summit-tacos/2020-09-30/
LOCATION:321 Mountain Avenue\, Berthoud\, CO\, 80513\, United States
CATEGORIES:Events,Food Trucks
ATTACH;FMTTYPE=image/png:https://citystarbrewing.com/wp-content/uploads/2017/05/summittacos.png
END:VEVENT
BEGIN:VEVENT
DTSTART;VALUE=DATE:20201001
DTEND;VALUE=DATE:20201019
DTSTAMP:20260425T081324
CREATED:20200722T180151Z
LAST-MODIFIED:20200722T180151Z
UID:10001492-1601510400-1603065599@citystarbrewing.com
SUMMARY:GABF at City Star
DESCRIPTION:“By now you’ve probably heard the news. Due to the global health pandemic\, we won’t be able to gather in person in Denver this fall and celebrate the wonderful world of craft beer together. Well\, we couldn’t imagine a year without GABF\, so this year\, we’re not only going to meet in spirit\, but virtually and locally\, as we “Brewnite” and bring the 39th annual Great American Beer Festival (GABF) to you through a nationwide “passport” program. \nBetween October 1-18\, Great American Beer Festival passport holders will have exclusive access to beery deals at participating festival breweries nationwide. Participating breweries will be added on a rolling basis starting mid-July\, with a complete list of brewery deals published September 15. \nIn addition\, passport holders will have exclusive access to online content during the official virtual festival dates\, October 16-17.  The online schedule is still being finalized but highlights include fun\, interactive activities like Brewers Studio happy hours\, tastings and interviews with brewers from around the country. All content will be broadcast via our friends at The Brewing Network. Complete festival details and schedule will be announced mid-August.” \nFestival goers purchase passports at gabf.org. City Star is giving away a flight of 5 tasters to passport holders. Specialty beer lineup to be released \nPurchase your GABF Passport here
URL:https://citystarbrewing.com/event/gabf/
LOCATION:city star brewing\, 321 Mountain Avenue\, Berthoud\, CO\, 80513\, United States
CATEGORIES:Events,Taproom Events
ATTACH;FMTTYPE=image/png:https://citystarbrewing.com/wp-content/uploads/2020/07/Screen-Shot-2020-07-22-at-11.40.39-AM.png
END:VEVENT
BEGIN:VEVENT
DTSTART;TZID=America/Denver:20201001T170000
DTEND;TZID=America/Denver:20201001T200000
DTSTAMP:20260425T081324
CREATED:20190731T212720Z
LAST-MODIFIED:20191014T194901Z
UID:10000639-1601571600-1601582400@citystarbrewing.com
SUMMARY:Summit Tacos
DESCRIPTION:Summit Tacos proudly serves authentic Mexican food and they love to share our passion for our food and our culture. Visit at 237 Collyer Street in Longmont and select food truck pop-ups. \nhttps://eatsummittacos.com
URL:https://citystarbrewing.com/event/summit-tacos/2020-10-01/
LOCATION:321 Mountain Avenue\, Berthoud\, CO\, 80513\, United States
CATEGORIES:Events,Food Trucks
ATTACH;FMTTYPE=image/png:https://citystarbrewing.com/wp-content/uploads/2017/05/summittacos.png
END:VEVENT
BEGIN:VEVENT
DTSTART;TZID=America/Denver:20201002T170000
DTEND;TZID=America/Denver:20201002T200000
DTSTAMP:20260425T081324
CREATED:20190731T212720Z
LAST-MODIFIED:20191014T194901Z
UID:10000640-1601658000-1601668800@citystarbrewing.com
SUMMARY:Summit Tacos
DESCRIPTION:Summit Tacos proudly serves authentic Mexican food and they love to share our passion for our food and our culture. Visit at 237 Collyer Street in Longmont and select food truck pop-ups. \nhttps://eatsummittacos.com
URL:https://citystarbrewing.com/event/summit-tacos/2020-10-02/
LOCATION:321 Mountain Avenue\, Berthoud\, CO\, 80513\, United States
CATEGORIES:Events,Food Trucks
ATTACH;FMTTYPE=image/png:https://citystarbrewing.com/wp-content/uploads/2017/05/summittacos.png
END:VEVENT
BEGIN:VEVENT
DTSTART;TZID=America/Denver:20201002T180000
DTEND;TZID=America/Denver:20201002T203000
DTSTAMP:20260425T081324
CREATED:20200929T155054Z
LAST-MODIFIED:20200929T155420Z
UID:10001511-1601661600-1601670600@citystarbrewing.com
SUMMARY:Sugar Moon
DESCRIPTION:“The bluegrass duo Sugar Moon is a rising star on the Front Range folk scene\, and the reason for the pair’s popularity is clear on its first album\, Special Shade of Blue\, a collection of gorgeous songs backed with melancholy bluegrass instrumentation.” \n— Kyle Harris\, Westword \nhttps://sugarmoonband.com
URL:https://citystarbrewing.com/event/sugar-moon/
LOCATION:321 Mountain Avenue\, Berthoud\, CO\, 80513\, United States
CATEGORIES:Events,Live Music
ATTACH;FMTTYPE=image/jpeg:https://citystarbrewing.com/wp-content/uploads/2020/09/sugarmoon-e1601394645321.jpg
END:VEVENT
BEGIN:VEVENT
DTSTART;TZID=America/Denver:20201003T170000
DTEND;TZID=America/Denver:20201003T200000
DTSTAMP:20260425T081324
CREATED:20190731T212720Z
LAST-MODIFIED:20191014T194901Z
UID:10000641-1601744400-1601755200@citystarbrewing.com
SUMMARY:Summit Tacos
DESCRIPTION:Summit Tacos proudly serves authentic Mexican food and they love to share our passion for our food and our culture. Visit at 237 Collyer Street in Longmont and select food truck pop-ups. \nhttps://eatsummittacos.com
URL:https://citystarbrewing.com/event/summit-tacos/2020-10-03/
LOCATION:321 Mountain Avenue\, Berthoud\, CO\, 80513\, United States
CATEGORIES:Events,Food Trucks
ATTACH;FMTTYPE=image/png:https://citystarbrewing.com/wp-content/uploads/2017/05/summittacos.png
END:VEVENT
BEGIN:VEVENT
DTSTART;TZID=America/Denver:20201003T180000
DTEND;TZID=America/Denver:20201003T203000
DTSTAMP:20260425T081324
CREATED:20200901T184738Z
LAST-MODIFIED:20200929T154307Z
UID:10001509-1601748000-1601757000@citystarbrewing.com
SUMMARY:Chandler Holt
DESCRIPTION:Chandler Holt’s musical odyssey began over 20 years ago from the confines of John Teer’s infamous ‘hoopty’.  The two long-time friends were riding along when Teer played a bootleg tape of the Bluegrass Album Band from a gig in Myrtle Beach in the early ‘80s.  Holt recounts\, “Something about it absolutely floored me. J.D. Crowe’s banjo instantly took hold of me and for some crazy reason I thought I could learn how to do that.  The very next day I drove to the town of Wendell\, NC and bought my first banjo.” \nFast forward to Chandler Holt now stepping into an unfamiliar role:  Producer\, writer\, and arranger of a twelve-song album on Robust Records titled Cover More Ground officially out on November 8\, 2019.  The material on Cover More Ground touches on many of the same elements as does Chatham County Line\, the NC-based band Holt performed with for two decades\, yet there is a distinct shift that proves Holt is following his own voice.  Songs like ‘Give Your Heart’ and ‘Moving On’ define Holt’s ability to write from a place that isn’t bound by genre.  ‘Been Around’\, ‘Young Man Lives\,’ and ‘Love You Tonight’ seem very personal and expose Holt’s willingness to invite listeners to understand his life from the first person.  Couple that with the fact that banjo\, guitar\, and bass all find their way into Chandler’s hands\, and you start to discover the dedication he has to his craft. \nCover More Ground features a stable of great players from both Holt’s new home in Colorado as well as his native North Carolina.  The bulk of the project was recorded at Vermillion Road Studios which is owned by renowned Colorado musical fixture and friend Eric Wiggs.  Wiggs is featured throughout the record on guitar\, mandolin\, and dobro.  “This record could never have happened without the know-how and brilliant playing from Eric Wiggs.  He is an artist in every sense of the word.  He knows how to get good sounds and is willing to try new things if he needs to find something better.” \nHolt’s NC buddies John Teer and Greg Readling (from Chatham County Line) put their stamp on the project as well as Andrew Marlin (of Mandolin Orange).   Cover More Ground is an album that loosely chronicles Holt’s journey in leaving North Carolina for his family’s new home in Colorado.  Of this\, Chandler says\, “Colorado is a wellspring of talent both musically and culturally.  There are so many inspiring musicians and songwriters all over the state\, and they helped ignite something in me that needed to get out.  I’ve found a wonderful home here is so many ways. This record shares plenty of that with the listener.” \nCover More Ground is Chandler Holt’s first album on Robust Records. \n 
URL:https://citystarbrewing.com/event/chandler-holt/
LOCATION:321 Mountain Avenue\, Berthoud\, CO\, 80513\, United States
CATEGORIES:Events,Live Music
ATTACH;FMTTYPE=image/png:https://citystarbrewing.com/wp-content/uploads/2018/01/chandlerholt.png
END:VEVENT
END:VCALENDAR