BEGIN:VCALENDAR
VERSION:2.0
PRODID:-//City Star Brewing - ECPv6.15.20//NONSGML v1.0//EN
CALSCALE:GREGORIAN
METHOD:PUBLISH
X-WR-CALNAME:City Star Brewing
X-ORIGINAL-URL:https://citystarbrewing.com
X-WR-CALDESC:Events for City Star Brewing
REFRESH-INTERVAL;VALUE=DURATION:PT1H
X-Robots-Tag:noindex
X-PUBLISHED-TTL:PT1H
BEGIN:VTIMEZONE
TZID:America/Denver
BEGIN:DAYLIGHT
TZOFFSETFROM:-0700
TZOFFSETTO:-0600
TZNAME:MDT
DTSTART:20190310T090000
END:DAYLIGHT
BEGIN:STANDARD
TZOFFSETFROM:-0600
TZOFFSETTO:-0700
TZNAME:MST
DTSTART:20191103T080000
END:STANDARD
BEGIN:DAYLIGHT
TZOFFSETFROM:-0700
TZOFFSETTO:-0600
TZNAME:MDT
DTSTART:20200308T090000
END:DAYLIGHT
BEGIN:STANDARD
TZOFFSETFROM:-0600
TZOFFSETTO:-0700
TZNAME:MST
DTSTART:20201101T080000
END:STANDARD
BEGIN:DAYLIGHT
TZOFFSETFROM:-0700
TZOFFSETTO:-0600
TZNAME:MDT
DTSTART:20210314T090000
END:DAYLIGHT
BEGIN:STANDARD
TZOFFSETFROM:-0600
TZOFFSETTO:-0700
TZNAME:MST
DTSTART:20211107T080000
END:STANDARD
END:VTIMEZONE
BEGIN:VEVENT
DTSTART;TZID=America/Denver:20200628T120000
DTEND;TZID=America/Denver:20200628T150000
DTSTAMP:20260425T131812
CREATED:20190325T202735Z
LAST-MODIFIED:20200609T220335Z
UID:10000212-1593345600-1593356400@citystarbrewing.com
SUMMARY:Ohana Eatery Brunch
DESCRIPTION:Ohana Eatery is out of Longmont is a community supported food truck that works with local businesses\, farms and artisans. They try to source as much locally as they can and have a dinner style menu that reflects their cooking career and heritage!\n\n\nSAMPLE MENU \nSky Pilot Farm Eggs and Toast           -7\nTwo Scrambled SPF Eggs Served over Butter Toasted Babette’s Pullman w/ Pickled Onions and  Local Watercress\nAdd Hazel Dell Mushroom Conserva        -4\nAdd Benton’s Aged Country Ham             -4 \nAvocado Toast                                    -7\nOrganic Hass Avocado Smashed on Toasted Babette Pullman Bread w/ Mushroom Conserva\, Local Radish\, Watercress\, Fleur de Sel and Olive Oil \nAll Day Breakfast Sandwich                        -9\nBeeler’s Maple Sausage\, SPF Fried Egg\, Cheese\, Hot Honey\, on a Organic Colorado Flour Biscuit \nRoasted Tomato Egg and Cheese              -8\nRoasted Rocky Mountain Fresh Tomato\, Sky Pilot Farm Fried Egg\, Melted Havarti\, and Zhoug on a Organic Colorado Flour Biscuit \nPlus Daily Brunch Specials!
URL:https://citystarbrewing.com/event/ohana-eatery/2020-06-28/
LOCATION:321 Mountain Avenue\, Berthoud\, CO\, 80513\, United States
CATEGORIES:Events,Food Trucks
ATTACH;FMTTYPE=image/png:https://citystarbrewing.com/wp-content/uploads/2019/03/ohana.png
END:VEVENT
BEGIN:VEVENT
DTSTART;TZID=America/Denver:20200628T170000
DTEND;TZID=America/Denver:20200628T200000
DTSTAMP:20260425T131812
CREATED:20190731T212720Z
LAST-MODIFIED:20191014T194901Z
UID:10000544-1593363600-1593374400@citystarbrewing.com
SUMMARY:Summit Tacos
DESCRIPTION:Summit Tacos proudly serves authentic Mexican food and they love to share our passion for our food and our culture. Visit at 237 Collyer Street in Longmont and select food truck pop-ups. \nhttps://eatsummittacos.com
URL:https://citystarbrewing.com/event/summit-tacos/2020-06-28/
LOCATION:321 Mountain Avenue\, Berthoud\, CO\, 80513\, United States
CATEGORIES:Events,Food Trucks
ATTACH;FMTTYPE=image/png:https://citystarbrewing.com/wp-content/uploads/2017/05/summittacos.png
END:VEVENT
BEGIN:VEVENT
DTSTART;TZID=America/Denver:20200629T170000
DTEND;TZID=America/Denver:20200629T200000
DTSTAMP:20260425T131812
CREATED:20190731T212720Z
LAST-MODIFIED:20191014T194901Z
UID:10000545-1593450000-1593460800@citystarbrewing.com
SUMMARY:Summit Tacos
DESCRIPTION:Summit Tacos proudly serves authentic Mexican food and they love to share our passion for our food and our culture. Visit at 237 Collyer Street in Longmont and select food truck pop-ups. \nhttps://eatsummittacos.com
URL:https://citystarbrewing.com/event/summit-tacos/2020-06-29/
LOCATION:321 Mountain Avenue\, Berthoud\, CO\, 80513\, United States
CATEGORIES:Events,Food Trucks
ATTACH;FMTTYPE=image/png:https://citystarbrewing.com/wp-content/uploads/2017/05/summittacos.png
END:VEVENT
BEGIN:VEVENT
DTSTART;TZID=America/Denver:20200630T170000
DTEND;TZID=America/Denver:20200630T200000
DTSTAMP:20260425T131812
CREATED:20190731T212720Z
LAST-MODIFIED:20191014T194901Z
UID:10000546-1593536400-1593547200@citystarbrewing.com
SUMMARY:Summit Tacos
DESCRIPTION:Summit Tacos proudly serves authentic Mexican food and they love to share our passion for our food and our culture. Visit at 237 Collyer Street in Longmont and select food truck pop-ups. \nhttps://eatsummittacos.com
URL:https://citystarbrewing.com/event/summit-tacos/2020-06-30/
LOCATION:321 Mountain Avenue\, Berthoud\, CO\, 80513\, United States
CATEGORIES:Events,Food Trucks
ATTACH;FMTTYPE=image/png:https://citystarbrewing.com/wp-content/uploads/2017/05/summittacos.png
END:VEVENT
BEGIN:VEVENT
DTSTART;TZID=America/Denver:20200701T170000
DTEND;TZID=America/Denver:20200701T200000
DTSTAMP:20260425T131812
CREATED:20190731T212720Z
LAST-MODIFIED:20191014T194901Z
UID:10000547-1593622800-1593633600@citystarbrewing.com
SUMMARY:Summit Tacos
DESCRIPTION:Summit Tacos proudly serves authentic Mexican food and they love to share our passion for our food and our culture. Visit at 237 Collyer Street in Longmont and select food truck pop-ups. \nhttps://eatsummittacos.com
URL:https://citystarbrewing.com/event/summit-tacos/2020-07-01/
LOCATION:321 Mountain Avenue\, Berthoud\, CO\, 80513\, United States
CATEGORIES:Events,Food Trucks
ATTACH;FMTTYPE=image/png:https://citystarbrewing.com/wp-content/uploads/2017/05/summittacos.png
END:VEVENT
BEGIN:VEVENT
DTSTART;TZID=America/Denver:20200702T170000
DTEND;TZID=America/Denver:20200702T200000
DTSTAMP:20260425T131812
CREATED:20190731T212720Z
LAST-MODIFIED:20191014T194901Z
UID:10000548-1593709200-1593720000@citystarbrewing.com
SUMMARY:Summit Tacos
DESCRIPTION:Summit Tacos proudly serves authentic Mexican food and they love to share our passion for our food and our culture. Visit at 237 Collyer Street in Longmont and select food truck pop-ups. \nhttps://eatsummittacos.com
URL:https://citystarbrewing.com/event/summit-tacos/2020-07-02/
LOCATION:321 Mountain Avenue\, Berthoud\, CO\, 80513\, United States
CATEGORIES:Events,Food Trucks
ATTACH;FMTTYPE=image/png:https://citystarbrewing.com/wp-content/uploads/2017/05/summittacos.png
END:VEVENT
BEGIN:VEVENT
DTSTART;TZID=America/Denver:20200703T170000
DTEND;TZID=America/Denver:20200703T200000
DTSTAMP:20260425T131812
CREATED:20190731T212720Z
LAST-MODIFIED:20191014T194901Z
UID:10000549-1593795600-1593806400@citystarbrewing.com
SUMMARY:Summit Tacos
DESCRIPTION:Summit Tacos proudly serves authentic Mexican food and they love to share our passion for our food and our culture. Visit at 237 Collyer Street in Longmont and select food truck pop-ups. \nhttps://eatsummittacos.com
URL:https://citystarbrewing.com/event/summit-tacos/2020-07-03/
LOCATION:321 Mountain Avenue\, Berthoud\, CO\, 80513\, United States
CATEGORIES:Events,Food Trucks
ATTACH;FMTTYPE=image/png:https://citystarbrewing.com/wp-content/uploads/2017/05/summittacos.png
END:VEVENT
BEGIN:VEVENT
DTSTART;TZID=America/Denver:20200704T170000
DTEND;TZID=America/Denver:20200704T200000
DTSTAMP:20260425T131812
CREATED:20190731T212720Z
LAST-MODIFIED:20191014T194901Z
UID:10000550-1593882000-1593892800@citystarbrewing.com
SUMMARY:Summit Tacos
DESCRIPTION:Summit Tacos proudly serves authentic Mexican food and they love to share our passion for our food and our culture. Visit at 237 Collyer Street in Longmont and select food truck pop-ups. \nhttps://eatsummittacos.com
URL:https://citystarbrewing.com/event/summit-tacos/2020-07-04/
LOCATION:321 Mountain Avenue\, Berthoud\, CO\, 80513\, United States
CATEGORIES:Events,Food Trucks
ATTACH;FMTTYPE=image/png:https://citystarbrewing.com/wp-content/uploads/2017/05/summittacos.png
END:VEVENT
END:VCALENDAR