BEGIN:VCALENDAR
VERSION:2.0
PRODID:-//City Star Brewing - ECPv6.15.20//NONSGML v1.0//EN
CALSCALE:GREGORIAN
METHOD:PUBLISH
X-WR-CALNAME:City Star Brewing
X-ORIGINAL-URL:https://citystarbrewing.com
X-WR-CALDESC:Events for City Star Brewing
REFRESH-INTERVAL;VALUE=DURATION:PT1H
X-Robots-Tag:noindex
X-PUBLISHED-TTL:PT1H
BEGIN:VTIMEZONE
TZID:America/Denver
BEGIN:DAYLIGHT
TZOFFSETFROM:-0700
TZOFFSETTO:-0600
TZNAME:MDT
DTSTART:20250309T090000
END:DAYLIGHT
BEGIN:STANDARD
TZOFFSETFROM:-0600
TZOFFSETTO:-0700
TZNAME:MST
DTSTART:20251102T080000
END:STANDARD
BEGIN:DAYLIGHT
TZOFFSETFROM:-0700
TZOFFSETTO:-0600
TZNAME:MDT
DTSTART:20260308T090000
END:DAYLIGHT
BEGIN:STANDARD
TZOFFSETFROM:-0600
TZOFFSETTO:-0700
TZNAME:MST
DTSTART:20261101T080000
END:STANDARD
BEGIN:DAYLIGHT
TZOFFSETFROM:-0700
TZOFFSETTO:-0600
TZNAME:MDT
DTSTART:20270314T090000
END:DAYLIGHT
BEGIN:STANDARD
TZOFFSETFROM:-0600
TZOFFSETTO:-0700
TZNAME:MST
DTSTART:20271107T080000
END:STANDARD
END:VTIMEZONE
BEGIN:VEVENT
DTSTART;TZID=America/Denver:20260626T150000
DTEND;TZID=America/Denver:20260626T220000
DTSTAMP:20260419T085146
CREATED:20230522T215046Z
LAST-MODIFIED:20260416T230409Z
UID:10003240-1782486000-1782511200@citystarbrewing.com
SUMMARY:Beer Release: Siesta Mexican Lager
DESCRIPTION:Brewed with Root Shoot Pilsner Malt and flaked maize giving it a light body with a crisp finish. Fermented with a classic Mexican Lager strain for a clean flavor profile. Hopped with Sterling hops for its herbal and floral notes found in classic German Noble hops but also a light citrus flavor for a bright aroma. \nCrisp\, clean\, refreshing\, low AVB\, easy drinking\, sessionable\, perfect summer crusher. Available on draft and in cans to-go.
URL:https://citystarbrewing.com/event/beer-release-siesta-mexican-lager/
CATEGORIES:Beer Releases,Events
ATTACH;FMTTYPE=image/png:https://citystarbrewing.com/wp-content/uploads/2023/05/siesta.png
END:VEVENT
BEGIN:VEVENT
DTSTART;TZID=America/Denver:20260711T180000
DTEND;TZID=America/Denver:20260711T203000
DTSTAMP:20260419T085146
CREATED:20181227T155943Z
LAST-MODIFIED:20260319T213813Z
UID:10000110-1783792800-1783801800@citystarbrewing.com
SUMMARY:Weirdgrass
DESCRIPTION:A rabble-rousing\, foot-stomping quartet that plays a variety of music – traditional old-time tunes\, rock and roll\, pop\, speed metal – all with a bluegrass flair. We play at a lot of parties\, fund raisers\, farms\, breweries\, small bars and\, if no one wants us\, Jill’s front porch. We come up with a personalized band name unique to each venue just to amuse ourselves and stay one step ahead of the sheriff\, but you can usually sniff us out on our Facebook page or on the web at theweirdgrassband.com. \nJust don’t follow too closely\, we bite. \nhttps://www.theweirdgrassband.com/
URL:https://citystarbrewing.com/event/jeremiah-jacks-and-the-fallen-stars/
CATEGORIES:Events,Live Music
ATTACH;FMTTYPE=image/jpeg:https://citystarbrewing.com/wp-content/uploads/2018/12/weirdgrass-scaled.jpeg
END:VEVENT
BEGIN:VEVENT
DTSTART;TZID=America/Denver:20260815T180000
DTEND;TZID=America/Denver:20260815T203000
DTSTAMP:20260419T085146
CREATED:20260417T135957Z
LAST-MODIFIED:20260417T135957Z
UID:10010484-1786816800-1786825800@citystarbrewing.com
SUMMARY:Christie Huff | On Tour
DESCRIPTION:Christie Huff is a country singer songwriter who brings a touch of pop to her soulful sound. She’s an LA girl now\, but attributes her country background to her childhood in Arizona. Consistent trips to Nashville to co-write with other country songwriters keep her country ties strong. She is currently working on releasing singles consistently. Christie is well-known in LA and Orange County\, and she now performs her original songs both acoustically and with her band. She has performed all over the U.S. and played many historic spots in LA including: Hotel Café\, The Mint and The Viper Room. Touring multiple times a year\, Christie knows what hard work and dedication mean. \nHer recent releases ‘Halfway Fell” and “Palm Reader” both gained over 1 million Streams and were featured on the Hot Country Spotify Playlist\, while her prior release ‘Black and White’ is at a lifetime stream count of 3 Million. “Black and White” and “Palm Reader” were also featured on the Soundcheck and Country Risers Apple Music Playlists. Her release ‘Urban Love’ was the one that kicked her Spotify success off\, having been picked up on New Music Nashville and holding the playlist for four straight weeks. Her songs have been featured on many high-profile playlists including: New Boots\, Hot Country and Wild Country. Christie is also currently on the PopCo playlist cover image. \nChristie not only has had success in the streaming world\, but also in her live performances. She has gotten to open up for some of the biggest names in country music. Those artists include Jason Aldean\, Billy Currington\, Kip Moore\, Toby Keith\, and Bebe Rexha. \nChristie splits her time between LA and Nashville and is active in both performing and writing. She was recently featured on ‘The Ty Bentli Show’ giving a 10 Minute Tune about Super Bowl 54 Commercials. Her first full band show was at the famous Whiskey Jam\, where her music was met with great acceptance. \nhttps://www.christiehuff.com
URL:https://citystarbrewing.com/event/christie-huff-on-tour/
CATEGORIES:Events,Live Music
ATTACH;FMTTYPE=image/jpeg:https://citystarbrewing.com/wp-content/uploads/2026/04/christiehuff-copy.jpg
END:VEVENT
END:VCALENDAR