BEGIN:VCALENDAR
VERSION:2.0
PRODID:-//City Star Brewing - ECPv6.15.20//NONSGML v1.0//EN
CALSCALE:GREGORIAN
METHOD:PUBLISH
X-ORIGINAL-URL:https://citystarbrewing.com
X-WR-CALDESC:Events for City Star Brewing
REFRESH-INTERVAL;VALUE=DURATION:PT1H
X-Robots-Tag:noindex
X-PUBLISHED-TTL:PT1H
BEGIN:VTIMEZONE
TZID:America/Denver
BEGIN:DAYLIGHT
TZOFFSETFROM:-0700
TZOFFSETTO:-0600
TZNAME:MDT
DTSTART:20250309T090000
END:DAYLIGHT
BEGIN:STANDARD
TZOFFSETFROM:-0600
TZOFFSETTO:-0700
TZNAME:MST
DTSTART:20251102T080000
END:STANDARD
BEGIN:DAYLIGHT
TZOFFSETFROM:-0700
TZOFFSETTO:-0600
TZNAME:MDT
DTSTART:20260308T090000
END:DAYLIGHT
BEGIN:STANDARD
TZOFFSETFROM:-0600
TZOFFSETTO:-0700
TZNAME:MST
DTSTART:20261101T080000
END:STANDARD
BEGIN:DAYLIGHT
TZOFFSETFROM:-0700
TZOFFSETTO:-0600
TZNAME:MDT
DTSTART:20270314T090000
END:DAYLIGHT
BEGIN:STANDARD
TZOFFSETFROM:-0600
TZOFFSETTO:-0700
TZNAME:MST
DTSTART:20271107T080000
END:STANDARD
END:VTIMEZONE
BEGIN:VEVENT
DTSTART;TZID=America/Denver:20260421T160000
DTEND;TZID=America/Denver:20260421T200000
DTSTAMP:20260420T102943
CREATED:20250523T182702Z
LAST-MODIFIED:20260323T205217Z
UID:10010404-1776787200-1776801600@citystarbrewing.com
SUMMARY:Southern Soul
DESCRIPTION:
URL:https://citystarbrewing.com/event/southern-soul/2026-04-21/
CATEGORIES:Food Trucks
ATTACH;FMTTYPE=image/jpeg:https://citystarbrewing.com/wp-content/uploads/2025/05/download.jpeg
END:VEVENT
BEGIN:VEVENT
DTSTART;TZID=America/Denver:20260421T180000
DTEND;TZID=America/Denver:20260421T200000
DTSTAMP:20260420T102943
CREATED:20220124T175122Z
LAST-MODIFIED:20250106T215223Z
UID:10004006-1776794400-1776801600@citystarbrewing.com
SUMMARY:Humdinger Trivia
DESCRIPTION:Come and get your brain going with us at Humdinger Trivia! Hosted by Berthoud locals\, Erin and Jacob Crabtree. It’s FREE to play and you could win $30 in City Star beer. The fun starts at 6pm every Tuesday in the beer garden. *limit 6 per team \nCheck out the food truck schedule to see who will be serving dinner out front.
URL:https://citystarbrewing.com/event/humdinger-trivia/2026-04-21/
CATEGORIES:Events,Taproom Events
ATTACH;FMTTYPE=image/png:https://citystarbrewing.com/wp-content/uploads/2022/01/Screen-Shot-2022-01-24-at-10.43.52-AM-e1643046764674.png
END:VEVENT
BEGIN:VEVENT
DTSTART;TZID=America/Denver:20260422T160000
DTEND;TZID=America/Denver:20260422T200000
DTSTAMP:20260420T102943
CREATED:20251002T192054Z
LAST-MODIFIED:20260210T231352Z
UID:10008763-1776873600-1776888000@citystarbrewing.com
SUMMARY:Nacho Mama's Tacos
DESCRIPTION:Food Truck in Boulder County CO. Specializing in Fresh Authentic Mexican Food that will blow your mind (and mouth)! Phone in orders welcome: 303-489-4307 \nCheck out their menu here! \nhttps://www.facebook.com/nachomamastacos.CO/
URL:https://citystarbrewing.com/event/nacho-mamas-tacos-3-2/2026-04-22/
CATEGORIES:Events,Food Trucks
ATTACH;FMTTYPE=image/jpeg:https://citystarbrewing.com/wp-content/uploads/2019/02/nachomamas.jpg
END:VEVENT
BEGIN:VEVENT
DTSTART;TZID=America/Denver:20260422T180000
DTEND;TZID=America/Denver:20260422T203000
DTSTAMP:20260420T102943
CREATED:20250327T143033Z
LAST-MODIFIED:20250428T174454Z
UID:10007647-1776880800-1776889800@citystarbrewing.com
SUMMARY:Cribbage Night
DESCRIPTION:We’re playing cribbage at City Star on the 2nd and 4th Wednesday every month! Free to enter\, beer prizes\, bring a board and deck of cards. Sign up by 5:45 – play starts at 6pm.
URL:https://citystarbrewing.com/event/cribbage-tournament/2026-04-22/
CATEGORIES:Events,Taproom Events
ATTACH;FMTTYPE=image/png:https://citystarbrewing.com/wp-content/uploads/2025/04/Cribbage_Nite_Photo.png
END:VEVENT
BEGIN:VEVENT
DTSTART;TZID=America/Denver:20260423T160000
DTEND;TZID=America/Denver:20260423T200000
DTSTAMP:20260420T102943
CREATED:20221227T155123Z
LAST-MODIFIED:20240201T181557Z
UID:10004290-1776960000-1776974400@citystarbrewing.com
SUMMARY:Stick Around Skewers
DESCRIPTION:FLAME FINISHED STICKS & SKEWERS \nStick Around is a locally owned and operated Food Truck based in Boulder\, Colorado. Focusing on the worlds most traditional form of BBQ\, Skewers & kebabs! Stick Around brings something to the table for everybody. Take a look at our menu to see if you can find something that fits your style! \nMENU: https://www.stickaroundskewers.com/menu
URL:https://citystarbrewing.com/event/stick-around-skewers-4/2026-04-23/
CATEGORIES:Events,Food Trucks
ATTACH;FMTTYPE=image/jpeg:https://citystarbrewing.com/wp-content/uploads/2021/05/stickaround.jpg
END:VEVENT
BEGIN:VEVENT
DTSTART;TZID=America/Denver:20260423T180000
DTEND;TZID=America/Denver:20260423T190000
DTSTAMP:20260420T102943
CREATED:20190430T154037Z
LAST-MODIFIED:20240208T204450Z
UID:10005228-1776967200-1776970800@citystarbrewing.com
SUMMARY:Social Run
DESCRIPTION:We’re running! Meet at the brewery for a City Star Social Run Thursday evenings at 6pm. Two distance options: strollers\, dogs\, speed walkers\, marathon runners.. bring it on! $3 post run beer waiting for you after the run. BYO headlamp!
URL:https://citystarbrewing.com/event/social-run/2026-04-23/
CATEGORIES:Events,Taproom Events
ATTACH;FMTTYPE=image/png:https://citystarbrewing.com/wp-content/uploads/2019/04/social-run.png
END:VEVENT
BEGIN:VEVENT
DTSTART;TZID=America/Denver:20260424T150000
DTEND;TZID=America/Denver:20260424T210000
DTSTAMP:20260420T102943
CREATED:20230403T183231Z
LAST-MODIFIED:20260403T203458Z
UID:10002323-1777042800-1777064400@citystarbrewing.com
SUMMARY:Beer Release: Coco Loco
DESCRIPTION:IPA with flaked coconut.\nAvailable on draft and in cans to-go.
URL:https://citystarbrewing.com/event/beer-release-coco-loco-2/
CATEGORIES:Beer Releases,Events
ATTACH;FMTTYPE=image/jpeg:https://citystarbrewing.com/wp-content/uploads/2022/04/CocoLocoSquare.jpg
END:VEVENT
BEGIN:VEVENT
DTSTART;TZID=America/Denver:20260424T160000
DTEND;TZID=America/Denver:20260424T200000
DTSTAMP:20260420T102943
CREATED:20240710T175344Z
LAST-MODIFIED:20260417T224748Z
UID:10010405-1777046400-1777060800@citystarbrewing.com
SUMMARY:Mixed and Mashed
DESCRIPTION:To provide wholesome\, satisfying meals at an excellent value\, redefining the concept of a nourishing dining experience. Our commitment is to offer heartwarming and more fulfilling options\, making every dollar spent with us a rewarding indulgence.
URL:https://citystarbrewing.com/event/mixed-and-mashed/2026-04-24/
CATEGORIES:Food Trucks
ATTACH;FMTTYPE=image/png:https://citystarbrewing.com/wp-content/uploads/2024/07/unnamed.png
END:VEVENT
BEGIN:VEVENT
DTSTART;TZID=America/Denver:20260424T180000
DTEND;TZID=America/Denver:20260424T203000
DTSTAMP:20260420T102943
CREATED:20220409T212530Z
LAST-MODIFIED:20260325T190636Z
UID:10007695-1777053600-1777062600@citystarbrewing.com
SUMMARY:Orchard Creek Band
DESCRIPTION:Orchard Creek Collective will take the stage at City Star Brewing in Berthoud\, CO\, on Friday\, March 21\, from 6:00 to 8:30 PM. The lineup features Keith Murdock (vocals & dobro) Jim Bertolin (vocals & banjo)\, Jon Sherman (mandolin & guitar)\, and Amy Glenney (vocals & bass). Expect a lively mix of classic bluegrass covers\, originals\, and more. City Star boasts a bustling atmosphere\, a full bar\, and a food truck parked out front\, making it the perfect spot for an evening of great music and good company. \nhttps://www.orchardcreekband.com
URL:https://citystarbrewing.com/event/orchard-creek-band/
CATEGORIES:Events,Live Music
ATTACH;FMTTYPE=image/png:https://citystarbrewing.com/wp-content/uploads/2022/04/OCB-Anderson-Pub-AI.png
END:VEVENT
BEGIN:VEVENT
DTSTART;TZID=America/Denver:20260425T120000
DTEND;TZID=America/Denver:20260425T200000
DTSTAMP:20260420T102943
CREATED:20260330T173526Z
LAST-MODIFIED:20260330T173526Z
UID:10010477-1777118400-1777147200@citystarbrewing.com
SUMMARY:Bayou Smokehouse
DESCRIPTION:Favorites such as Jambalaya\, Red Beans & Rice\, and Crawfish Étouffée. We have also expanded the menu to include smoked offerings like Pork Belly Bites\, Smoked Chicken Wings\, and Shrimp & Grits\, blending Cajun comfort with Southern smoke. \nWe focus on efficient service\, strong presentation\, and a menu that pairs well with craft beer.
URL:https://citystarbrewing.com/event/bayou-smokehouse/
CATEGORIES:Food Trucks
ATTACH;FMTTYPE=image/webp:https://citystarbrewing.com/wp-content/uploads/2026/03/bayou-smokehouse-logo.webp
END:VEVENT
BEGIN:VEVENT
DTSTART;TZID=America/Denver:20260425T180000
DTEND;TZID=America/Denver:20260425T203000
DTSTAMP:20260420T102943
CREATED:20181226T214626Z
LAST-MODIFIED:20260417T133833Z
UID:10002107-1777140000-1777149000@citystarbrewing.com
SUMMARY:Jon Garson and Late For Supper
DESCRIPTION:Jon Garson and Late for Supper evolved out of a three year Friday night jam which took place at Jon’s Boulder home called POS (pickin on the strings) around 2014. Jon had the vision for LFS based on what he calls a “fluid band model\,” a couple of core members joined by a changing blend of other musicians. Fronted by Jon Garson on upright bass\, guitar\, and vocals\, Late for Supper draws from a who’s who of Colorado roots music bands. Members of The Railsplitters\, Masontown\, Monocle Band\, Road West\, Halden Wofford & the Hi-Beams\, The Western Flyers\, Flat Five\, The Matt Flinner Trio\, are frequent staples of LFS gigs.\n\n\n\n\nLFS is unique. It combines high level musicianship and high degree of fun\, with an uncomplicated and low stress dynamic. LFS plays local venues\, with front man Jon Garson also handling the bookings\, sound equipment and other details. Many of these folks have played multiple LFS shows over the years in addition to holding their primary musical commitments\, teaching music\, and touring with their bands nationally and internationally. But above all they are friends\, some for many years. Some have been in bands together. When their schedules allow\, these excellent folks may take a Late for Supper gig. They embrace the opportunity to perform with pals they haven’t gigged with for some time\, to connect in the way they love\, through music\, on stage together and\, of course\, in front of a appreciative audience.\n\nLate for Supper plays locally around the Front Range and Denver and can be called upon for all types of events. From 3 to 5 pieces\, you’ll hear LFS’s great harmonies\, smooth licks and see their heartfelt camaraderie always!\nBluegrass • Americana • Honky Tonk • Swing
URL:https://citystarbrewing.com/event/late-for-supper/
CATEGORIES:Events,Live Music
ATTACH;FMTTYPE=image/jpeg:https://citystarbrewing.com/wp-content/uploads/2018/12/lateforsupper-1.jpg
END:VEVENT
BEGIN:VEVENT
DTSTART;TZID=America/Denver:20260426T120000
DTEND;TZID=America/Denver:20260426T200000
DTSTAMP:20260420T102943
CREATED:20230514T014207Z
LAST-MODIFIED:20260327T161004Z
UID:10009686-1777204800-1777233600@citystarbrewing.com
SUMMARY:The Taco Man
DESCRIPTION:The Taco Man serves awesome food guaranteed. The freshest ingredients\, from meat to produce. Real food with real taste. The Taco Man strives to serve the best tacos in northern Colorado.
URL:https://citystarbrewing.com/event/the-taco-man-2/2026-04-26/
CATEGORIES:Events,Food Trucks
ATTACH;FMTTYPE=image/jpeg:https://citystarbrewing.com/wp-content/uploads/2020/05/tacoman.jpg
END:VEVENT
BEGIN:VEVENT
DTSTART;TZID=America/Denver:20260426T170000
DTEND;TZID=America/Denver:20260426T193000
DTSTAMP:20260420T102943
CREATED:20190531T040230Z
LAST-MODIFIED:20260325T185715Z
UID:10002329-1777222800-1777231800@citystarbrewing.com
SUMMARY:David Tilmon
DESCRIPTION:David Tilmon is a seasoned fingerstyle guitarist based in Colorado\, with over a decade of experience performing regularly and captivating audiences through his intricate playing and heartfelt compositions. Known for his expressive fingerstyle technique\, David’s performances resonate with both technical skill and emotional depth. His music\, often drawing inspiration from Colorado’s natural landscapes\, blends folk\, classical\, jazz\, and Americana influences\, creating a rich and dynamic soundscape. David’s dedication to his craft and unique musical voice make him a standout figure in the acoustic music scene. \nDavid’s expansive repertoire includes dozens of original compositions as well as arrangements and covers of popular songs from a wide array of genres. His performances are primarily instrumental\, but he interweaves singing and his own original songs within an expansive setlist with wide appeal. \nDavid’s approach to playing the guitar is similar to the classical approach of playing the instrument with the fingers rather than a guitar pick\, and is heavily influenced by early fingerstyle guitarists such as Chet Atkins. However\, he is influenced by several genres and more contemporary fingerstyle guitarists such as Tommy Emmanuel as well as many other guitarists including Pat Metheny\, Eric Johnson\, and Jeff Beck. Although having a strong emphasis on instrumental music\, he also incorporates and is greatly influenced by many different artists including some of his favorite singer-songwriters; Neil Young\, Tom Petty\, and Tom Waits. \nhttps://davidtilmon.com/
URL:https://citystarbrewing.com/event/david-tilmon/2026-04-26/
CATEGORIES:Events,Live Music
ATTACH;FMTTYPE=image/jpeg:https://citystarbrewing.com/wp-content/uploads/2019/05/david-tillmon.jpg
END:VEVENT
BEGIN:VEVENT
DTSTART;TZID=America/Denver:20260428T160000
DTEND;TZID=America/Denver:20260428T200000
DTSTAMP:20260420T102943
CREATED:20230406T180306Z
LAST-MODIFIED:20240301T194143Z
UID:10005602-1777392000-1777406400@citystarbrewing.com
SUMMARY:Stick Around Skewers
DESCRIPTION:FLAME FINISHED STICKS & SKEWERS \nStick Around is a locally owned and operated Food Truck based in Boulder\, Colorado. Focusing on the worlds most traditional form of BBQ\, Skewers & kebabs! Stick Around brings something to the table for everybody. Take a look at our menu to see if you can find something that fits your style! \nMENU: https://www.stickaroundskewers.com/menu
URL:https://citystarbrewing.com/event/stick-around-skewers-4-2/2026-04-28/
CATEGORIES:Events,Food Trucks
ATTACH;FMTTYPE=image/jpeg:https://citystarbrewing.com/wp-content/uploads/2021/05/stickaround.jpg
END:VEVENT
BEGIN:VEVENT
DTSTART;TZID=America/Denver:20260428T180000
DTEND;TZID=America/Denver:20260428T200000
DTSTAMP:20260420T102943
CREATED:20220124T175122Z
LAST-MODIFIED:20250106T215223Z
UID:10004007-1777399200-1777406400@citystarbrewing.com
SUMMARY:Humdinger Trivia
DESCRIPTION:Come and get your brain going with us at Humdinger Trivia! Hosted by Berthoud locals\, Erin and Jacob Crabtree. It’s FREE to play and you could win $30 in City Star beer. The fun starts at 6pm every Tuesday in the beer garden. *limit 6 per team \nCheck out the food truck schedule to see who will be serving dinner out front.
URL:https://citystarbrewing.com/event/humdinger-trivia/2026-04-28/
CATEGORIES:Events,Taproom Events
ATTACH;FMTTYPE=image/png:https://citystarbrewing.com/wp-content/uploads/2022/01/Screen-Shot-2022-01-24-at-10.43.52-AM-e1643046764674.png
END:VEVENT
BEGIN:VEVENT
DTSTART;TZID=America/Denver:20260429T150000
DTEND;TZID=America/Denver:20260429T210000
DTSTAMP:20260420T102943
CREATED:20230320T142004Z
LAST-MODIFIED:20260316T223111Z
UID:10002289-1777474800-1777496400@citystarbrewing.com
SUMMARY:Colorado Pint Day
DESCRIPTION:Raise a pint in support of Colorado beer! $1 from each limited edition glass goes to Colorado Brewers Guild which is instrumental in keeping breweries operational. \nGlass sales launch in the taproom 3pm of Colorado Pint Day\, Wednesday 4/29. $10 glass + first beer.
URL:https://citystarbrewing.com/event/colorado-pint-day-2/
LOCATION:city star brewing\, 321 Mountain Avenue\, Berthoud\, CO\, 80513\, United States
CATEGORIES:Events,Taproom Events
ATTACH;FMTTYPE=image/webp:https://citystarbrewing.com/wp-content/uploads/2023/03/copintday26_pdp-e1773700251731.webp
END:VEVENT
BEGIN:VEVENT
DTSTART;TZID=America/Denver:20260429T160000
DTEND;TZID=America/Denver:20260429T200000
DTSTAMP:20260420T102943
CREATED:20190124T203751Z
LAST-MODIFIED:20260223T185919Z
UID:10009427-1777478400-1777492800@citystarbrewing.com
SUMMARY:Double Wide Burgers
DESCRIPTION:Double Wide Burgers is proudly serving Colorado dry aged beef and other delicious eats. We make everything fresh to order using high quality ingredients. Eat local and know where your food is coming from.
URL:https://citystarbrewing.com/event/dans-van-food-truck/2026-04-29/
CATEGORIES:Events,Food Trucks
ATTACH;FMTTYPE=image/png:https://citystarbrewing.com/wp-content/uploads/2019/01/Double-Wide-.png
END:VEVENT
BEGIN:VEVENT
DTSTART;TZID=America/Denver:20260430T160000
DTEND;TZID=America/Denver:20260430T200000
DTSTAMP:20260420T102943
CREATED:20250505T235038Z
LAST-MODIFIED:20260223T222222Z
UID:10010071-1777564800-1777579200@citystarbrewing.com
SUMMARY:Yes Chef
DESCRIPTION:Husband and Wife Chefs creating fun and flavorful food to satisfy every palate!\nWagyu Burgers\, Gyros\, Fried Curds and always a few fun surprises to try.
URL:https://citystarbrewing.com/event/yes-chef/2026-04-30/
CATEGORIES:Food Trucks
ATTACH;FMTTYPE=image/webp:https://citystarbrewing.com/wp-content/uploads/2025/05/yes-chef.webp
END:VEVENT
BEGIN:VEVENT
DTSTART;TZID=America/Denver:20260430T180000
DTEND;TZID=America/Denver:20260430T190000
DTSTAMP:20260420T102943
CREATED:20190430T154037Z
LAST-MODIFIED:20240208T204450Z
UID:10005229-1777572000-1777575600@citystarbrewing.com
SUMMARY:Social Run
DESCRIPTION:We’re running! Meet at the brewery for a City Star Social Run Thursday evenings at 6pm. Two distance options: strollers\, dogs\, speed walkers\, marathon runners.. bring it on! $3 post run beer waiting for you after the run. BYO headlamp!
URL:https://citystarbrewing.com/event/social-run/2026-04-30/
CATEGORIES:Events,Taproom Events
ATTACH;FMTTYPE=image/png:https://citystarbrewing.com/wp-content/uploads/2019/04/social-run.png
END:VEVENT
END:VCALENDAR