BEGIN:VCALENDAR
VERSION:2.0
PRODID:-//City Star Brewing - ECPv6.15.20//NONSGML v1.0//EN
CALSCALE:GREGORIAN
METHOD:PUBLISH
X-ORIGINAL-URL:https://citystarbrewing.com
X-WR-CALDESC:Events for City Star Brewing
REFRESH-INTERVAL;VALUE=DURATION:PT1H
X-Robots-Tag:noindex
X-PUBLISHED-TTL:PT1H
BEGIN:VTIMEZONE
TZID:America/Denver
BEGIN:DAYLIGHT
TZOFFSETFROM:-0700
TZOFFSETTO:-0600
TZNAME:MDT
DTSTART:20220313T090000
END:DAYLIGHT
BEGIN:STANDARD
TZOFFSETFROM:-0600
TZOFFSETTO:-0700
TZNAME:MST
DTSTART:20221106T080000
END:STANDARD
BEGIN:DAYLIGHT
TZOFFSETFROM:-0700
TZOFFSETTO:-0600
TZNAME:MDT
DTSTART:20230312T090000
END:DAYLIGHT
BEGIN:STANDARD
TZOFFSETFROM:-0600
TZOFFSETTO:-0700
TZNAME:MST
DTSTART:20231105T080000
END:STANDARD
BEGIN:DAYLIGHT
TZOFFSETFROM:-0700
TZOFFSETTO:-0600
TZNAME:MDT
DTSTART:20240310T090000
END:DAYLIGHT
BEGIN:STANDARD
TZOFFSETFROM:-0600
TZOFFSETTO:-0700
TZNAME:MST
DTSTART:20241103T080000
END:STANDARD
END:VTIMEZONE
BEGIN:VEVENT
DTSTART;TZID=America/Denver:20230901T160000
DTEND;TZID=America/Denver:20230901T200000
DTSTAMP:20260420T134114
CREATED:20221202T202704Z
LAST-MODIFIED:20230703T175004Z
UID:10004329-1693584000-1693598400@citystarbrewing.com
SUMMARY:Stick Around Skewers
DESCRIPTION:FLAME FINISHED STICKS & SKEWERS \nStick Around is a locally owned and operated Food Truck based in Boulder\, Colorado. Focusing on the worlds most traditional form of BBQ\, Skewers & kebabs! Stick Around brings something to the table for everybody. Take a look at our menu to see if you can find something that fits your style! \nMENU: https://www.stickaroundskewers.com/menu
URL:https://citystarbrewing.com/event/stick-around-skewers-3/2023-09-01/
LOCATION:CO
CATEGORIES:Events,Food Trucks
ATTACH;FMTTYPE=image/jpeg:https://citystarbrewing.com/wp-content/uploads/2021/05/stickaround.jpg
END:VEVENT
BEGIN:VEVENT
DTSTART;TZID=America/Denver:20230904T110000
DTEND;TZID=America/Denver:20230904T180000
DTSTAMP:20260420T134114
CREATED:20210905T223658Z
LAST-MODIFIED:20230219T185810Z
UID:10001730-1693825200-1693850400@citystarbrewing.com
SUMMARY:Taproom Special Hours
DESCRIPTION:Happy Labor Day!! The taproom will be opening early for Flap Jack day\, come and enjoy free flap jacks\, live music\, vintage car show and more 11-6pm.\n\nHours: 11pm-6pm
URL:https://citystarbrewing.com/event/taproom-special-hours/
LOCATION:CO
CATEGORIES:Events,Taproom Events
ATTACH;FMTTYPE=image/jpeg:https://citystarbrewing.com/wp-content/uploads/2021/09/istockphoto-1265691940-612x612-1.jpg
END:VEVENT
BEGIN:VEVENT
DTSTART;TZID=America/Denver:20230905T180000
DTEND;TZID=America/Denver:20230905T200000
DTSTAMP:20260420T134114
CREATED:20220124T175122Z
LAST-MODIFIED:20250106T215223Z
UID:10003869-1693936800-1693944000@citystarbrewing.com
SUMMARY:Humdinger Trivia
DESCRIPTION:Come and get your brain going with us at Humdinger Trivia! Hosted by Berthoud locals\, Erin and Jacob Crabtree. It’s FREE to play and you could win $30 in City Star beer. The fun starts at 6pm every Tuesday in the beer garden. *limit 6 per team \nCheck out the food truck schedule to see who will be serving dinner out front.
URL:https://citystarbrewing.com/event/humdinger-trivia/2023-09-05/
CATEGORIES:Events,Taproom Events
ATTACH;FMTTYPE=image/png:https://citystarbrewing.com/wp-content/uploads/2022/01/Screen-Shot-2022-01-24-at-10.43.52-AM-e1643046764674.png
END:VEVENT
BEGIN:VEVENT
DTSTART;TZID=America/Denver:20230908T150000
DTEND;TZID=America/Denver:20230908T210000
DTSTAMP:20260420T134114
CREATED:20190416T214039Z
LAST-MODIFIED:20230828T132428Z
UID:10000225-1694185200-1694206800@citystarbrewing.com
SUMMARY:Beer Release: Harley's Honey Wheat
DESCRIPTION:American wheat brewed with wildflower honey and orange peel. This brew is named after Harley\, spokes-dog against puppy mills. Harley’s will be releasing on tap only in taproom on 9/8. Cans to drink will be for sale at the Puppy Mill Awareness Day event in Fickel Park on 9/9. \nYou can read more about Harley’s Dream here. 
URL:https://citystarbrewing.com/event/beer-release-harleys-honey-wheat/
CATEGORIES:Beer Releases,Events
ATTACH;FMTTYPE=image/png:https://citystarbrewing.com/wp-content/uploads/2019/04/Screen-Shot-2021-05-28-at-11.04.07-AM.png
END:VEVENT
BEGIN:VEVENT
DTSTART;TZID=America/Denver:20230909T120000
DTEND;TZID=America/Denver:20230909T200000
DTSTAMP:20260420T134114
CREATED:20181128T060314Z
LAST-MODIFIED:20241203T220750Z
UID:10003113-1694260800-1694289600@citystarbrewing.com
SUMMARY:Sweaty Moose
DESCRIPTION:Sweaty Moose MENU: www.sweatymoose.com
URL:https://citystarbrewing.com/event/sweaty-moose/2023-09-09/
CATEGORIES:Events,Food Trucks
ATTACH;FMTTYPE=image/jpeg:https://citystarbrewing.com/wp-content/uploads/2017/10/sweaty-moose.jpg
END:VEVENT
BEGIN:VEVENT
DTSTART;TZID=America/Denver:20230909T180000
DTEND;TZID=America/Denver:20230909T203000
DTSTAMP:20260420T134114
CREATED:20230725T213223Z
LAST-MODIFIED:20230725T213223Z
UID:10004473-1694282400-1694291400@citystarbrewing.com
SUMMARY:Jim Jamm Jimmy
DESCRIPTION:We call it….Loungeabilly \nAs a professional musician for thirty five years\, Jimmy Kolodziej of Jim Jamm Jimmy has long entertained and engaged fans with his high energy Rockabilly stylings.  Throughout the years\, opening for such acts as The Brian Setzer Orchestra\, Wanda Jackson\, Link Wray\, Dave Alvin and the Guilty Men\, The B-52’s\, The Legendary Shack Shakers and Jason Ringenberg to name a few\, Jimmy has played an intense Upright Slap Bass that keeps fans wanting more.  Today\, Jimmy has infused the best of these experiences and combined them with his own unique performance to bring you a soulful\, energetic Rockabilly style that’s all his own.  Writing his own music and lyrics\, Jimmy’s new show features his own musical talents on guitar\, bass drum\, hi hat and vocals.  Edgy and seductive\, all Jimmy’s songs are original and stripped down…just like Rockabilly should be. \nhttps://jimjammjimmy.com
URL:https://citystarbrewing.com/event/jim-jamm-jimmy/
LOCATION:CO
CATEGORIES:Events,Live Music
ATTACH;FMTTYPE=image/jpeg:https://citystarbrewing.com/wp-content/uploads/2023/07/jimjammjimmy.jpg
END:VEVENT
BEGIN:VEVENT
DTSTART;TZID=America/Denver:20230912T180000
DTEND;TZID=America/Denver:20230912T200000
DTSTAMP:20260420T134114
CREATED:20220124T175122Z
LAST-MODIFIED:20250106T215223Z
UID:10003870-1694541600-1694548800@citystarbrewing.com
SUMMARY:Humdinger Trivia
DESCRIPTION:Come and get your brain going with us at Humdinger Trivia! Hosted by Berthoud locals\, Erin and Jacob Crabtree. It’s FREE to play and you could win $30 in City Star beer. The fun starts at 6pm every Tuesday in the beer garden. *limit 6 per team \nCheck out the food truck schedule to see who will be serving dinner out front.
URL:https://citystarbrewing.com/event/humdinger-trivia/2023-09-12/
CATEGORIES:Events,Taproom Events
ATTACH;FMTTYPE=image/png:https://citystarbrewing.com/wp-content/uploads/2022/01/Screen-Shot-2022-01-24-at-10.43.52-AM-e1643046764674.png
END:VEVENT
BEGIN:VEVENT
DTSTART;TZID=America/Denver:20230914T160000
DTEND;TZID=America/Denver:20230914T200000
DTSTAMP:20260420T134114
CREATED:20221227T155123Z
LAST-MODIFIED:20240201T181557Z
UID:10004256-1694707200-1694721600@citystarbrewing.com
SUMMARY:Stick Around Skewers
DESCRIPTION:FLAME FINISHED STICKS & SKEWERS \nStick Around is a locally owned and operated Food Truck based in Boulder\, Colorado. Focusing on the worlds most traditional form of BBQ\, Skewers & kebabs! Stick Around brings something to the table for everybody. Take a look at our menu to see if you can find something that fits your style! \nMENU: https://www.stickaroundskewers.com/menu
URL:https://citystarbrewing.com/event/stick-around-skewers-4/2023-09-14/
CATEGORIES:Events,Food Trucks
ATTACH;FMTTYPE=image/jpeg:https://citystarbrewing.com/wp-content/uploads/2021/05/stickaround.jpg
END:VEVENT
BEGIN:VEVENT
DTSTART;TZID=America/Denver:20230915T160000
DTEND;TZID=America/Denver:20230915T200000
DTSTAMP:20260420T134114
CREATED:20230501T172024Z
LAST-MODIFIED:20241026T164434Z
UID:10004548-1694793600-1694808000@citystarbrewing.com
SUMMARY:Joe Zeppys
DESCRIPTION:MENU\n\n\n\n\n\n\n\n\nBREAKFAST ITEMS\n\n\n\n\n\n\n\nBACON\, EGG & CHEESE 9\n\n\n\n\nServed on a toasted Kaiser roll with fried egg\, bacon and American cheese. Served with a hash brown on the side \n\n\n\n\n\n\n\n\n\n\nSAUSAGE\, EGG & CHEESE 9\n\n\n\n\nServed on a toasted Kaiser roll with fried egg\, sausage  and American cheese. Served with a hash brown on the side \n\n\n\n\n\n\n\n\n\n\nTAYLOR HAM\, EGG & CHEESE 9\n\n\n\n\nServed on a toasted Kaiser roll with fried egg\, Taylor ham  and American cheese. Served with a hash brown on the side \n\n\n\n\n\n\n\n\n\n\nVEGGIE SAUSAGE\, EGG & CHEESE 8\n\n\n\n\nServed on a toasted Kaiser roll with fried egg\, veggie sausage  and American cheese. Served with a hash brown on the side \n\n\n\n\n\n\n\n\n\n\nEGG & CHEESE 7\n\n\n\n\nServed on a toasted Kaiser roll with fried egg and American cheese. Served with a hash brown on the side \n\n\n\n\n\n\n\n\n\n\n\n\n\n\n\n\nSHARABLE STARTERS\n\n\nStarters feed 1-2 people \n\n\n\n\n\n\n\nMOZZARELLA STICKS 6\n\n\n\n\n Fried mozzarella sticks (6)\, marinara sauce \n\n\n\n\n\n\n\n\n\n\nZUCCHINI FRIES 7\n\n\n\n\n Fried zucchini sticks drizzled with roasted red pepper aioli & Pecorino Romano cheese \n\n\n\n\n\n\n\n\n\n\nEGGPLANT TOWER 9\n\n\n\n\n Fried eggplant stacked and layered with marinara\, Pecorino Romano and fresh Mozzarella cheeses (VE) \n\n\n\n\n\n\n\n\n\n\nSEASONAL BRUSCHETTA\n\n\n\n\nSeasonal bruschetta with crostini (VG) \ngf* upon request \n\n\n\n\n\n\n\n\n\n\n\n\n\n\n\n\nSANDWICHES\n\n\nAll sandwiches are served hot with chips. Make it a GF spinach bowl for $2.50! \n\n\n\n\n\n\n\nITALIAN BEEF SANDWICH 15\n\n\n\n\n House made thinly sliced beef in jus gravy\, sweet and hot peppers\, grilled onions on a hoagie roll with a side of jus gravy for dunking! Add cheese +$.75 \n\n\n\n\n\n\n\n\n\n\nSAUSAGE\, PEPPERS & ONIONS (SPO) 14\n\n\n\n\nGodfather Style – Spicy Italian sausage\, grilled peppers and onions on a hoagie roll \nGodmother Style – Spicy Italian sausage\, grilled peppers and onions\, marinara sauce and fresh mozzarella \n\n\n\n\n\n\n\n\n\n\nCHICKEN PESTO 14\n\n\n\n\nGrilled chicken breast thinly sliced\, roasted red peppers\, fresh Mozzarella cheese\, house made pesto aioli on a hoagie roll \n\n\n\n\n\n\n\n\n\n\nEGGPLANT PARM 13\n\n\n\n\n Fried eggplant\, marinara sauce\, fresh Mozzarella\, Pecorino Romano cheese on a hoagie roll (NOT available gf) \n\n\n\n\n\n\n\n\n\n\nVEGAN PANINI 12\n\n\n\n\n Marinated Portabella mushroom\, roasted red peppers\, spinach\, balsamic vinegar reduction \n\n\n\n\n\n\n\n\n\n\n\n\n\n\n\n\nDESSERT\n\n\nHouse made desserts \n\n\n\n\n\n\n\nCANNOLI 5\n\n\n\n\n Imported Sicilian cannoli shell\, ricotta cream filling with a hint of lemon\, mini chocolate chips\, powdered sugar \n\n\n\n\n\n\n\n\n\n\nTIRAMISU 7\n\n\n\n\n Individual cups of house made ladyfingers soaked in espresso with a fluffy mascarpone filling\, topped with cocoa powder \nhttps://joezeppys.com/
URL:https://citystarbrewing.com/event/joe-zeppys/2023-09-15/
CATEGORIES:Events,Food Trucks
ATTACH;FMTTYPE=image/jpeg:https://citystarbrewing.com/wp-content/uploads/2023/05/336383074_216538340963372_340785206198504889_n.jpg
END:VEVENT
BEGIN:VEVENT
DTSTART;TZID=America/Denver:20230915T180000
DTEND;TZID=America/Denver:20230915T203000
DTSTAMP:20260420T134114
CREATED:20230605T170033Z
LAST-MODIFIED:20230605T170040Z
UID:10003250-1694800800-1694809800@citystarbrewing.com
SUMMARY:Dugan Irby Band
DESCRIPTION:The Dugan Irby Band\n(The DIB)\n— \nThe DIB’s music is best described as Modern Americana that blends a variety of styles\, creating a listening experience that all will enjoy. \nThe band sprung up from the foot of Bighorn Mountains next to Sheridan\, Wyoming. Their sounds consist of members: Dugan Irby (vocals\, guitar and writing)\, Rod Jost (bass\, sound\, and management)\, and Titus Brown (drums\, percussion\, vocals). Together these young\, yet seasoned musicians craft their sound from a rich and eclectic catalogue of musical experiences. \nThis can best be seen in their recent debut album recorded at the Cabin Studio in Nashville\, TN. Each track will resonate in your soul from the simple and common experience of “Early Morning Blues” to the age old question of what are you “Looking For”. \nCome sit on the metaphorical front porch with the Dugan Irby Band and make a memory that will bring a smile to your soul! \nhttps://www.duganirbyband.com/
URL:https://citystarbrewing.com/event/dugan-irby-band/
LOCATION:CO
CATEGORIES:Events,Live Music
ATTACH;FMTTYPE=image/jpeg:https://citystarbrewing.com/wp-content/uploads/2023/06/duganirby.jpg
END:VEVENT
BEGIN:VEVENT
DTSTART;TZID=America/Denver:20230916T120000
DTEND;TZID=America/Denver:20230916T200000
DTSTAMP:20260420T134114
CREATED:20220113T005446Z
LAST-MODIFIED:20240710T180051Z
UID:10004396-1694865600-1694894400@citystarbrewing.com
SUMMARY:Georgia Boys BBQ
DESCRIPTION:Come get some true Southern BBQ from our Georgia Boys BBQ Outpost food truck! We’re slingin’ our homemade grub all over Northern Colorado…get here early while the gettin’s good\, as we do sell out.
URL:https://citystarbrewing.com/event/georgia-boys-bbq-2/2023-09-16/
CATEGORIES:Events,Food Trucks
ATTACH;FMTTYPE=image/png:https://citystarbrewing.com/wp-content/uploads/2020/08/GeorgiaBoys.png
END:VEVENT
BEGIN:VEVENT
DTSTART;TZID=America/Denver:20230919T180000
DTEND;TZID=America/Denver:20230919T200000
DTSTAMP:20260420T134114
CREATED:20220124T175122Z
LAST-MODIFIED:20250106T215223Z
UID:10003871-1695146400-1695153600@citystarbrewing.com
SUMMARY:Humdinger Trivia
DESCRIPTION:Come and get your brain going with us at Humdinger Trivia! Hosted by Berthoud locals\, Erin and Jacob Crabtree. It’s FREE to play and you could win $30 in City Star beer. The fun starts at 6pm every Tuesday in the beer garden. *limit 6 per team \nCheck out the food truck schedule to see who will be serving dinner out front.
URL:https://citystarbrewing.com/event/humdinger-trivia/2023-09-19/
CATEGORIES:Events,Taproom Events
ATTACH;FMTTYPE=image/png:https://citystarbrewing.com/wp-content/uploads/2022/01/Screen-Shot-2022-01-24-at-10.43.52-AM-e1643046764674.png
END:VEVENT
BEGIN:VEVENT
DTSTART;TZID=America/Denver:20230922T160000
DTEND;TZID=America/Denver:20230922T170000
DTSTAMP:20260420T134114
CREATED:20230501T172024Z
LAST-MODIFIED:20241026T164434Z
UID:10004549-1695398400-1695402000@citystarbrewing.com
SUMMARY:Joe Zeppys
DESCRIPTION:MENU\n\n\n\n\n\n\n\n\nBREAKFAST ITEMS\n\n\n\n\n\n\n\nBACON\, EGG & CHEESE 9\n\n\n\n\nServed on a toasted Kaiser roll with fried egg\, bacon and American cheese. Served with a hash brown on the side \n\n\n\n\n\n\n\n\n\n\nSAUSAGE\, EGG & CHEESE 9\n\n\n\n\nServed on a toasted Kaiser roll with fried egg\, sausage  and American cheese. Served with a hash brown on the side \n\n\n\n\n\n\n\n\n\n\nTAYLOR HAM\, EGG & CHEESE 9\n\n\n\n\nServed on a toasted Kaiser roll with fried egg\, Taylor ham  and American cheese. Served with a hash brown on the side \n\n\n\n\n\n\n\n\n\n\nVEGGIE SAUSAGE\, EGG & CHEESE 8\n\n\n\n\nServed on a toasted Kaiser roll with fried egg\, veggie sausage  and American cheese. Served with a hash brown on the side \n\n\n\n\n\n\n\n\n\n\nEGG & CHEESE 7\n\n\n\n\nServed on a toasted Kaiser roll with fried egg and American cheese. Served with a hash brown on the side \n\n\n\n\n\n\n\n\n\n\n\n\n\n\n\n\nSHARABLE STARTERS\n\n\nStarters feed 1-2 people \n\n\n\n\n\n\n\nMOZZARELLA STICKS 6\n\n\n\n\n Fried mozzarella sticks (6)\, marinara sauce \n\n\n\n\n\n\n\n\n\n\nZUCCHINI FRIES 7\n\n\n\n\n Fried zucchini sticks drizzled with roasted red pepper aioli & Pecorino Romano cheese \n\n\n\n\n\n\n\n\n\n\nEGGPLANT TOWER 9\n\n\n\n\n Fried eggplant stacked and layered with marinara\, Pecorino Romano and fresh Mozzarella cheeses (VE) \n\n\n\n\n\n\n\n\n\n\nSEASONAL BRUSCHETTA\n\n\n\n\nSeasonal bruschetta with crostini (VG) \ngf* upon request \n\n\n\n\n\n\n\n\n\n\n\n\n\n\n\n\nSANDWICHES\n\n\nAll sandwiches are served hot with chips. Make it a GF spinach bowl for $2.50! \n\n\n\n\n\n\n\nITALIAN BEEF SANDWICH 15\n\n\n\n\n House made thinly sliced beef in jus gravy\, sweet and hot peppers\, grilled onions on a hoagie roll with a side of jus gravy for dunking! Add cheese +$.75 \n\n\n\n\n\n\n\n\n\n\nSAUSAGE\, PEPPERS & ONIONS (SPO) 14\n\n\n\n\nGodfather Style – Spicy Italian sausage\, grilled peppers and onions on a hoagie roll \nGodmother Style – Spicy Italian sausage\, grilled peppers and onions\, marinara sauce and fresh mozzarella \n\n\n\n\n\n\n\n\n\n\nCHICKEN PESTO 14\n\n\n\n\nGrilled chicken breast thinly sliced\, roasted red peppers\, fresh Mozzarella cheese\, house made pesto aioli on a hoagie roll \n\n\n\n\n\n\n\n\n\n\nEGGPLANT PARM 13\n\n\n\n\n Fried eggplant\, marinara sauce\, fresh Mozzarella\, Pecorino Romano cheese on a hoagie roll (NOT available gf) \n\n\n\n\n\n\n\n\n\n\nVEGAN PANINI 12\n\n\n\n\n Marinated Portabella mushroom\, roasted red peppers\, spinach\, balsamic vinegar reduction \n\n\n\n\n\n\n\n\n\n\n\n\n\n\n\n\nDESSERT\n\n\nHouse made desserts \n\n\n\n\n\n\n\nCANNOLI 5\n\n\n\n\n Imported Sicilian cannoli shell\, ricotta cream filling with a hint of lemon\, mini chocolate chips\, powdered sugar \n\n\n\n\n\n\n\n\n\n\nTIRAMISU 7\n\n\n\n\n Individual cups of house made ladyfingers soaked in espresso with a fluffy mascarpone filling\, topped with cocoa powder \nhttps://joezeppys.com/
URL:https://citystarbrewing.com/event/joe-zeppys/2023-09-22/
CATEGORIES:Events,Food Trucks
ATTACH;FMTTYPE=image/jpeg:https://citystarbrewing.com/wp-content/uploads/2023/05/336383074_216538340963372_340785206198504889_n.jpg
END:VEVENT
BEGIN:VEVENT
DTSTART;TZID=America/Denver:20230922T180000
DTEND;TZID=America/Denver:20230922T203000
DTSTAMP:20260420T134114
CREATED:20230902T152203Z
LAST-MODIFIED:20230905T134432Z
UID:10004576-1695405600-1695414600@citystarbrewing.com
SUMMARY:Andy Eppler
DESCRIPTION:Andy Eppler is a long time member of the colorado musical community an performs his original Middle-American Soul music all over the state. In 2022 his music and art were honored by Texas Tech University with the creation of the “Andy Eppler Collection” in the famous Southwest Art Collection of the University archives next to other artists like Buddy Holly and Waylon Jennings.
URL:https://citystarbrewing.com/event/andy-eppler/
CATEGORIES:Events,Live Music
ATTACH;FMTTYPE=image/jpeg:https://citystarbrewing.com/wp-content/uploads/2023/09/andyeppler.jpg
END:VEVENT
BEGIN:VEVENT
DTSTART;TZID=America/Denver:20230923T120000
DTEND;TZID=America/Denver:20230923T200000
DTSTAMP:20260420T134114
CREATED:20181128T060314Z
LAST-MODIFIED:20241203T220750Z
UID:10004592-1695470400-1695499200@citystarbrewing.com
SUMMARY:Sweaty Moose
DESCRIPTION:Sweaty Moose MENU: www.sweatymoose.com
URL:https://citystarbrewing.com/event/sweaty-moose/2023-09-23/
CATEGORIES:Events,Food Trucks
ATTACH;FMTTYPE=image/jpeg:https://citystarbrewing.com/wp-content/uploads/2017/10/sweaty-moose.jpg
END:VEVENT
BEGIN:VEVENT
DTSTART;TZID=America/Denver:20230926T180000
DTEND;TZID=America/Denver:20230926T200000
DTSTAMP:20260420T134114
CREATED:20220124T175122Z
LAST-MODIFIED:20250106T215223Z
UID:10003872-1695751200-1695758400@citystarbrewing.com
SUMMARY:Humdinger Trivia
DESCRIPTION:Come and get your brain going with us at Humdinger Trivia! Hosted by Berthoud locals\, Erin and Jacob Crabtree. It’s FREE to play and you could win $30 in City Star beer. The fun starts at 6pm every Tuesday in the beer garden. *limit 6 per team \nCheck out the food truck schedule to see who will be serving dinner out front.
URL:https://citystarbrewing.com/event/humdinger-trivia/2023-09-26/
CATEGORIES:Events,Taproom Events
ATTACH;FMTTYPE=image/png:https://citystarbrewing.com/wp-content/uploads/2022/01/Screen-Shot-2022-01-24-at-10.43.52-AM-e1643046764674.png
END:VEVENT
BEGIN:VEVENT
DTSTART;TZID=America/Denver:20230927T160000
DTEND;TZID=America/Denver:20230927T200000
DTSTAMP:20260420T134114
CREATED:20230605T190235Z
LAST-MODIFIED:20231030T174726Z
UID:10003253-1695830400-1695844800@citystarbrewing.com
SUMMARY:Golden Goodness
DESCRIPTION:Golden Goodness Eats offers gourmet grilled cheese sandwiches and all-day biscuits!  Many of our products are locally-sourced from the best foodie entrepreneurs\, like Red Branch Bakery\, who provides our bread\, biscuits and cookies that we use.  You also support local charities through our giveback contributions when you dine with us.  Grab a Golden\, Cheesy\, Parmesan crusted Grilled Cheese or a Flakey Buttery Biscuit with Brie\, Green Apple\, Honey and Cinnamon Sugar TODAY! Let your taste buds be the judge! \nView Menu
URL:https://citystarbrewing.com/event/golden-goodness/2023-09-27/
CATEGORIES:Events,Food Trucks
ATTACH;FMTTYPE=image/jpeg:https://citystarbrewing.com/wp-content/uploads/2023/06/IMG_3106-1-scaled.jpg
END:VEVENT
BEGIN:VEVENT
DTSTART;TZID=America/Denver:20230928T120000
DTEND;TZID=America/Denver:20230928T200000
DTSTAMP:20260420T134114
CREATED:20221007T220739Z
LAST-MODIFIED:20250523T182800Z
UID:10006119-1695902400-1695931200@citystarbrewing.com
SUMMARY:Georgia Boys BBQ
DESCRIPTION:Come get some true Southern BBQ from our Georgia Boys BBQ Outpost food truck! We’re slingin’ our homemade grub all over Northern Colorado…get here early while the gettin’s good\, as we do sell out.
URL:https://citystarbrewing.com/event/georgia-boys-bbq-4/2023-09-28/
CATEGORIES:Events,Food Trucks
ATTACH;FMTTYPE=image/png:https://citystarbrewing.com/wp-content/uploads/2020/08/GeorgiaBoys.png
END:VEVENT
BEGIN:VEVENT
DTSTART;TZID=America/Denver:20230929T160000
DTEND;TZID=America/Denver:20230929T200000
DTSTAMP:20260420T134114
CREATED:20230501T172024Z
LAST-MODIFIED:20241026T164434Z
UID:10004597-1696003200-1696017600@citystarbrewing.com
SUMMARY:Joe Zeppys
DESCRIPTION:MENU\n\n\n\n\n\n\n\n\nBREAKFAST ITEMS\n\n\n\n\n\n\n\nBACON\, EGG & CHEESE 9\n\n\n\n\nServed on a toasted Kaiser roll with fried egg\, bacon and American cheese. Served with a hash brown on the side \n\n\n\n\n\n\n\n\n\n\nSAUSAGE\, EGG & CHEESE 9\n\n\n\n\nServed on a toasted Kaiser roll with fried egg\, sausage  and American cheese. Served with a hash brown on the side \n\n\n\n\n\n\n\n\n\n\nTAYLOR HAM\, EGG & CHEESE 9\n\n\n\n\nServed on a toasted Kaiser roll with fried egg\, Taylor ham  and American cheese. Served with a hash brown on the side \n\n\n\n\n\n\n\n\n\n\nVEGGIE SAUSAGE\, EGG & CHEESE 8\n\n\n\n\nServed on a toasted Kaiser roll with fried egg\, veggie sausage  and American cheese. Served with a hash brown on the side \n\n\n\n\n\n\n\n\n\n\nEGG & CHEESE 7\n\n\n\n\nServed on a toasted Kaiser roll with fried egg and American cheese. Served with a hash brown on the side \n\n\n\n\n\n\n\n\n\n\n\n\n\n\n\n\nSHARABLE STARTERS\n\n\nStarters feed 1-2 people \n\n\n\n\n\n\n\nMOZZARELLA STICKS 6\n\n\n\n\n Fried mozzarella sticks (6)\, marinara sauce \n\n\n\n\n\n\n\n\n\n\nZUCCHINI FRIES 7\n\n\n\n\n Fried zucchini sticks drizzled with roasted red pepper aioli & Pecorino Romano cheese \n\n\n\n\n\n\n\n\n\n\nEGGPLANT TOWER 9\n\n\n\n\n Fried eggplant stacked and layered with marinara\, Pecorino Romano and fresh Mozzarella cheeses (VE) \n\n\n\n\n\n\n\n\n\n\nSEASONAL BRUSCHETTA\n\n\n\n\nSeasonal bruschetta with crostini (VG) \ngf* upon request \n\n\n\n\n\n\n\n\n\n\n\n\n\n\n\n\nSANDWICHES\n\n\nAll sandwiches are served hot with chips. Make it a GF spinach bowl for $2.50! \n\n\n\n\n\n\n\nITALIAN BEEF SANDWICH 15\n\n\n\n\n House made thinly sliced beef in jus gravy\, sweet and hot peppers\, grilled onions on a hoagie roll with a side of jus gravy for dunking! Add cheese +$.75 \n\n\n\n\n\n\n\n\n\n\nSAUSAGE\, PEPPERS & ONIONS (SPO) 14\n\n\n\n\nGodfather Style – Spicy Italian sausage\, grilled peppers and onions on a hoagie roll \nGodmother Style – Spicy Italian sausage\, grilled peppers and onions\, marinara sauce and fresh mozzarella \n\n\n\n\n\n\n\n\n\n\nCHICKEN PESTO 14\n\n\n\n\nGrilled chicken breast thinly sliced\, roasted red peppers\, fresh Mozzarella cheese\, house made pesto aioli on a hoagie roll \n\n\n\n\n\n\n\n\n\n\nEGGPLANT PARM 13\n\n\n\n\n Fried eggplant\, marinara sauce\, fresh Mozzarella\, Pecorino Romano cheese on a hoagie roll (NOT available gf) \n\n\n\n\n\n\n\n\n\n\nVEGAN PANINI 12\n\n\n\n\n Marinated Portabella mushroom\, roasted red peppers\, spinach\, balsamic vinegar reduction \n\n\n\n\n\n\n\n\n\n\n\n\n\n\n\n\nDESSERT\n\n\nHouse made desserts \n\n\n\n\n\n\n\nCANNOLI 5\n\n\n\n\n Imported Sicilian cannoli shell\, ricotta cream filling with a hint of lemon\, mini chocolate chips\, powdered sugar \n\n\n\n\n\n\n\n\n\n\nTIRAMISU 7\n\n\n\n\n Individual cups of house made ladyfingers soaked in espresso with a fluffy mascarpone filling\, topped with cocoa powder \nhttps://joezeppys.com/
URL:https://citystarbrewing.com/event/joe-zeppys/2023-09-29/
CATEGORIES:Events,Food Trucks
ATTACH;FMTTYPE=image/jpeg:https://citystarbrewing.com/wp-content/uploads/2023/05/336383074_216538340963372_340785206198504889_n.jpg
END:VEVENT
BEGIN:VEVENT
DTSTART;TZID=America/Denver:20230930T120000
DTEND;TZID=America/Denver:20230930T200000
DTSTAMP:20260420T134114
CREATED:20230418T004048Z
LAST-MODIFIED:20230924T205847Z
UID:10004599-1696075200-1696104000@citystarbrewing.com
SUMMARY:Lil Smoke
DESCRIPTION:Asian Inspired BBQ food truck.\nhttps://www.lil-smoke.com/book-truck
URL:https://citystarbrewing.com/event/lil-smoke/2023-09-30/
CATEGORIES:Events,Food Trucks
ATTACH;FMTTYPE=image/jpeg:https://citystarbrewing.com/wp-content/uploads/2023/04/lil_smoke.jpeg.jpg
END:VEVENT
END:VCALENDAR