BEGIN:VCALENDAR
VERSION:2.0
PRODID:-//City Star Brewing - ECPv6.15.20//NONSGML v1.0//EN
CALSCALE:GREGORIAN
METHOD:PUBLISH
X-WR-CALNAME:City Star Brewing
X-ORIGINAL-URL:https://citystarbrewing.com
X-WR-CALDESC:Events for City Star Brewing
REFRESH-INTERVAL;VALUE=DURATION:PT1H
X-Robots-Tag:noindex
X-PUBLISHED-TTL:PT1H
BEGIN:VTIMEZONE
TZID:America/Denver
BEGIN:DAYLIGHT
TZOFFSETFROM:-0700
TZOFFSETTO:-0600
TZNAME:MDT
DTSTART:20220313T090000
END:DAYLIGHT
BEGIN:STANDARD
TZOFFSETFROM:-0600
TZOFFSETTO:-0700
TZNAME:MST
DTSTART:20221106T080000
END:STANDARD
BEGIN:DAYLIGHT
TZOFFSETFROM:-0700
TZOFFSETTO:-0600
TZNAME:MDT
DTSTART:20230312T090000
END:DAYLIGHT
BEGIN:STANDARD
TZOFFSETFROM:-0600
TZOFFSETTO:-0700
TZNAME:MST
DTSTART:20231105T080000
END:STANDARD
BEGIN:DAYLIGHT
TZOFFSETFROM:-0700
TZOFFSETTO:-0600
TZNAME:MDT
DTSTART:20240310T090000
END:DAYLIGHT
BEGIN:STANDARD
TZOFFSETFROM:-0600
TZOFFSETTO:-0700
TZNAME:MST
DTSTART:20241103T080000
END:STANDARD
END:VTIMEZONE
BEGIN:VEVENT
DTSTART;TZID=America/Denver:20230801T180000
DTEND;TZID=America/Denver:20230801T200000
DTSTAMP:20260420T122222
CREATED:20220124T175122Z
LAST-MODIFIED:20250106T215223Z
UID:10003864-1690912800-1690920000@citystarbrewing.com
SUMMARY:Humdinger Trivia
DESCRIPTION:Come and get your brain going with us at Humdinger Trivia! Hosted by Berthoud locals\, Erin and Jacob Crabtree. It’s FREE to play and you could win $30 in City Star beer. The fun starts at 6pm every Tuesday in the beer garden. *limit 6 per team \nCheck out the food truck schedule to see who will be serving dinner out front.
URL:https://citystarbrewing.com/event/humdinger-trivia/2023-08-01/
CATEGORIES:Events,Taproom Events
ATTACH;FMTTYPE=image/png:https://citystarbrewing.com/wp-content/uploads/2022/01/Screen-Shot-2022-01-24-at-10.43.52-AM-e1643046764674.png
END:VEVENT
BEGIN:VEVENT
DTSTART;TZID=America/Denver:20230803T120000
DTEND;TZID=America/Denver:20230803T200000
DTSTAMP:20260420T122222
CREATED:20221007T220739Z
LAST-MODIFIED:20250523T182800Z
UID:10006117-1691064000-1691092800@citystarbrewing.com
SUMMARY:Georgia Boys BBQ
DESCRIPTION:Come get some true Southern BBQ from our Georgia Boys BBQ Outpost food truck! We’re slingin’ our homemade grub all over Northern Colorado…get here early while the gettin’s good\, as we do sell out.
URL:https://citystarbrewing.com/event/georgia-boys-bbq-4/2023-08-03/
CATEGORIES:Events,Food Trucks
ATTACH;FMTTYPE=image/png:https://citystarbrewing.com/wp-content/uploads/2020/08/GeorgiaBoys.png
END:VEVENT
BEGIN:VEVENT
DTSTART;TZID=America/Denver:20230804T150000
DTEND;TZID=America/Denver:20230804T210000
DTSTAMP:20260420T122222
CREATED:20211104T220832Z
LAST-MODIFIED:20230731T162010Z
UID:10001772-1691161200-1691182800@citystarbrewing.com
SUMMARY:Beer Release: Sim's Red
DESCRIPTION:American red is brewed with Centennial\, Mosaic\, Citra hops and dry hopped with Strata hops. Named for Sim Jefferes\, a Berthoud pioneer who operated the City Star Barn livery stable and built the Jefferes Auto Company in 1915 (our building today). Sim also had a prescription for medicinal whiskey. \nAvailable on draft and in cans. Order to-go at citystarpickup.com
URL:https://citystarbrewing.com/event/beer-release-sims-red/
LOCATION:CO
CATEGORIES:Beer Releases,Events
ATTACH;FMTTYPE=image/png:https://citystarbrewing.com/wp-content/uploads/2021/11/Screen-Shot-2021-11-04-at-4.07.24-PM.png
END:VEVENT
BEGIN:VEVENT
DTSTART;TZID=America/Denver:20230804T160000
DTEND;TZID=America/Denver:20230804T200000
DTSTAMP:20260420T122222
CREATED:20221202T202704Z
LAST-MODIFIED:20230703T175004Z
UID:10004328-1691164800-1691179200@citystarbrewing.com
SUMMARY:Stick Around Skewers
DESCRIPTION:FLAME FINISHED STICKS & SKEWERS \nStick Around is a locally owned and operated Food Truck based in Boulder\, Colorado. Focusing on the worlds most traditional form of BBQ\, Skewers & kebabs! Stick Around brings something to the table for everybody. Take a look at our menu to see if you can find something that fits your style! \nMENU: https://www.stickaroundskewers.com/menu
URL:https://citystarbrewing.com/event/stick-around-skewers-3/2023-08-04/
LOCATION:CO
CATEGORIES:Events,Food Trucks
ATTACH;FMTTYPE=image/jpeg:https://citystarbrewing.com/wp-content/uploads/2021/05/stickaround.jpg
END:VEVENT
BEGIN:VEVENT
DTSTART;TZID=America/Denver:20230805T120000
DTEND;TZID=America/Denver:20230805T200000
DTSTAMP:20260420T122222
CREATED:20220105T170205Z
LAST-MODIFIED:20230821T145946Z
UID:10004472-1691236800-1691265600@citystarbrewing.com
SUMMARY:Steamy Weiners
DESCRIPTION:Menu: https://steamyweiners.com
URL:https://citystarbrewing.com/event/steamy-weiners/2023-08-05/
CATEGORIES:Events,Food Trucks
ATTACH;FMTTYPE=image/jpeg:https://citystarbrewing.com/wp-content/uploads/2020/10/steamyweiners.jpg
END:VEVENT
BEGIN:VEVENT
DTSTART;TZID=America/Denver:20230805T180000
DTEND;TZID=America/Denver:20230805T203000
DTSTAMP:20260420T122222
CREATED:20190312T223914Z
LAST-MODIFIED:20240516T211236Z
UID:10000201-1691258400-1691267400@citystarbrewing.com
SUMMARY:Jeremy Mohney Swing Trio
DESCRIPTION:Jeremy Mohney is swing\, simply put. Nearly 90 years late to the game\, he’s still swinging hard for dancers with his band\, sax\, singing voice and original compositions that all sound straight out of 1939. Each show is fresh and will leave you wondering what’s gonna happen next. All you’re sure of is that it will be solid in the groove. \nAs entertaining as he sounds\, Mohney has proven it countless times. At home in CO at venues like Dazzle or the Mercury Cafe\, he kills\, as well as on his frequent tours which take him and his band all over the US. He recently came out with two digital albums\, “Live at the Mercury Cafe” and “KGNU Air Checks”. They’re both available on all major sites\, like iTunes/Apple Music and Spotify. Jeremy’s also starting a podcast which will feature he and his band’s playing\, his original compositions\, guests to play\, sing\, make us laugh and more. \nInspired by the home of our brewery\, Jeremy composed “The Berthoud Bump”: click to listen.\njazz • swing \nhttp://www.jeremymohney.com/
URL:https://citystarbrewing.com/event/jeremy-mohney/
CATEGORIES:Events,Live Music
ATTACH;FMTTYPE=image/png:https://citystarbrewing.com/wp-content/uploads/2016/01/jeremymohney.png
END:VEVENT
BEGIN:VEVENT
DTSTART;TZID=America/Denver:20230808T180000
DTEND;TZID=America/Denver:20230808T200000
DTSTAMP:20260420T122222
CREATED:20220124T175122Z
LAST-MODIFIED:20250106T215223Z
UID:10003865-1691517600-1691524800@citystarbrewing.com
SUMMARY:Humdinger Trivia
DESCRIPTION:Come and get your brain going with us at Humdinger Trivia! Hosted by Berthoud locals\, Erin and Jacob Crabtree. It’s FREE to play and you could win $30 in City Star beer. The fun starts at 6pm every Tuesday in the beer garden. *limit 6 per team \nCheck out the food truck schedule to see who will be serving dinner out front.
URL:https://citystarbrewing.com/event/humdinger-trivia/2023-08-08/
CATEGORIES:Events,Taproom Events
ATTACH;FMTTYPE=image/png:https://citystarbrewing.com/wp-content/uploads/2022/01/Screen-Shot-2022-01-24-at-10.43.52-AM-e1643046764674.png
END:VEVENT
BEGIN:VEVENT
DTSTART;TZID=America/Denver:20230811T150000
DTEND;TZID=America/Denver:20230811T210000
DTSTAMP:20260420T122222
CREATED:20230724T165435Z
LAST-MODIFIED:20230724T175353Z
UID:10004471-1691766000-1691787600@citystarbrewing.com
SUMMARY:Beer Release: Hippie Nectar
DESCRIPTION:Blood Orange Hibiscus Saison – Belgian saison infused with blood oranges and hibiscus flowers. Available on draft and in 16oz. cans to-go.
URL:https://citystarbrewing.com/event/beer-release-hippie-nectar/
LOCATION:CO
CATEGORIES:Beer Releases,Events
ATTACH;FMTTYPE=image/png:https://citystarbrewing.com/wp-content/uploads/2023/07/hippienectar-02.png
END:VEVENT
BEGIN:VEVENT
DTSTART;TZID=America/Denver:20230812T120000
DTEND;TZID=America/Denver:20230812T200000
DTSTAMP:20260420T122222
CREATED:20181128T060314Z
LAST-MODIFIED:20241203T220750Z
UID:10003112-1691841600-1691870400@citystarbrewing.com
SUMMARY:Sweaty Moose
DESCRIPTION:Sweaty Moose MENU: www.sweatymoose.com
URL:https://citystarbrewing.com/event/sweaty-moose/2023-08-12/
CATEGORIES:Events,Food Trucks
ATTACH;FMTTYPE=image/jpeg:https://citystarbrewing.com/wp-content/uploads/2017/10/sweaty-moose.jpg
END:VEVENT
BEGIN:VEVENT
DTSTART;TZID=America/Denver:20230815T180000
DTEND;TZID=America/Denver:20230815T200000
DTSTAMP:20260420T122222
CREATED:20220124T175122Z
LAST-MODIFIED:20250106T215223Z
UID:10003866-1692122400-1692129600@citystarbrewing.com
SUMMARY:Humdinger Trivia
DESCRIPTION:Come and get your brain going with us at Humdinger Trivia! Hosted by Berthoud locals\, Erin and Jacob Crabtree. It’s FREE to play and you could win $30 in City Star beer. The fun starts at 6pm every Tuesday in the beer garden. *limit 6 per team \nCheck out the food truck schedule to see who will be serving dinner out front.
URL:https://citystarbrewing.com/event/humdinger-trivia/2023-08-15/
CATEGORIES:Events,Taproom Events
ATTACH;FMTTYPE=image/png:https://citystarbrewing.com/wp-content/uploads/2022/01/Screen-Shot-2022-01-24-at-10.43.52-AM-e1643046764674.png
END:VEVENT
BEGIN:VEVENT
DTSTART;TZID=America/Denver:20230816T180000
DTEND;TZID=America/Denver:20230816T200000
DTSTAMP:20260420T122222
CREATED:20230418T004048Z
LAST-MODIFIED:20230924T205847Z
UID:10004598-1692208800-1692216000@citystarbrewing.com
SUMMARY:Lil Smoke
DESCRIPTION:Asian Inspired BBQ food truck.\nhttps://www.lil-smoke.com/book-truck
URL:https://citystarbrewing.com/event/lil-smoke/2023-08-16/
CATEGORIES:Events,Food Trucks
ATTACH;FMTTYPE=image/jpeg:https://citystarbrewing.com/wp-content/uploads/2023/04/lil_smoke.jpeg.jpg
END:VEVENT
BEGIN:VEVENT
DTSTART;TZID=America/Denver:20230817T160000
DTEND;TZID=America/Denver:20230817T200000
DTSTAMP:20260420T122222
CREATED:20221227T155123Z
LAST-MODIFIED:20240201T181557Z
UID:10004255-1692288000-1692302400@citystarbrewing.com
SUMMARY:Stick Around Skewers
DESCRIPTION:FLAME FINISHED STICKS & SKEWERS \nStick Around is a locally owned and operated Food Truck based in Boulder\, Colorado. Focusing on the worlds most traditional form of BBQ\, Skewers & kebabs! Stick Around brings something to the table for everybody. Take a look at our menu to see if you can find something that fits your style! \nMENU: https://www.stickaroundskewers.com/menu
URL:https://citystarbrewing.com/event/stick-around-skewers-4/2023-08-17/
CATEGORIES:Events,Food Trucks
ATTACH;FMTTYPE=image/jpeg:https://citystarbrewing.com/wp-content/uploads/2021/05/stickaround.jpg
END:VEVENT
BEGIN:VEVENT
DTSTART;TZID=America/Denver:20230818T150000
DTEND;TZID=America/Denver:20230818T210000
DTSTAMP:20260420T122222
CREATED:20230804T184726Z
LAST-MODIFIED:20230804T184726Z
UID:10004478-1692370800-1692392400@citystarbrewing.com
SUMMARY:Beer Release: Hazy IPA Pop Radio
DESCRIPTION:A New England style Hazy IPA dry hopped with Cashmere and Strata hops. This beer was brewed while listening to pop music including artists Britney Spears\, Christina Aguilara\, Katy Perry and more. Tune in with us and enjoy this cold beer crafted just for you. \n​City Star Pop Hazy IPA Radio
URL:https://citystarbrewing.com/event/beer-release-hazy-ipa-pop-radio/
LOCATION:CO
CATEGORIES:Beer Releases,Events
ATTACH;FMTTYPE=image/png:https://citystarbrewing.com/wp-content/uploads/2023/08/popradioHazyIPA-02.png
END:VEVENT
BEGIN:VEVENT
DTSTART;TZID=America/Denver:20230818T160000
DTEND;TZID=America/Denver:20230818T200000
DTSTAMP:20260420T122222
CREATED:20230605T190235Z
LAST-MODIFIED:20231030T174726Z
UID:10003252-1692374400-1692388800@citystarbrewing.com
SUMMARY:Golden Goodness
DESCRIPTION:Golden Goodness Eats offers gourmet grilled cheese sandwiches and all-day biscuits!  Many of our products are locally-sourced from the best foodie entrepreneurs\, like Red Branch Bakery\, who provides our bread\, biscuits and cookies that we use.  You also support local charities through our giveback contributions when you dine with us.  Grab a Golden\, Cheesy\, Parmesan crusted Grilled Cheese or a Flakey Buttery Biscuit with Brie\, Green Apple\, Honey and Cinnamon Sugar TODAY! Let your taste buds be the judge! \nView Menu
URL:https://citystarbrewing.com/event/golden-goodness/2023-08-18/
CATEGORIES:Events,Food Trucks
ATTACH;FMTTYPE=image/jpeg:https://citystarbrewing.com/wp-content/uploads/2023/06/IMG_3106-1-scaled.jpg
END:VEVENT
BEGIN:VEVENT
DTSTART;TZID=America/Denver:20230819T120000
DTEND;TZID=America/Denver:20230819T200000
DTSTAMP:20260420T122222
CREATED:20220113T005446Z
LAST-MODIFIED:20240710T180051Z
UID:10004395-1692446400-1692475200@citystarbrewing.com
SUMMARY:Georgia Boys BBQ
DESCRIPTION:Come get some true Southern BBQ from our Georgia Boys BBQ Outpost food truck! We’re slingin’ our homemade grub all over Northern Colorado…get here early while the gettin’s good\, as we do sell out.
URL:https://citystarbrewing.com/event/georgia-boys-bbq-2/2023-08-19/
CATEGORIES:Events,Food Trucks
ATTACH;FMTTYPE=image/png:https://citystarbrewing.com/wp-content/uploads/2020/08/GeorgiaBoys.png
END:VEVENT
BEGIN:VEVENT
DTSTART;TZID=America/Denver:20230822T180000
DTEND;TZID=America/Denver:20230822T200000
DTSTAMP:20260420T122222
CREATED:20220124T175122Z
LAST-MODIFIED:20250106T215223Z
UID:10003867-1692727200-1692734400@citystarbrewing.com
SUMMARY:Humdinger Trivia
DESCRIPTION:Come and get your brain going with us at Humdinger Trivia! Hosted by Berthoud locals\, Erin and Jacob Crabtree. It’s FREE to play and you could win $30 in City Star beer. The fun starts at 6pm every Tuesday in the beer garden. *limit 6 per team \nCheck out the food truck schedule to see who will be serving dinner out front.
URL:https://citystarbrewing.com/event/humdinger-trivia/2023-08-22/
CATEGORIES:Events,Taproom Events
ATTACH;FMTTYPE=image/png:https://citystarbrewing.com/wp-content/uploads/2022/01/Screen-Shot-2022-01-24-at-10.43.52-AM-e1643046764674.png
END:VEVENT
BEGIN:VEVENT
DTSTART;TZID=America/Denver:20230824T160000
DTEND;TZID=America/Denver:20230824T200000
DTSTAMP:20260420T122222
CREATED:20230501T172024Z
LAST-MODIFIED:20241026T164434Z
UID:10004321-1692892800-1692907200@citystarbrewing.com
SUMMARY:Joe Zeppys
DESCRIPTION:MENU\n\n\n\n\n\n\n\n\nBREAKFAST ITEMS\n\n\n\n\n\n\n\nBACON\, EGG & CHEESE 9\n\n\n\n\nServed on a toasted Kaiser roll with fried egg\, bacon and American cheese. Served with a hash brown on the side \n\n\n\n\n\n\n\n\n\n\nSAUSAGE\, EGG & CHEESE 9\n\n\n\n\nServed on a toasted Kaiser roll with fried egg\, sausage  and American cheese. Served with a hash brown on the side \n\n\n\n\n\n\n\n\n\n\nTAYLOR HAM\, EGG & CHEESE 9\n\n\n\n\nServed on a toasted Kaiser roll with fried egg\, Taylor ham  and American cheese. Served with a hash brown on the side \n\n\n\n\n\n\n\n\n\n\nVEGGIE SAUSAGE\, EGG & CHEESE 8\n\n\n\n\nServed on a toasted Kaiser roll with fried egg\, veggie sausage  and American cheese. Served with a hash brown on the side \n\n\n\n\n\n\n\n\n\n\nEGG & CHEESE 7\n\n\n\n\nServed on a toasted Kaiser roll with fried egg and American cheese. Served with a hash brown on the side \n\n\n\n\n\n\n\n\n\n\n\n\n\n\n\n\nSHARABLE STARTERS\n\n\nStarters feed 1-2 people \n\n\n\n\n\n\n\nMOZZARELLA STICKS 6\n\n\n\n\n Fried mozzarella sticks (6)\, marinara sauce \n\n\n\n\n\n\n\n\n\n\nZUCCHINI FRIES 7\n\n\n\n\n Fried zucchini sticks drizzled with roasted red pepper aioli & Pecorino Romano cheese \n\n\n\n\n\n\n\n\n\n\nEGGPLANT TOWER 9\n\n\n\n\n Fried eggplant stacked and layered with marinara\, Pecorino Romano and fresh Mozzarella cheeses (VE) \n\n\n\n\n\n\n\n\n\n\nSEASONAL BRUSCHETTA\n\n\n\n\nSeasonal bruschetta with crostini (VG) \ngf* upon request \n\n\n\n\n\n\n\n\n\n\n\n\n\n\n\n\nSANDWICHES\n\n\nAll sandwiches are served hot with chips. Make it a GF spinach bowl for $2.50! \n\n\n\n\n\n\n\nITALIAN BEEF SANDWICH 15\n\n\n\n\n House made thinly sliced beef in jus gravy\, sweet and hot peppers\, grilled onions on a hoagie roll with a side of jus gravy for dunking! Add cheese +$.75 \n\n\n\n\n\n\n\n\n\n\nSAUSAGE\, PEPPERS & ONIONS (SPO) 14\n\n\n\n\nGodfather Style – Spicy Italian sausage\, grilled peppers and onions on a hoagie roll \nGodmother Style – Spicy Italian sausage\, grilled peppers and onions\, marinara sauce and fresh mozzarella \n\n\n\n\n\n\n\n\n\n\nCHICKEN PESTO 14\n\n\n\n\nGrilled chicken breast thinly sliced\, roasted red peppers\, fresh Mozzarella cheese\, house made pesto aioli on a hoagie roll \n\n\n\n\n\n\n\n\n\n\nEGGPLANT PARM 13\n\n\n\n\n Fried eggplant\, marinara sauce\, fresh Mozzarella\, Pecorino Romano cheese on a hoagie roll (NOT available gf) \n\n\n\n\n\n\n\n\n\n\nVEGAN PANINI 12\n\n\n\n\n Marinated Portabella mushroom\, roasted red peppers\, spinach\, balsamic vinegar reduction \n\n\n\n\n\n\n\n\n\n\n\n\n\n\n\n\nDESSERT\n\n\nHouse made desserts \n\n\n\n\n\n\n\nCANNOLI 5\n\n\n\n\n Imported Sicilian cannoli shell\, ricotta cream filling with a hint of lemon\, mini chocolate chips\, powdered sugar \n\n\n\n\n\n\n\n\n\n\nTIRAMISU 7\n\n\n\n\n Individual cups of house made ladyfingers soaked in espresso with a fluffy mascarpone filling\, topped with cocoa powder \nhttps://joezeppys.com/
URL:https://citystarbrewing.com/event/joe-zeppys/2023-08-24/
CATEGORIES:Events,Food Trucks
ATTACH;FMTTYPE=image/jpeg:https://citystarbrewing.com/wp-content/uploads/2023/05/336383074_216538340963372_340785206198504889_n.jpg
END:VEVENT
BEGIN:VEVENT
DTSTART;TZID=America/Denver:20230825T160000
DTEND;TZID=America/Denver:20230825T200000
DTSTAMP:20260420T122222
CREATED:20220105T170205Z
LAST-MODIFIED:20230821T145946Z
UID:10004562-1692979200-1692993600@citystarbrewing.com
SUMMARY:Steamy Weiners
DESCRIPTION:Menu: https://steamyweiners.com
URL:https://citystarbrewing.com/event/steamy-weiners/2023-08-25/
CATEGORIES:Events,Food Trucks
ATTACH;FMTTYPE=image/jpeg:https://citystarbrewing.com/wp-content/uploads/2020/10/steamyweiners.jpg
END:VEVENT
BEGIN:VEVENT
DTSTART;TZID=America/Denver:20230826T180000
DTEND;TZID=America/Denver:20230826T203000
DTSTAMP:20260420T122222
CREATED:20220708T165012Z
LAST-MODIFIED:20230317T191145Z
UID:10002209-1693072800-1693081800@citystarbrewing.com
SUMMARY:Christine Alice
DESCRIPTION:Christine Alice is an up & coming regional musician performing live and recording original music. Her music has been critically acclaimed by both local musicians and professionals throughout the country.  She has killer vocals that will convince you she’s an angel but at the flip of a note can bring the fiery depths from below. The breadth of her music crosses all types of genres from pop\, country\, alternative\, to lo-fi and more. She loves all types of music and puts a creative and impressive spin on her covers. While performing live\, she covers a wide assortment of songs from Nirvana\, Chris Stapleton\, The Cranberries\, Post Malone\, Billie Eilish\, Fleetwood Mac and beyond. She’s guaranteed to play something for everyone.  She has been sponsored by White Claw\, Modelo\, and Blue Moon brewing companies to perform live at bars and restaurants across Northern Colorado. \nChristine’s love and passion for music extends past just performing live. Her original score for the short independent film\, “Chords” by Emmy Award winning cinematographer John Barnhardt\, won Best Original Score in both the Moscow Film Fest & the New World Film Festival. The film was accepted by the LA Shorts Film Festival\, making the film eligible to qualify for an Oscar.  The film has many accolades and is in film festivals nationally and in cities all over the world. Christine wrote and performed music as well as acted in the film. \nOn top of all of that\, Christine teaches guitar and piano lessons to students of all ages privately and works with The Matthews House to give at risk youth kids lessons. She hosts open mics and jams at different bars around Northern Colorado and joins local bands like Amorphic and All Night Train on stage. Her cover band\, “The Canyon Echos” plays all over Northern Colorado. With 3 powerhouse female singers\, a lead guitarists that will melt your face and a drummer that will keep you groovin the whole show! \nChristine was born and raised in Fort Collins and the mountains just west of the city. She often claims that she has been singing since the womb. She picked up the guitar while traveling the world as a backpacker. Always loving to sing\, she began playing the guitar so she could accompany herself and make music come alive on her own. Seeing Christine Alice live is a spectacular experience and one not to be missed by anyone with an appreciation for a professional voice and a sparkling talent.
URL:https://citystarbrewing.com/event/christine-alice/2023-08-26/
LOCATION:CO
CATEGORIES:Events,Live Music
ATTACH;FMTTYPE=image/jpeg:https://citystarbrewing.com/wp-content/uploads/2022/07/chrstinealice.jpeg
END:VEVENT
BEGIN:VEVENT
DTSTART;TZID=America/Denver:20230829T180000
DTEND;TZID=America/Denver:20230829T200000
DTSTAMP:20260420T122222
CREATED:20220124T175122Z
LAST-MODIFIED:20250106T215223Z
UID:10003868-1693332000-1693339200@citystarbrewing.com
SUMMARY:Humdinger Trivia
DESCRIPTION:Come and get your brain going with us at Humdinger Trivia! Hosted by Berthoud locals\, Erin and Jacob Crabtree. It’s FREE to play and you could win $30 in City Star beer. The fun starts at 6pm every Tuesday in the beer garden. *limit 6 per team \nCheck out the food truck schedule to see who will be serving dinner out front.
URL:https://citystarbrewing.com/event/humdinger-trivia/2023-08-29/
CATEGORIES:Events,Taproom Events
ATTACH;FMTTYPE=image/png:https://citystarbrewing.com/wp-content/uploads/2022/01/Screen-Shot-2022-01-24-at-10.43.52-AM-e1643046764674.png
END:VEVENT
BEGIN:VEVENT
DTSTART;TZID=America/Denver:20230830T160000
DTEND;TZID=America/Denver:20230830T200000
DTSTAMP:20260420T122222
CREATED:20230501T172024Z
LAST-MODIFIED:20241026T164434Z
UID:10004459-1693411200-1693425600@citystarbrewing.com
SUMMARY:Joe Zeppys
DESCRIPTION:MENU\n\n\n\n\n\n\n\n\nBREAKFAST ITEMS\n\n\n\n\n\n\n\nBACON\, EGG & CHEESE 9\n\n\n\n\nServed on a toasted Kaiser roll with fried egg\, bacon and American cheese. Served with a hash brown on the side \n\n\n\n\n\n\n\n\n\n\nSAUSAGE\, EGG & CHEESE 9\n\n\n\n\nServed on a toasted Kaiser roll with fried egg\, sausage  and American cheese. Served with a hash brown on the side \n\n\n\n\n\n\n\n\n\n\nTAYLOR HAM\, EGG & CHEESE 9\n\n\n\n\nServed on a toasted Kaiser roll with fried egg\, Taylor ham  and American cheese. Served with a hash brown on the side \n\n\n\n\n\n\n\n\n\n\nVEGGIE SAUSAGE\, EGG & CHEESE 8\n\n\n\n\nServed on a toasted Kaiser roll with fried egg\, veggie sausage  and American cheese. Served with a hash brown on the side \n\n\n\n\n\n\n\n\n\n\nEGG & CHEESE 7\n\n\n\n\nServed on a toasted Kaiser roll with fried egg and American cheese. Served with a hash brown on the side \n\n\n\n\n\n\n\n\n\n\n\n\n\n\n\n\nSHARABLE STARTERS\n\n\nStarters feed 1-2 people \n\n\n\n\n\n\n\nMOZZARELLA STICKS 6\n\n\n\n\n Fried mozzarella sticks (6)\, marinara sauce \n\n\n\n\n\n\n\n\n\n\nZUCCHINI FRIES 7\n\n\n\n\n Fried zucchini sticks drizzled with roasted red pepper aioli & Pecorino Romano cheese \n\n\n\n\n\n\n\n\n\n\nEGGPLANT TOWER 9\n\n\n\n\n Fried eggplant stacked and layered with marinara\, Pecorino Romano and fresh Mozzarella cheeses (VE) \n\n\n\n\n\n\n\n\n\n\nSEASONAL BRUSCHETTA\n\n\n\n\nSeasonal bruschetta with crostini (VG) \ngf* upon request \n\n\n\n\n\n\n\n\n\n\n\n\n\n\n\n\nSANDWICHES\n\n\nAll sandwiches are served hot with chips. Make it a GF spinach bowl for $2.50! \n\n\n\n\n\n\n\nITALIAN BEEF SANDWICH 15\n\n\n\n\n House made thinly sliced beef in jus gravy\, sweet and hot peppers\, grilled onions on a hoagie roll with a side of jus gravy for dunking! Add cheese +$.75 \n\n\n\n\n\n\n\n\n\n\nSAUSAGE\, PEPPERS & ONIONS (SPO) 14\n\n\n\n\nGodfather Style – Spicy Italian sausage\, grilled peppers and onions on a hoagie roll \nGodmother Style – Spicy Italian sausage\, grilled peppers and onions\, marinara sauce and fresh mozzarella \n\n\n\n\n\n\n\n\n\n\nCHICKEN PESTO 14\n\n\n\n\nGrilled chicken breast thinly sliced\, roasted red peppers\, fresh Mozzarella cheese\, house made pesto aioli on a hoagie roll \n\n\n\n\n\n\n\n\n\n\nEGGPLANT PARM 13\n\n\n\n\n Fried eggplant\, marinara sauce\, fresh Mozzarella\, Pecorino Romano cheese on a hoagie roll (NOT available gf) \n\n\n\n\n\n\n\n\n\n\nVEGAN PANINI 12\n\n\n\n\n Marinated Portabella mushroom\, roasted red peppers\, spinach\, balsamic vinegar reduction \n\n\n\n\n\n\n\n\n\n\n\n\n\n\n\n\nDESSERT\n\n\nHouse made desserts \n\n\n\n\n\n\n\nCANNOLI 5\n\n\n\n\n Imported Sicilian cannoli shell\, ricotta cream filling with a hint of lemon\, mini chocolate chips\, powdered sugar \n\n\n\n\n\n\n\n\n\n\nTIRAMISU 7\n\n\n\n\n Individual cups of house made ladyfingers soaked in espresso with a fluffy mascarpone filling\, topped with cocoa powder \nhttps://joezeppys.com/
URL:https://citystarbrewing.com/event/joe-zeppys/2023-08-30/
CATEGORIES:Events,Food Trucks
ATTACH;FMTTYPE=image/jpeg:https://citystarbrewing.com/wp-content/uploads/2023/05/336383074_216538340963372_340785206198504889_n.jpg
END:VEVENT
BEGIN:VEVENT
DTSTART;TZID=America/Denver:20230831T120000
DTEND;TZID=America/Denver:20230831T200000
DTSTAMP:20260420T122222
CREATED:20221007T220739Z
LAST-MODIFIED:20250523T182800Z
UID:10006118-1693483200-1693512000@citystarbrewing.com
SUMMARY:Georgia Boys BBQ
DESCRIPTION:Come get some true Southern BBQ from our Georgia Boys BBQ Outpost food truck! We’re slingin’ our homemade grub all over Northern Colorado…get here early while the gettin’s good\, as we do sell out.
URL:https://citystarbrewing.com/event/georgia-boys-bbq-4/2023-08-31/
CATEGORIES:Events,Food Trucks
ATTACH;FMTTYPE=image/png:https://citystarbrewing.com/wp-content/uploads/2020/08/GeorgiaBoys.png
END:VEVENT
END:VCALENDAR