BEGIN:VCALENDAR
VERSION:2.0
PRODID:-//City Star Brewing - ECPv6.15.20//NONSGML v1.0//EN
CALSCALE:GREGORIAN
METHOD:PUBLISH
X-ORIGINAL-URL:https://citystarbrewing.com
X-WR-CALDESC:Events for City Star Brewing
REFRESH-INTERVAL;VALUE=DURATION:PT1H
X-Robots-Tag:noindex
X-PUBLISHED-TTL:PT1H
BEGIN:VTIMEZONE
TZID:America/Denver
BEGIN:DAYLIGHT
TZOFFSETFROM:-0700
TZOFFSETTO:-0600
TZNAME:MDT
DTSTART:20220313T090000
END:DAYLIGHT
BEGIN:STANDARD
TZOFFSETFROM:-0600
TZOFFSETTO:-0700
TZNAME:MST
DTSTART:20221106T080000
END:STANDARD
BEGIN:DAYLIGHT
TZOFFSETFROM:-0700
TZOFFSETTO:-0600
TZNAME:MDT
DTSTART:20230312T090000
END:DAYLIGHT
BEGIN:STANDARD
TZOFFSETFROM:-0600
TZOFFSETTO:-0700
TZNAME:MST
DTSTART:20231105T080000
END:STANDARD
BEGIN:DAYLIGHT
TZOFFSETFROM:-0700
TZOFFSETTO:-0600
TZNAME:MDT
DTSTART:20240310T090000
END:DAYLIGHT
BEGIN:STANDARD
TZOFFSETFROM:-0600
TZOFFSETTO:-0700
TZNAME:MST
DTSTART:20241103T080000
END:STANDARD
END:VTIMEZONE
BEGIN:VEVENT
DTSTART;TZID=America/Denver:20230704T180000
DTEND;TZID=America/Denver:20230704T200000
DTSTAMP:20260420T140847
CREATED:20220124T175122Z
LAST-MODIFIED:20250106T215223Z
UID:10006326-1688493600-1688500800@citystarbrewing.com
SUMMARY:Humdinger Trivia
DESCRIPTION:Come and get your brain going with us at Humdinger Trivia! Hosted by Berthoud locals\, Erin and Jacob Crabtree. It’s FREE to play and you could win $30 in City Star beer. The fun starts at 6pm every Tuesday in the beer garden. *limit 6 per team \nCheck out the food truck schedule to see who will be serving dinner out front.
URL:https://citystarbrewing.com/event/humdinger-trivia/2023-07-04/
CATEGORIES:Events,Taproom Events
ATTACH;FMTTYPE=image/png:https://citystarbrewing.com/wp-content/uploads/2022/01/Screen-Shot-2022-01-24-at-10.43.52-AM-e1643046764674.png
END:VEVENT
BEGIN:VEVENT
DTSTART;TZID=America/Denver:20230706T120000
DTEND;TZID=America/Denver:20230706T200000
DTSTAMP:20260420T140847
CREATED:20221007T220739Z
LAST-MODIFIED:20250523T182800Z
UID:10006116-1688644800-1688673600@citystarbrewing.com
SUMMARY:Georgia Boys BBQ
DESCRIPTION:Come get some true Southern BBQ from our Georgia Boys BBQ Outpost food truck! We’re slingin’ our homemade grub all over Northern Colorado…get here early while the gettin’s good\, as we do sell out.
URL:https://citystarbrewing.com/event/georgia-boys-bbq-4/2023-07-06/
CATEGORIES:Events,Food Trucks
ATTACH;FMTTYPE=image/png:https://citystarbrewing.com/wp-content/uploads/2020/08/GeorgiaBoys.png
END:VEVENT
BEGIN:VEVENT
DTSTART;TZID=America/Denver:20230707T160000
DTEND;TZID=America/Denver:20230707T200000
DTSTAMP:20260420T140847
CREATED:20221202T202704Z
LAST-MODIFIED:20230703T175004Z
UID:10002385-1688745600-1688760000@citystarbrewing.com
SUMMARY:Stick Around Skewers
DESCRIPTION:FLAME FINISHED STICKS & SKEWERS \nStick Around is a locally owned and operated Food Truck based in Boulder\, Colorado. Focusing on the worlds most traditional form of BBQ\, Skewers & kebabs! Stick Around brings something to the table for everybody. Take a look at our menu to see if you can find something that fits your style! \nMENU: https://www.stickaroundskewers.com/menu
URL:https://citystarbrewing.com/event/stick-around-skewers-3/2023-07-07/
LOCATION:CO
CATEGORIES:Events,Food Trucks
ATTACH;FMTTYPE=image/jpeg:https://citystarbrewing.com/wp-content/uploads/2021/05/stickaround.jpg
END:VEVENT
BEGIN:VEVENT
DTSTART;TZID=America/Denver:20230707T180000
DTEND;TZID=America/Denver:20230707T203000
DTSTAMP:20260420T140847
CREATED:20230313T204719Z
LAST-MODIFIED:20230505T223826Z
UID:10002205-1688752800-1688761800@citystarbrewing.com
SUMMARY:Gii Astorga
DESCRIPTION:Gii Astorga is a singer/songwriter from Northern Colorado. Inspired by the likes of Jack Johnson\, Jason Mraz\, Bill Withers\, and many more\, Gii strives to make each and every one of his shows as entertaining as possible. Since being in the Northern Colorado scene since 2009\, he as played in multiple venues across Colorado\, and has music for all ages. \nhttps://www.giiastorga.com
URL:https://citystarbrewing.com/event/gii-astorga/
LOCATION:CO
CATEGORIES:Events,Live Music
ATTACH;FMTTYPE=image/jpeg:https://citystarbrewing.com/wp-content/uploads/2023/03/gii.jpg
END:VEVENT
BEGIN:VEVENT
DTSTART;TZID=America/Denver:20230711T180000
DTEND;TZID=America/Denver:20230711T200000
DTSTAMP:20260420T140847
CREATED:20220124T175122Z
LAST-MODIFIED:20250106T215223Z
UID:10003862-1689098400-1689105600@citystarbrewing.com
SUMMARY:Humdinger Trivia
DESCRIPTION:Come and get your brain going with us at Humdinger Trivia! Hosted by Berthoud locals\, Erin and Jacob Crabtree. It’s FREE to play and you could win $30 in City Star beer. The fun starts at 6pm every Tuesday in the beer garden. *limit 6 per team \nCheck out the food truck schedule to see who will be serving dinner out front.
URL:https://citystarbrewing.com/event/humdinger-trivia/2023-07-11/
CATEGORIES:Events,Taproom Events
ATTACH;FMTTYPE=image/png:https://citystarbrewing.com/wp-content/uploads/2022/01/Screen-Shot-2022-01-24-at-10.43.52-AM-e1643046764674.png
END:VEVENT
BEGIN:VEVENT
DTSTART;TZID=America/Denver:20230714T150000
DTEND;TZID=America/Denver:20230714T210000
DTSTAMP:20260420T140847
CREATED:20230704T221216Z
LAST-MODIFIED:20230704T221216Z
UID:10004460-1689346800-1689368400@citystarbrewing.com
SUMMARY:Beer Release: Trailhead Tripel
DESCRIPTION:Belgian yeast driven ale\, resulting in complex fruit and spice notes. Deep golden in color with a creamy head. Available on draft and in cans to-go.
URL:https://citystarbrewing.com/event/beer-release-trailhead-tripel/
LOCATION:CO
CATEGORIES:Beer Releases,Events
ATTACH;FMTTYPE=image/png:https://citystarbrewing.com/wp-content/uploads/2023/07/TrailheadSQ-03.png
END:VEVENT
BEGIN:VEVENT
DTSTART;TZID=America/Denver:20230715T120000
DTEND;TZID=America/Denver:20230715T200000
DTSTAMP:20260420T140847
CREATED:20181128T060314Z
LAST-MODIFIED:20241203T220750Z
UID:10002373-1689422400-1689451200@citystarbrewing.com
SUMMARY:Sweaty Moose
DESCRIPTION:Sweaty Moose MENU: www.sweatymoose.com
URL:https://citystarbrewing.com/event/sweaty-moose/2023-07-15/
CATEGORIES:Events,Food Trucks
ATTACH;FMTTYPE=image/jpeg:https://citystarbrewing.com/wp-content/uploads/2017/10/sweaty-moose.jpg
END:VEVENT
BEGIN:VEVENT
DTSTART;TZID=America/Denver:20230718T180000
DTEND;TZID=America/Denver:20230718T200000
DTSTAMP:20260420T140847
CREATED:20220124T175122Z
LAST-MODIFIED:20250106T215223Z
UID:10006327-1689703200-1689710400@citystarbrewing.com
SUMMARY:Humdinger Trivia
DESCRIPTION:Come and get your brain going with us at Humdinger Trivia! Hosted by Berthoud locals\, Erin and Jacob Crabtree. It’s FREE to play and you could win $30 in City Star beer. The fun starts at 6pm every Tuesday in the beer garden. *limit 6 per team \nCheck out the food truck schedule to see who will be serving dinner out front.
URL:https://citystarbrewing.com/event/humdinger-trivia/2023-07-18/
CATEGORIES:Events,Taproom Events
ATTACH;FMTTYPE=image/png:https://citystarbrewing.com/wp-content/uploads/2022/01/Screen-Shot-2022-01-24-at-10.43.52-AM-e1643046764674.png
END:VEVENT
BEGIN:VEVENT
DTSTART;TZID=America/Denver:20230720T160000
DTEND;TZID=America/Denver:20230720T200000
DTSTAMP:20260420T140847
CREATED:20221227T155123Z
LAST-MODIFIED:20240201T181557Z
UID:10002358-1689868800-1689883200@citystarbrewing.com
SUMMARY:Stick Around Skewers
DESCRIPTION:FLAME FINISHED STICKS & SKEWERS \nStick Around is a locally owned and operated Food Truck based in Boulder\, Colorado. Focusing on the worlds most traditional form of BBQ\, Skewers & kebabs! Stick Around brings something to the table for everybody. Take a look at our menu to see if you can find something that fits your style! \nMENU: https://www.stickaroundskewers.com/menu
URL:https://citystarbrewing.com/event/stick-around-skewers-4/2023-07-20/
CATEGORIES:Events,Food Trucks
ATTACH;FMTTYPE=image/jpeg:https://citystarbrewing.com/wp-content/uploads/2021/05/stickaround.jpg
END:VEVENT
BEGIN:VEVENT
DTSTART;TZID=America/Denver:20230721T160000
DTEND;TZID=America/Denver:20230721T200000
DTSTAMP:20260420T140847
CREATED:20220105T170205Z
LAST-MODIFIED:20230821T145946Z
UID:10002406-1689955200-1689969600@citystarbrewing.com
SUMMARY:Steamy Weiners
DESCRIPTION:Menu: https://steamyweiners.com
URL:https://citystarbrewing.com/event/steamy-weiners/2023-07-21/
CATEGORIES:Events,Food Trucks
ATTACH;FMTTYPE=image/jpeg:https://citystarbrewing.com/wp-content/uploads/2020/10/steamyweiners.jpg
END:VEVENT
BEGIN:VEVENT
DTSTART;TZID=America/Denver:20230722T120000
DTEND;TZID=America/Denver:20230722T200000
DTSTAMP:20260420T140847
CREATED:20220113T005446Z
LAST-MODIFIED:20240710T180051Z
UID:10002387-1690027200-1690056000@citystarbrewing.com
SUMMARY:Georgia Boys BBQ
DESCRIPTION:Come get some true Southern BBQ from our Georgia Boys BBQ Outpost food truck! We’re slingin’ our homemade grub all over Northern Colorado…get here early while the gettin’s good\, as we do sell out.
URL:https://citystarbrewing.com/event/georgia-boys-bbq-2/2023-07-22/
CATEGORIES:Events,Food Trucks
ATTACH;FMTTYPE=image/png:https://citystarbrewing.com/wp-content/uploads/2020/08/GeorgiaBoys.png
END:VEVENT
BEGIN:VEVENT
DTSTART;TZID=America/Denver:20230725T180000
DTEND;TZID=America/Denver:20230725T200000
DTSTAMP:20260420T140847
CREATED:20220124T175122Z
LAST-MODIFIED:20250106T215223Z
UID:10003863-1690308000-1690315200@citystarbrewing.com
SUMMARY:Humdinger Trivia
DESCRIPTION:Come and get your brain going with us at Humdinger Trivia! Hosted by Berthoud locals\, Erin and Jacob Crabtree. It’s FREE to play and you could win $30 in City Star beer. The fun starts at 6pm every Tuesday in the beer garden. *limit 6 per team \nCheck out the food truck schedule to see who will be serving dinner out front.
URL:https://citystarbrewing.com/event/humdinger-trivia/2023-07-25/
CATEGORIES:Events,Taproom Events
ATTACH;FMTTYPE=image/png:https://citystarbrewing.com/wp-content/uploads/2022/01/Screen-Shot-2022-01-24-at-10.43.52-AM-e1643046764674.png
END:VEVENT
BEGIN:VEVENT
DTSTART;TZID=America/Denver:20230730T170000
DTEND;TZID=America/Denver:20230730T193000
DTSTAMP:20260420T140847
CREATED:20230515T203911Z
LAST-MODIFIED:20230515T203911Z
UID:10002782-1690736400-1690745400@citystarbrewing.com
SUMMARY:Ansel and the Brain Tattoos
DESCRIPTION:Ansel And The Brain Tattoos is an Acoustic Explosion! Ansel Foxley on dobro and guitar\, Darren Radach on mandolin\, and Taylor Tesler on upright bass. Look out! \nhttps://www.thebraintattoos.com/
URL:https://citystarbrewing.com/event/ansel-and-the-brain-tattoos/
LOCATION:CO
CATEGORIES:Events,Live Music
ATTACH;FMTTYPE=image/jpeg:https://citystarbrewing.com/wp-content/uploads/2023/05/andselandthebraintattoos-e1684183104429.jpg
END:VEVENT
END:VCALENDAR