BEGIN:VCALENDAR
VERSION:2.0
PRODID:-//City Star Brewing - ECPv6.15.20//NONSGML v1.0//EN
CALSCALE:GREGORIAN
METHOD:PUBLISH
X-ORIGINAL-URL:https://citystarbrewing.com
X-WR-CALDESC:Events for City Star Brewing
REFRESH-INTERVAL;VALUE=DURATION:PT1H
X-Robots-Tag:noindex
X-PUBLISHED-TTL:PT1H
BEGIN:VTIMEZONE
TZID:America/Denver
BEGIN:DAYLIGHT
TZOFFSETFROM:-0700
TZOFFSETTO:-0600
TZNAME:MDT
DTSTART:20220313T090000
END:DAYLIGHT
BEGIN:STANDARD
TZOFFSETFROM:-0600
TZOFFSETTO:-0700
TZNAME:MST
DTSTART:20221106T080000
END:STANDARD
BEGIN:DAYLIGHT
TZOFFSETFROM:-0700
TZOFFSETTO:-0600
TZNAME:MDT
DTSTART:20230312T090000
END:DAYLIGHT
BEGIN:STANDARD
TZOFFSETFROM:-0600
TZOFFSETTO:-0700
TZNAME:MST
DTSTART:20231105T080000
END:STANDARD
BEGIN:DAYLIGHT
TZOFFSETFROM:-0700
TZOFFSETTO:-0600
TZNAME:MDT
DTSTART:20240310T090000
END:DAYLIGHT
BEGIN:STANDARD
TZOFFSETFROM:-0600
TZOFFSETTO:-0700
TZNAME:MST
DTSTART:20241103T080000
END:STANDARD
END:VTIMEZONE
BEGIN:VEVENT
DTSTART;TZID=America/Denver:20230502T180000
DTEND;TZID=America/Denver:20230502T200000
DTSTAMP:20260420T174413
CREATED:20220124T175122Z
LAST-MODIFIED:20250106T215223Z
UID:10002176-1683050400-1683057600@citystarbrewing.com
SUMMARY:Humdinger Trivia
DESCRIPTION:Come and get your brain going with us at Humdinger Trivia! Hosted by Berthoud locals\, Erin and Jacob Crabtree. It’s FREE to play and you could win $30 in City Star beer. The fun starts at 6pm every Tuesday in the beer garden. *limit 6 per team \nCheck out the food truck schedule to see who will be serving dinner out front.
URL:https://citystarbrewing.com/event/humdinger-trivia/2023-05-02/
CATEGORIES:Events,Taproom Events
ATTACH;FMTTYPE=image/png:https://citystarbrewing.com/wp-content/uploads/2022/01/Screen-Shot-2022-01-24-at-10.43.52-AM-e1643046764674.png
END:VEVENT
BEGIN:VEVENT
DTSTART;TZID=America/Denver:20230505T150000
DTEND;TZID=America/Denver:20230505T200000
DTSTAMP:20260420T174413
CREATED:20230418T004805Z
LAST-MODIFIED:20230425T012806Z
UID:10002335-1683298800-1683316800@citystarbrewing.com
SUMMARY:Butcher and The Blonde
DESCRIPTION:Butcher and The Blonde\, food truck and full-service catering company serves up #streetstylecomfortfood all over the front range. with our original signature loaded street fries\, fresh batch green chili\, house ground butcher burger grinds\, tacos\, smoky – mac & cheese\, and kids meals. you’re sure to find something for the whole family. always served hot and fresh to order and pairs well with your favorite craft beer !!
URL:https://citystarbrewing.com/event/butcher-and-the-blonde/
LOCATION:CO
CATEGORIES:Events,Food Trucks
ATTACH;FMTTYPE=image/jpeg:https://citystarbrewing.com/wp-content/uploads/2023/04/butcher-and-blonde.jpeg
END:VEVENT
BEGIN:VEVENT
DTSTART;TZID=America/Denver:20230505T150000
DTEND;TZID=America/Denver:20230505T210000
DTSTAMP:20260420T174413
CREATED:20210426T185612Z
LAST-MODIFIED:20230417T192740Z
UID:10001644-1683298800-1683320400@citystarbrewing.com
SUMMARY:Beer Release: Salud
DESCRIPTION:American Wheat brewed with wheat and sea salt\, then finished with watermelon and a hint of lime puree and chili.
URL:https://citystarbrewing.com/event/salud-beer-release/
LOCATION:CO
CATEGORIES:Beer Releases,Events
ATTACH;FMTTYPE=image/jpeg:https://citystarbrewing.com/wp-content/uploads/2021/04/Salud-e1619807489718.jpg
END:VEVENT
BEGIN:VEVENT
DTSTART;TZID=America/Denver:20230509T180000
DTEND;TZID=America/Denver:20230509T200000
DTSTAMP:20260420T174413
CREATED:20220124T175122Z
LAST-MODIFIED:20250106T215223Z
UID:10002185-1683655200-1683662400@citystarbrewing.com
SUMMARY:Humdinger Trivia
DESCRIPTION:Come and get your brain going with us at Humdinger Trivia! Hosted by Berthoud locals\, Erin and Jacob Crabtree. It’s FREE to play and you could win $30 in City Star beer. The fun starts at 6pm every Tuesday in the beer garden. *limit 6 per team \nCheck out the food truck schedule to see who will be serving dinner out front.
URL:https://citystarbrewing.com/event/humdinger-trivia/2023-05-09/
CATEGORIES:Events,Taproom Events
ATTACH;FMTTYPE=image/png:https://citystarbrewing.com/wp-content/uploads/2022/01/Screen-Shot-2022-01-24-at-10.43.52-AM-e1643046764674.png
END:VEVENT
BEGIN:VEVENT
DTSTART;TZID=America/Denver:20230511T120000
DTEND;TZID=America/Denver:20230511T200000
DTSTAMP:20260420T174413
CREATED:20221007T220739Z
LAST-MODIFIED:20250523T182800Z
UID:10006114-1683806400-1683835200@citystarbrewing.com
SUMMARY:Georgia Boys BBQ
DESCRIPTION:Come get some true Southern BBQ from our Georgia Boys BBQ Outpost food truck! We’re slingin’ our homemade grub all over Northern Colorado…get here early while the gettin’s good\, as we do sell out.
URL:https://citystarbrewing.com/event/georgia-boys-bbq-4/2023-05-11/
CATEGORIES:Events,Food Trucks
ATTACH;FMTTYPE=image/png:https://citystarbrewing.com/wp-content/uploads/2020/08/GeorgiaBoys.png
END:VEVENT
BEGIN:VEVENT
DTSTART;TZID=America/Denver:20230512T160000
DTEND;TZID=America/Denver:20230512T200000
DTSTAMP:20260420T174413
CREATED:20221202T202704Z
LAST-MODIFIED:20230703T175004Z
UID:10002200-1683907200-1683921600@citystarbrewing.com
SUMMARY:Stick Around Skewers
DESCRIPTION:FLAME FINISHED STICKS & SKEWERS \nStick Around is a locally owned and operated Food Truck based in Boulder\, Colorado. Focusing on the worlds most traditional form of BBQ\, Skewers & kebabs! Stick Around brings something to the table for everybody. Take a look at our menu to see if you can find something that fits your style! \nMENU: https://www.stickaroundskewers.com/menu
URL:https://citystarbrewing.com/event/stick-around-skewers-3/2023-05-12/
LOCATION:CO
CATEGORIES:Events,Food Trucks
ATTACH;FMTTYPE=image/jpeg:https://citystarbrewing.com/wp-content/uploads/2021/05/stickaround.jpg
END:VEVENT
BEGIN:VEVENT
DTSTART;TZID=America/Denver:20230513T120000
DTEND;TZID=America/Denver:20230513T200000
DTSTAMP:20260420T174413
CREATED:20230418T004048Z
LAST-MODIFIED:20230924T205847Z
UID:10002388-1683979200-1684008000@citystarbrewing.com
SUMMARY:Lil Smoke
DESCRIPTION:Asian Inspired BBQ food truck.\nhttps://www.lil-smoke.com/book-truck
URL:https://citystarbrewing.com/event/lil-smoke/2023-05-13/
CATEGORIES:Events,Food Trucks
ATTACH;FMTTYPE=image/jpeg:https://citystarbrewing.com/wp-content/uploads/2023/04/lil_smoke.jpeg.jpg
END:VEVENT
BEGIN:VEVENT
DTSTART;TZID=America/Denver:20230516T180000
DTEND;TZID=America/Denver:20230516T200000
DTSTAMP:20260420T174413
CREATED:20220124T175122Z
LAST-MODIFIED:20250106T215223Z
UID:10002186-1684260000-1684267200@citystarbrewing.com
SUMMARY:Humdinger Trivia
DESCRIPTION:Come and get your brain going with us at Humdinger Trivia! Hosted by Berthoud locals\, Erin and Jacob Crabtree. It’s FREE to play and you could win $30 in City Star beer. The fun starts at 6pm every Tuesday in the beer garden. *limit 6 per team \nCheck out the food truck schedule to see who will be serving dinner out front.
URL:https://citystarbrewing.com/event/humdinger-trivia/2023-05-16/
CATEGORIES:Events,Taproom Events
ATTACH;FMTTYPE=image/png:https://citystarbrewing.com/wp-content/uploads/2022/01/Screen-Shot-2022-01-24-at-10.43.52-AM-e1643046764674.png
END:VEVENT
BEGIN:VEVENT
DTSTART;TZID=America/Denver:20230519T150000
DTEND;TZID=America/Denver:20230519T210000
DTSTAMP:20260420T174413
CREATED:20230508T152114Z
LAST-MODIFIED:20230508T152152Z
UID:10002404-1684508400-1684530000@citystarbrewing.com
SUMMARY:Beer Release: Full Duration Juicy Pale Ale
DESCRIPTION:While City Star slings beer in downtown Berthoud\, Ursa Major slings engines on the outskirts. Ursa and City Star came together to brew Full Duration Juicy Pale Ale featuring Comet\, Strata and Galaxy hops. A beer that will out of the STRATosphere\, chasing COMETs through the GALAXY (if you catch our drift here.) This brew will be available on draft only so come enjoy it while it lasts.
URL:https://citystarbrewing.com/event/beer-release-full-duration/
LOCATION:CO
CATEGORIES:Beer Releases,Events
ATTACH;FMTTYPE=image/png:https://citystarbrewing.com/wp-content/uploads/2023/05/fullduration.png
END:VEVENT
BEGIN:VEVENT
DTSTART;TZID=America/Denver:20230519T160000
DTEND;TZID=America/Denver:20230519T200000
DTSTAMP:20260420T174413
CREATED:20230501T172024Z
LAST-MODIFIED:20241026T164434Z
UID:10002399-1684512000-1684526400@citystarbrewing.com
SUMMARY:Joe Zeppys
DESCRIPTION:MENU\n\n\n\n\n\n\n\n\nBREAKFAST ITEMS\n\n\n\n\n\n\n\nBACON\, EGG & CHEESE 9\n\n\n\n\nServed on a toasted Kaiser roll with fried egg\, bacon and American cheese. Served with a hash brown on the side \n\n\n\n\n\n\n\n\n\n\nSAUSAGE\, EGG & CHEESE 9\n\n\n\n\nServed on a toasted Kaiser roll with fried egg\, sausage  and American cheese. Served with a hash brown on the side \n\n\n\n\n\n\n\n\n\n\nTAYLOR HAM\, EGG & CHEESE 9\n\n\n\n\nServed on a toasted Kaiser roll with fried egg\, Taylor ham  and American cheese. Served with a hash brown on the side \n\n\n\n\n\n\n\n\n\n\nVEGGIE SAUSAGE\, EGG & CHEESE 8\n\n\n\n\nServed on a toasted Kaiser roll with fried egg\, veggie sausage  and American cheese. Served with a hash brown on the side \n\n\n\n\n\n\n\n\n\n\nEGG & CHEESE 7\n\n\n\n\nServed on a toasted Kaiser roll with fried egg and American cheese. Served with a hash brown on the side \n\n\n\n\n\n\n\n\n\n\n\n\n\n\n\n\nSHARABLE STARTERS\n\n\nStarters feed 1-2 people \n\n\n\n\n\n\n\nMOZZARELLA STICKS 6\n\n\n\n\n Fried mozzarella sticks (6)\, marinara sauce \n\n\n\n\n\n\n\n\n\n\nZUCCHINI FRIES 7\n\n\n\n\n Fried zucchini sticks drizzled with roasted red pepper aioli & Pecorino Romano cheese \n\n\n\n\n\n\n\n\n\n\nEGGPLANT TOWER 9\n\n\n\n\n Fried eggplant stacked and layered with marinara\, Pecorino Romano and fresh Mozzarella cheeses (VE) \n\n\n\n\n\n\n\n\n\n\nSEASONAL BRUSCHETTA\n\n\n\n\nSeasonal bruschetta with crostini (VG) \ngf* upon request \n\n\n\n\n\n\n\n\n\n\n\n\n\n\n\n\nSANDWICHES\n\n\nAll sandwiches are served hot with chips. Make it a GF spinach bowl for $2.50! \n\n\n\n\n\n\n\nITALIAN BEEF SANDWICH 15\n\n\n\n\n House made thinly sliced beef in jus gravy\, sweet and hot peppers\, grilled onions on a hoagie roll with a side of jus gravy for dunking! Add cheese +$.75 \n\n\n\n\n\n\n\n\n\n\nSAUSAGE\, PEPPERS & ONIONS (SPO) 14\n\n\n\n\nGodfather Style – Spicy Italian sausage\, grilled peppers and onions on a hoagie roll \nGodmother Style – Spicy Italian sausage\, grilled peppers and onions\, marinara sauce and fresh mozzarella \n\n\n\n\n\n\n\n\n\n\nCHICKEN PESTO 14\n\n\n\n\nGrilled chicken breast thinly sliced\, roasted red peppers\, fresh Mozzarella cheese\, house made pesto aioli on a hoagie roll \n\n\n\n\n\n\n\n\n\n\nEGGPLANT PARM 13\n\n\n\n\n Fried eggplant\, marinara sauce\, fresh Mozzarella\, Pecorino Romano cheese on a hoagie roll (NOT available gf) \n\n\n\n\n\n\n\n\n\n\nVEGAN PANINI 12\n\n\n\n\n Marinated Portabella mushroom\, roasted red peppers\, spinach\, balsamic vinegar reduction \n\n\n\n\n\n\n\n\n\n\n\n\n\n\n\n\nDESSERT\n\n\nHouse made desserts \n\n\n\n\n\n\n\nCANNOLI 5\n\n\n\n\n Imported Sicilian cannoli shell\, ricotta cream filling with a hint of lemon\, mini chocolate chips\, powdered sugar \n\n\n\n\n\n\n\n\n\n\nTIRAMISU 7\n\n\n\n\n Individual cups of house made ladyfingers soaked in espresso with a fluffy mascarpone filling\, topped with cocoa powder \nhttps://joezeppys.com/
URL:https://citystarbrewing.com/event/joe-zeppys/2023-05-19/
CATEGORIES:Events,Food Trucks
ATTACH;FMTTYPE=image/jpeg:https://citystarbrewing.com/wp-content/uploads/2023/05/336383074_216538340963372_340785206198504889_n.jpg
END:VEVENT
BEGIN:VEVENT
DTSTART;TZID=America/Denver:20230523T180000
DTEND;TZID=America/Denver:20230523T200000
DTSTAMP:20260420T174413
CREATED:20220124T175122Z
LAST-MODIFIED:20250106T215223Z
UID:10003856-1684864800-1684872000@citystarbrewing.com
SUMMARY:Humdinger Trivia
DESCRIPTION:Come and get your brain going with us at Humdinger Trivia! Hosted by Berthoud locals\, Erin and Jacob Crabtree. It’s FREE to play and you could win $30 in City Star beer. The fun starts at 6pm every Tuesday in the beer garden. *limit 6 per team \nCheck out the food truck schedule to see who will be serving dinner out front.
URL:https://citystarbrewing.com/event/humdinger-trivia/2023-05-23/
CATEGORIES:Events,Taproom Events
ATTACH;FMTTYPE=image/png:https://citystarbrewing.com/wp-content/uploads/2022/01/Screen-Shot-2022-01-24-at-10.43.52-AM-e1643046764674.png
END:VEVENT
BEGIN:VEVENT
DTSTART;TZID=America/Denver:20230525T160000
DTEND;TZID=America/Denver:20230525T200000
DTSTAMP:20260420T174413
CREATED:20221227T155123Z
LAST-MODIFIED:20240201T181557Z
UID:10002356-1685030400-1685044800@citystarbrewing.com
SUMMARY:Stick Around Skewers
DESCRIPTION:FLAME FINISHED STICKS & SKEWERS \nStick Around is a locally owned and operated Food Truck based in Boulder\, Colorado. Focusing on the worlds most traditional form of BBQ\, Skewers & kebabs! Stick Around brings something to the table for everybody. Take a look at our menu to see if you can find something that fits your style! \nMENU: https://www.stickaroundskewers.com/menu
URL:https://citystarbrewing.com/event/stick-around-skewers-4/2023-05-25/
CATEGORIES:Events,Food Trucks
ATTACH;FMTTYPE=image/jpeg:https://citystarbrewing.com/wp-content/uploads/2021/05/stickaround.jpg
END:VEVENT
BEGIN:VEVENT
DTSTART;TZID=America/Denver:20230526T180000
DTEND;TZID=America/Denver:20230526T203000
DTSTAMP:20260420T174413
CREATED:20230417T164503Z
LAST-MODIFIED:20230417T165017Z
UID:10002331-1685124000-1685133000@citystarbrewing.com
SUMMARY:Racing With The Sun
DESCRIPTION:The magnetic songwriting and positive vibe of Nic Clark and Joe Schicke form the bedrock of Racing With The Sun\, a blues folk duo named after the song by American folk artist Ella Jenkins.
URL:https://citystarbrewing.com/event/racing-with-the-sun/
LOCATION:CO
CATEGORIES:Live Music
ATTACH;FMTTYPE=image/jpeg:https://citystarbrewing.com/wp-content/uploads/2023/04/racing-with-the-sun.jpg
END:VEVENT
BEGIN:VEVENT
DTSTART;TZID=America/Denver:20230527T120000
DTEND;TZID=America/Denver:20230527T200000
DTSTAMP:20260420T174413
CREATED:20220113T005446Z
LAST-MODIFIED:20240710T180051Z
UID:10002321-1685188800-1685217600@citystarbrewing.com
SUMMARY:Georgia Boys BBQ
DESCRIPTION:Come get some true Southern BBQ from our Georgia Boys BBQ Outpost food truck! We’re slingin’ our homemade grub all over Northern Colorado…get here early while the gettin’s good\, as we do sell out.
URL:https://citystarbrewing.com/event/georgia-boys-bbq-2/2023-05-27/
CATEGORIES:Events,Food Trucks
ATTACH;FMTTYPE=image/png:https://citystarbrewing.com/wp-content/uploads/2020/08/GeorgiaBoys.png
END:VEVENT
BEGIN:VEVENT
DTSTART;TZID=America/Denver:20230529T120000
DTEND;TZID=America/Denver:20230529T200000
DTSTAMP:20260420T174413
CREATED:20211230T204235Z
LAST-MODIFIED:20230219T190253Z
UID:10001779-1685361600-1685390400@citystarbrewing.com
SUMMARY:Special Taproom Hours
DESCRIPTION:Memorial Day HOURS 12-8pm. Grab your beers to-go at citystarpickup.com
URL:https://citystarbrewing.com/event/special-taproom-hours-4/
LOCATION:CO
CATEGORIES:Events,Taproom Events
ATTACH;FMTTYPE=image/jpeg:https://citystarbrewing.com/wp-content/uploads/2021/12/flag-1.jpg
END:VEVENT
BEGIN:VEVENT
DTSTART;TZID=America/Denver:20230530T180000
DTEND;TZID=America/Denver:20230530T200000
DTSTAMP:20260420T174413
CREATED:20220124T175122Z
LAST-MODIFIED:20250106T215223Z
UID:10003857-1685469600-1685476800@citystarbrewing.com
SUMMARY:Humdinger Trivia
DESCRIPTION:Come and get your brain going with us at Humdinger Trivia! Hosted by Berthoud locals\, Erin and Jacob Crabtree. It’s FREE to play and you could win $30 in City Star beer. The fun starts at 6pm every Tuesday in the beer garden. *limit 6 per team \nCheck out the food truck schedule to see who will be serving dinner out front.
URL:https://citystarbrewing.com/event/humdinger-trivia/2023-05-30/
CATEGORIES:Events,Taproom Events
ATTACH;FMTTYPE=image/png:https://citystarbrewing.com/wp-content/uploads/2022/01/Screen-Shot-2022-01-24-at-10.43.52-AM-e1643046764674.png
END:VEVENT
END:VCALENDAR