BEGIN:VCALENDAR
VERSION:2.0
PRODID:-//City Star Brewing - ECPv6.15.20//NONSGML v1.0//EN
CALSCALE:GREGORIAN
METHOD:PUBLISH
X-WR-CALNAME:City Star Brewing
X-ORIGINAL-URL:https://citystarbrewing.com
X-WR-CALDESC:Events for City Star Brewing
REFRESH-INTERVAL;VALUE=DURATION:PT1H
X-Robots-Tag:noindex
X-PUBLISHED-TTL:PT1H
BEGIN:VTIMEZONE
TZID:America/Denver
BEGIN:DAYLIGHT
TZOFFSETFROM:-0700
TZOFFSETTO:-0600
TZNAME:MDT
DTSTART:20220313T090000
END:DAYLIGHT
BEGIN:STANDARD
TZOFFSETFROM:-0600
TZOFFSETTO:-0700
TZNAME:MST
DTSTART:20221106T080000
END:STANDARD
BEGIN:DAYLIGHT
TZOFFSETFROM:-0700
TZOFFSETTO:-0600
TZNAME:MDT
DTSTART:20230312T090000
END:DAYLIGHT
BEGIN:STANDARD
TZOFFSETFROM:-0600
TZOFFSETTO:-0700
TZNAME:MST
DTSTART:20231105T080000
END:STANDARD
BEGIN:DAYLIGHT
TZOFFSETFROM:-0700
TZOFFSETTO:-0600
TZNAME:MDT
DTSTART:20240310T090000
END:DAYLIGHT
BEGIN:STANDARD
TZOFFSETFROM:-0600
TZOFFSETTO:-0700
TZNAME:MST
DTSTART:20241103T080000
END:STANDARD
END:VTIMEZONE
BEGIN:VEVENT
DTSTART;TZID=America/Denver:20230401T120000
DTEND;TZID=America/Denver:20230401T200000
DTSTAMP:20260420T191519
CREATED:20220113T005446Z
LAST-MODIFIED:20240710T180051Z
UID:10002319-1680350400-1680379200@citystarbrewing.com
SUMMARY:Georgia Boys BBQ
DESCRIPTION:Come get some true Southern BBQ from our Georgia Boys BBQ Outpost food truck! We’re slingin’ our homemade grub all over Northern Colorado…get here early while the gettin’s good\, as we do sell out.
URL:https://citystarbrewing.com/event/georgia-boys-bbq-2/2023-04-01/
CATEGORIES:Events,Food Trucks
ATTACH;FMTTYPE=image/png:https://citystarbrewing.com/wp-content/uploads/2020/08/GeorgiaBoys.png
END:VEVENT
BEGIN:VEVENT
DTSTART;TZID=America/Denver:20230404T160000
DTEND;TZID=America/Denver:20230404T200000
DTSTAMP:20260420T191519
CREATED:20200711T213851Z
LAST-MODIFIED:20230123T152358Z
UID:10002139-1680624000-1680638400@citystarbrewing.com
SUMMARY:Dill's Maine Lobster Shack
DESCRIPTION:Maine native Ryan Dill and wife Liz bring you: Dill’s Maine Lobster Shack\, a Food Trailer in Northern Colorado focusing on authentic Maine Lobster & Crab Rolls. Looking forward to bringing a bit of New England to Colorado. \nAll seafood is flown in overnight\, fresh from the coast of Maine! Wicked Good!!!! \nMENU \n$20 Full Lobster Roll Plate – 4oz Lobster Roll\, Coleslaw\, Pickle Spear\, Chips \n$16 1/2 Lobster Roll Plate – 2oz Lobster Roll\, Coleslaw\, Pickle Spear\, Chips \n$20 Crab Plate Roll – 4oz Crab Roll\, Coleslaw\, Pickle Spear\, Chips \n$5 Hot Dog Plate – Hot Dog\, Pickle Spear\, Chips
URL:https://citystarbrewing.com/event/dills-maine-lobster-shack/2023-04-04/
LOCATION:CO
CATEGORIES:Events,Food Trucks
ATTACH;FMTTYPE=image/jpeg:https://citystarbrewing.com/wp-content/uploads/2020/07/dills-maine-1.jpg
END:VEVENT
BEGIN:VEVENT
DTSTART;TZID=America/Denver:20230404T180000
DTEND;TZID=America/Denver:20230404T200000
DTSTAMP:20260420T191519
CREATED:20220124T175122Z
LAST-MODIFIED:20250106T215223Z
UID:10002157-1680631200-1680638400@citystarbrewing.com
SUMMARY:Humdinger Trivia
DESCRIPTION:Come and get your brain going with us at Humdinger Trivia! Hosted by Berthoud locals\, Erin and Jacob Crabtree. It’s FREE to play and you could win $30 in City Star beer. The fun starts at 6pm every Tuesday in the beer garden. *limit 6 per team \nCheck out the food truck schedule to see who will be serving dinner out front.
URL:https://citystarbrewing.com/event/humdinger-trivia/2023-04-04/
CATEGORIES:Events,Taproom Events
ATTACH;FMTTYPE=image/png:https://citystarbrewing.com/wp-content/uploads/2022/01/Screen-Shot-2022-01-24-at-10.43.52-AM-e1643046764674.png
END:VEVENT
BEGIN:VEVENT
DTSTART;TZID=America/Denver:20230407T150000
DTEND;TZID=America/Denver:20230407T210000
DTSTAMP:20260420T191519
CREATED:20230320T140816Z
LAST-MODIFIED:20230320T140816Z
UID:10002211-1680879600-1680901200@citystarbrewing.com
SUMMARY:First Friday in Downtown Berthoud
DESCRIPTION:Join us and several other local businesses as we participate in First Fridays in downtown Berthoud from April through September. \n\n\n\nYou + Me Floral and Gifts – City Star Brewing – The Rancher’s Wife – Berthoud Drug & Boutique – Rise Artisan Bread – Wildfire Arts Center of Berthoud – The Source Zero NoCo – Homestead Fine Art Gallery – Mountain Ridge Dentistry
URL:https://citystarbrewing.com/event/first-friday-in-downtown-berthoud/2023-04-07/
LOCATION:CO
CATEGORIES:Events,Taproom Events
ATTACH;FMTTYPE=image/jpeg:https://citystarbrewing.com/wp-content/uploads/2023/03/map-first-friday.jpg
END:VEVENT
BEGIN:VEVENT
DTSTART;TZID=America/Denver:20230411T180000
DTEND;TZID=America/Denver:20230411T200000
DTSTAMP:20260420T191519
CREATED:20220124T175122Z
LAST-MODIFIED:20250106T215223Z
UID:10002158-1681236000-1681243200@citystarbrewing.com
SUMMARY:Humdinger Trivia
DESCRIPTION:Come and get your brain going with us at Humdinger Trivia! Hosted by Berthoud locals\, Erin and Jacob Crabtree. It’s FREE to play and you could win $30 in City Star beer. The fun starts at 6pm every Tuesday in the beer garden. *limit 6 per team \nCheck out the food truck schedule to see who will be serving dinner out front.
URL:https://citystarbrewing.com/event/humdinger-trivia/2023-04-11/
CATEGORIES:Events,Taproom Events
ATTACH;FMTTYPE=image/png:https://citystarbrewing.com/wp-content/uploads/2022/01/Screen-Shot-2022-01-24-at-10.43.52-AM-e1643046764674.png
END:VEVENT
BEGIN:VEVENT
DTSTART;TZID=America/Denver:20230412T160000
DTEND;TZID=America/Denver:20230412T200000
DTSTAMP:20260420T191519
CREATED:20230306T184639Z
LAST-MODIFIED:20230306T184639Z
UID:10002201-1681315200-1681329600@citystarbrewing.com
SUMMARY:Pong Thai Cusine
DESCRIPTION:
URL:https://citystarbrewing.com/event/pong-thai-cusine/
LOCATION:CO
END:VEVENT
BEGIN:VEVENT
DTSTART;TZID=America/Denver:20230413T120000
DTEND;TZID=America/Denver:20230413T200000
DTSTAMP:20260420T191519
CREATED:20221007T220739Z
LAST-MODIFIED:20250523T182800Z
UID:10006113-1681387200-1681416000@citystarbrewing.com
SUMMARY:Georgia Boys BBQ
DESCRIPTION:Come get some true Southern BBQ from our Georgia Boys BBQ Outpost food truck! We’re slingin’ our homemade grub all over Northern Colorado…get here early while the gettin’s good\, as we do sell out.
URL:https://citystarbrewing.com/event/georgia-boys-bbq-4/2023-04-13/
CATEGORIES:Events,Food Trucks
ATTACH;FMTTYPE=image/png:https://citystarbrewing.com/wp-content/uploads/2020/08/GeorgiaBoys.png
END:VEVENT
BEGIN:VEVENT
DTSTART;TZID=America/Denver:20230414T150000
DTEND;TZID=America/Denver:20230414T210000
DTSTAMP:20260420T191519
CREATED:20230320T140816Z
LAST-MODIFIED:20230320T140816Z
UID:10002212-1681484400-1681506000@citystarbrewing.com
SUMMARY:First Friday in Downtown Berthoud
DESCRIPTION:Join us and several other local businesses as we participate in First Fridays in downtown Berthoud from April through September. \n\n\n\nYou + Me Floral and Gifts – City Star Brewing – The Rancher’s Wife – Berthoud Drug & Boutique – Rise Artisan Bread – Wildfire Arts Center of Berthoud – The Source Zero NoCo – Homestead Fine Art Gallery – Mountain Ridge Dentistry
URL:https://citystarbrewing.com/event/first-friday-in-downtown-berthoud/2023-04-14/
LOCATION:CO
CATEGORIES:Events,Taproom Events
ATTACH;FMTTYPE=image/jpeg:https://citystarbrewing.com/wp-content/uploads/2023/03/map-first-friday.jpg
END:VEVENT
BEGIN:VEVENT
DTSTART;TZID=America/Denver:20230414T160000
DTEND;TZID=America/Denver:20230414T200000
DTSTAMP:20260420T191519
CREATED:20221202T202704Z
LAST-MODIFIED:20230703T175004Z
UID:10002199-1681488000-1681502400@citystarbrewing.com
SUMMARY:Stick Around Skewers
DESCRIPTION:FLAME FINISHED STICKS & SKEWERS \nStick Around is a locally owned and operated Food Truck based in Boulder\, Colorado. Focusing on the worlds most traditional form of BBQ\, Skewers & kebabs! Stick Around brings something to the table for everybody. Take a look at our menu to see if you can find something that fits your style! \nMENU: https://www.stickaroundskewers.com/menu
URL:https://citystarbrewing.com/event/stick-around-skewers-3/2023-04-14/
LOCATION:CO
CATEGORIES:Events,Food Trucks
ATTACH;FMTTYPE=image/jpeg:https://citystarbrewing.com/wp-content/uploads/2021/05/stickaround.jpg
END:VEVENT
BEGIN:VEVENT
DTSTART;TZID=America/Denver:20230418T180000
DTEND;TZID=America/Denver:20230418T200000
DTSTAMP:20260420T191519
CREATED:20220124T175122Z
LAST-MODIFIED:20250106T215223Z
UID:10002159-1681840800-1681848000@citystarbrewing.com
SUMMARY:Humdinger Trivia
DESCRIPTION:Come and get your brain going with us at Humdinger Trivia! Hosted by Berthoud locals\, Erin and Jacob Crabtree. It’s FREE to play and you could win $30 in City Star beer. The fun starts at 6pm every Tuesday in the beer garden. *limit 6 per team \nCheck out the food truck schedule to see who will be serving dinner out front.
URL:https://citystarbrewing.com/event/humdinger-trivia/2023-04-18/
CATEGORIES:Events,Taproom Events
ATTACH;FMTTYPE=image/png:https://citystarbrewing.com/wp-content/uploads/2022/01/Screen-Shot-2022-01-24-at-10.43.52-AM-e1643046764674.png
END:VEVENT
BEGIN:VEVENT
DTSTART;TZID=America/Denver:20230421T150000
DTEND;TZID=America/Denver:20230421T210000
DTSTAMP:20260420T191519
CREATED:20230320T140816Z
LAST-MODIFIED:20230320T140816Z
UID:10002213-1682089200-1682110800@citystarbrewing.com
SUMMARY:First Friday in Downtown Berthoud
DESCRIPTION:Join us and several other local businesses as we participate in First Fridays in downtown Berthoud from April through September. \n\n\n\nYou + Me Floral and Gifts – City Star Brewing – The Rancher’s Wife – Berthoud Drug & Boutique – Rise Artisan Bread – Wildfire Arts Center of Berthoud – The Source Zero NoCo – Homestead Fine Art Gallery – Mountain Ridge Dentistry
URL:https://citystarbrewing.com/event/first-friday-in-downtown-berthoud/2023-04-21/
LOCATION:CO
CATEGORIES:Events,Taproom Events
ATTACH;FMTTYPE=image/jpeg:https://citystarbrewing.com/wp-content/uploads/2023/03/map-first-friday.jpg
END:VEVENT
BEGIN:VEVENT
DTSTART;TZID=America/Denver:20230421T150000
DTEND;TZID=America/Denver:20230421T210000
DTSTAMP:20260420T191519
CREATED:20230403T231556Z
LAST-MODIFIED:20230403T231556Z
UID:10002325-1682089200-1682110800@citystarbrewing.com
SUMMARY:Beer Release: Hazy IPA
DESCRIPTION:A New England style Hazy IPA dry hopped with Eldorado & Nectaron hops. This beer was brewed while listening to Feel Good Indie songs including music from Rainbow Kitten Surprise\, Mt. Joy and Cammp. Tune in with us and enjoy this cold beer crafted just for you. \nListen along at: Feel Good Indie Music 
URL:https://citystarbrewing.com/event/beer-release-hazy-ipa-2/
LOCATION:CO
CATEGORIES:Beer Releases,Events
ATTACH;FMTTYPE=image/png:https://citystarbrewing.com/wp-content/uploads/2023/04/HazyIndieFeelGood-02.png
END:VEVENT
BEGIN:VEVENT
DTSTART;TZID=America/Denver:20230422T120000
DTEND;TZID=America/Denver:20230422T200000
DTSTAMP:20260420T191519
CREATED:20181128T060314Z
LAST-MODIFIED:20241203T220750Z
UID:10002163-1682164800-1682193600@citystarbrewing.com
SUMMARY:Sweaty Moose
DESCRIPTION:Sweaty Moose MENU: www.sweatymoose.com
URL:https://citystarbrewing.com/event/sweaty-moose/2023-04-22/
CATEGORIES:Events,Food Trucks
ATTACH;FMTTYPE=image/jpeg:https://citystarbrewing.com/wp-content/uploads/2017/10/sweaty-moose.jpg
END:VEVENT
BEGIN:VEVENT
DTSTART;TZID=America/Denver:20230422T120000
DTEND;TZID=America/Denver:20230422T200000
DTSTAMP:20260420T191519
CREATED:20220414T165857Z
LAST-MODIFIED:20230417T180624Z
UID:10001840-1682164800-1682193600@citystarbrewing.com
SUMMARY:Earth Day Celebration
DESCRIPTION:Join us for a clean-up around Berthoud!Earn your beer by showing your beerslinger a photo with your collected trash and we’ll give you a free beer or non-alcoholic drink. We will be hosting a music showcase with live music all day (2-8:30pm) and be selling limited edition City Star recycled merch items. \nFeature musicians include: \nThe legendary singer/songwriter MR.KEVIN JONES\nSinger/songwriter SHELLY RODERICK\nSinger/songwriter STEVE MURRAY\nSinger/songwriter LLOYD DRUST\nAnd the debut performance of\nYOUNGER THAN DIRT Featuring DAVE SAMPSON AND LLOYD DRUST
URL:https://citystarbrewing.com/event/earth-day/
LOCATION:CO
CATEGORIES:Events,Live Music,Taproom Events
ATTACH;FMTTYPE=image/png:https://citystarbrewing.com/wp-content/uploads/2022/04/EarthDay-01.png
END:VEVENT
BEGIN:VEVENT
DTSTART;TZID=America/Denver:20230425T180000
DTEND;TZID=America/Denver:20230425T200000
DTSTAMP:20260420T191519
CREATED:20220124T175122Z
LAST-MODIFIED:20250106T215223Z
UID:10002175-1682445600-1682452800@citystarbrewing.com
SUMMARY:Humdinger Trivia
DESCRIPTION:Come and get your brain going with us at Humdinger Trivia! Hosted by Berthoud locals\, Erin and Jacob Crabtree. It’s FREE to play and you could win $30 in City Star beer. The fun starts at 6pm every Tuesday in the beer garden. *limit 6 per team \nCheck out the food truck schedule to see who will be serving dinner out front.
URL:https://citystarbrewing.com/event/humdinger-trivia/2023-04-25/
CATEGORIES:Events,Taproom Events
ATTACH;FMTTYPE=image/png:https://citystarbrewing.com/wp-content/uploads/2022/01/Screen-Shot-2022-01-24-at-10.43.52-AM-e1643046764674.png
END:VEVENT
BEGIN:VEVENT
DTSTART;TZID=America/Denver:20230427T160000
DTEND;TZID=America/Denver:20230427T200000
DTSTAMP:20260420T191519
CREATED:20221227T155123Z
LAST-MODIFIED:20240201T181557Z
UID:10002355-1682611200-1682625600@citystarbrewing.com
SUMMARY:Stick Around Skewers
DESCRIPTION:FLAME FINISHED STICKS & SKEWERS \nStick Around is a locally owned and operated Food Truck based in Boulder\, Colorado. Focusing on the worlds most traditional form of BBQ\, Skewers & kebabs! Stick Around brings something to the table for everybody. Take a look at our menu to see if you can find something that fits your style! \nMENU: https://www.stickaroundskewers.com/menu
URL:https://citystarbrewing.com/event/stick-around-skewers-4/2023-04-27/
CATEGORIES:Events,Food Trucks
ATTACH;FMTTYPE=image/jpeg:https://citystarbrewing.com/wp-content/uploads/2021/05/stickaround.jpg
END:VEVENT
BEGIN:VEVENT
DTSTART;TZID=America/Denver:20230428T150000
DTEND;TZID=America/Denver:20230428T210000
DTSTAMP:20260420T191519
CREATED:20230320T140816Z
LAST-MODIFIED:20230320T140816Z
UID:10002214-1682694000-1682715600@citystarbrewing.com
SUMMARY:First Friday in Downtown Berthoud
DESCRIPTION:Join us and several other local businesses as we participate in First Fridays in downtown Berthoud from April through September. \n\n\n\nYou + Me Floral and Gifts – City Star Brewing – The Rancher’s Wife – Berthoud Drug & Boutique – Rise Artisan Bread – Wildfire Arts Center of Berthoud – The Source Zero NoCo – Homestead Fine Art Gallery – Mountain Ridge Dentistry
URL:https://citystarbrewing.com/event/first-friday-in-downtown-berthoud/2023-04-28/
LOCATION:CO
CATEGORIES:Events,Taproom Events
ATTACH;FMTTYPE=image/jpeg:https://citystarbrewing.com/wp-content/uploads/2023/03/map-first-friday.jpg
END:VEVENT
BEGIN:VEVENT
DTSTART;TZID=America/Denver:20230429T120000
DTEND;TZID=America/Denver:20230429T200000
DTSTAMP:20260420T191519
CREATED:20220113T005446Z
LAST-MODIFIED:20240710T180051Z
UID:10002320-1682769600-1682798400@citystarbrewing.com
SUMMARY:Georgia Boys BBQ
DESCRIPTION:Come get some true Southern BBQ from our Georgia Boys BBQ Outpost food truck! We’re slingin’ our homemade grub all over Northern Colorado…get here early while the gettin’s good\, as we do sell out.
URL:https://citystarbrewing.com/event/georgia-boys-bbq-2/2023-04-29/
CATEGORIES:Events,Food Trucks
ATTACH;FMTTYPE=image/png:https://citystarbrewing.com/wp-content/uploads/2020/08/GeorgiaBoys.png
END:VEVENT
END:VCALENDAR