BEGIN:VCALENDAR
VERSION:2.0
PRODID:-//City Star Brewing - ECPv6.15.20//NONSGML v1.0//EN
CALSCALE:GREGORIAN
METHOD:PUBLISH
X-WR-CALNAME:City Star Brewing
X-ORIGINAL-URL:https://citystarbrewing.com
X-WR-CALDESC:Events for City Star Brewing
REFRESH-INTERVAL;VALUE=DURATION:PT1H
X-Robots-Tag:noindex
X-PUBLISHED-TTL:PT1H
BEGIN:VTIMEZONE
TZID:America/Denver
BEGIN:DAYLIGHT
TZOFFSETFROM:-0700
TZOFFSETTO:-0600
TZNAME:MDT
DTSTART:20220313T090000
END:DAYLIGHT
BEGIN:STANDARD
TZOFFSETFROM:-0600
TZOFFSETTO:-0700
TZNAME:MST
DTSTART:20221106T080000
END:STANDARD
BEGIN:DAYLIGHT
TZOFFSETFROM:-0700
TZOFFSETTO:-0600
TZNAME:MDT
DTSTART:20230312T090000
END:DAYLIGHT
BEGIN:STANDARD
TZOFFSETFROM:-0600
TZOFFSETTO:-0700
TZNAME:MST
DTSTART:20231105T080000
END:STANDARD
BEGIN:DAYLIGHT
TZOFFSETFROM:-0700
TZOFFSETTO:-0600
TZNAME:MDT
DTSTART:20240310T090000
END:DAYLIGHT
BEGIN:STANDARD
TZOFFSETFROM:-0600
TZOFFSETTO:-0700
TZNAME:MST
DTSTART:20241103T080000
END:STANDARD
END:VTIMEZONE
BEGIN:VEVENT
DTSTART;TZID=America/Denver:20230202T160000
DTEND;TZID=America/Denver:20230202T200000
DTSTAMP:20260420T224910
CREATED:20221227T171248Z
LAST-MODIFIED:20230130T162606Z
UID:10002106-1675353600-1675368000@citystarbrewing.com
SUMMARY:Southern Twist
DESCRIPTION:A food trailer with a unique southern midwest menu\n  \n\n\n\n\n\nSandwiches\n\n\n\n\n\n\nTwisted Chicken – Grilled cheese\, Chicken\, Blue Cheese\, Buffalo Sauce\nCyclone – Grilled cheese\, burger\, Spam\, egg\n\n\n\n\n\n\nTwister – Grilled cheese\, burger\, bologna\, egg\nDerecho – Grilled cheese\, burger\, 2 hot dogs\, egg\nBuffalo Blue Cheese Double Burger – Grilled cheese\, 2 Burgers\, Buffalo Sauce\, Blue Cheese Crumbles\n\n\n\n\n\n\nBuffalo Blue Cheese Single Burger – Grilled cheese\, Burger\, Buffalo Sauce\, Blue Cheese Crumbles\n\n\n\n\n\n\n\nGrilled Cheese is our Base!\nGrilled Cheese Burger\nGrilled Cheese Spam\nGrilled Cheese Fried Bologna\nGrilled Cheese Fried Hot Dog\nGrilled Cheese Fried Egg\nGrilled Cheese\n\n\n\n\n\n\n\n\n\n\n\n\n\nSides\n\n\n\n\n\n\n\nTwisted Nachos – Chips\, Nacho Cheese\, Chicken or Chili\, sour cream\, salsa\, jalapenos\n\n\n\n\n\n\n\nLoaded Nachos – Chips\, Nacho Cheese\, sour cream\, salsa\, jalapenos\n\n\n\n\nChips & Cheese\nTwisted Fries – Fries\, Nacho Cheese\, Bacon Bits\, Sour Cream Pulled Pork\nLoaded Fries – Fries\, Nacho Cheese\, Bacon Bits\, Sour Cream\n\n\n\n\nFries\n\n\n\n\n\n\n\n\nStarters\nFried Okra\, Fried Green Beans\, Fried Pickles\n\n\n\n\n\n\n\n\n\n\n\n\n\nSweets\nFunnel Cake Fries\n\n\n\n\n\n 
URL:https://citystarbrewing.com/event/southern-twists/
LOCATION:CO
CATEGORIES:Events,Food Trucks
ATTACH;FMTTYPE=image/jpeg:https://citystarbrewing.com/wp-content/uploads/2022/12/southerntwist.jpeg
END:VEVENT
BEGIN:VEVENT
DTSTART;TZID=America/Denver:20230203T180000
DTEND;TZID=America/Denver:20230203T203000
DTSTAMP:20260420T224910
CREATED:20221117T153538Z
LAST-MODIFIED:20221117T153538Z
UID:10001931-1675447200-1675456200@citystarbrewing.com
SUMMARY:Anna p.s.
DESCRIPTION:Indie folk musician Anna p.s. conveys a sense of weariness throughout her simple yet resonant songs\, but it’s a weariness that keeps a blanket of hope tucked up under its chin\, even as the rain keeps falling outside the windows. Grace always lurks around the corner on tunes that layer delicate vulnerability over the hearty stock of this songwriters’ spirit. With technical acumen acquired during an early career as an audio engineer\, and a humble but confident stage presence groomed as a founding member of indie roots rock band Shiny Shiny Black\, Anna stepped out as a solo musician in 2014. She’s been on the road intermittently ever since. Her debut LP Umbrella\, released in July 2016\, showcases her signature sonic blend of melancholy\, hope\, and resilience. \nIn concert\, Anna plays acoustic guitar\, foot percussion\, and—perhaps unexpectedly—the flute. She uses a looper pedal to sample her guitar and loop it back while she plays flute interludes during her songs\, bringing a unique element to her concerts. She started playing the flute in fifth grade in her hometown of Greencastle\, Pennsylvania\, and while it wasn’t her favorite instrument at the time\, she stuck with it over the years through concert band\, private lessons\, and district through state competitions. Those years of instruction and discipline provided Anna with the classical training that would form the foundation of what she’s doing now. \nAnna currently resides in northern Indiana when not on the road.  Crafting merch and home goods\, taking her cat Earl Grey out on hikes\, and growing food.   She continues to perform online livestreamed shows when in person shows are not an option. \nhttps://annapsmusic.com/home
URL:https://citystarbrewing.com/event/anna-p-s/
LOCATION:CO
CATEGORIES:Events,Live Music
ATTACH;FMTTYPE=image/webp:https://citystarbrewing.com/wp-content/uploads/2022/11/anna-e1668699225509.webp
END:VEVENT
BEGIN:VEVENT
DTSTART;TZID=America/Denver:20230204T120000
DTEND;TZID=America/Denver:20230204T200000
DTSTAMP:20260420T224910
CREATED:20220113T005446Z
LAST-MODIFIED:20240710T180051Z
UID:10002317-1675512000-1675540800@citystarbrewing.com
SUMMARY:Georgia Boys BBQ
DESCRIPTION:Come get some true Southern BBQ from our Georgia Boys BBQ Outpost food truck! We’re slingin’ our homemade grub all over Northern Colorado…get here early while the gettin’s good\, as we do sell out.
URL:https://citystarbrewing.com/event/georgia-boys-bbq-2/2023-02-04/
CATEGORIES:Events,Food Trucks
ATTACH;FMTTYPE=image/png:https://citystarbrewing.com/wp-content/uploads/2020/08/GeorgiaBoys.png
END:VEVENT
BEGIN:VEVENT
DTSTART;TZID=America/Denver:20230204T170000
DTEND;TZID=America/Denver:20230204T190000
DTSTAMP:20260420T224910
CREATED:20190114T210902Z
LAST-MODIFIED:20230128T201610Z
UID:10000122-1675530000-1675537200@citystarbrewing.com
SUMMARY:Colorado Facial Hair Chili Cook Off
DESCRIPTION:Sean Clark of the Rock y Mountain Beard and Moustache Club is hosting their annual Colorado Facial Hair Chili Cook Off at City Star Brewing on February 4th\, with public tasting from 5-7pm. \nTasting is open to the public for a donation to the Muscular Dystrophy Association (suggested donation is $5). \nThere are four categories to be judged: Red\, Green\, Hottest and Best in Show. \nChili entries are open to all facial hair club members. Competitors may enter one of three categories: Red\, Green\, or Hottest. Hottest entries are required to eat 8oz of their chili in front of a judge before the event starts.
URL:https://citystarbrewing.com/event/colorado-facial-hair-chili-cook-off/
LOCATION:CO
CATEGORIES:Events,Taproom Events
ATTACH;FMTTYPE=image/png:https://citystarbrewing.com/wp-content/uploads/2019/01/cofacialhairchilicookoff.png
END:VEVENT
BEGIN:VEVENT
DTSTART;TZID=America/Denver:20230207T160000
DTEND;TZID=America/Denver:20230207T200000
DTSTAMP:20260420T224910
CREATED:20200711T213851Z
LAST-MODIFIED:20230123T152358Z
UID:10001967-1675785600-1675800000@citystarbrewing.com
SUMMARY:Dill's Maine Lobster Shack
DESCRIPTION:Maine native Ryan Dill and wife Liz bring you: Dill’s Maine Lobster Shack\, a Food Trailer in Northern Colorado focusing on authentic Maine Lobster & Crab Rolls. Looking forward to bringing a bit of New England to Colorado. \nAll seafood is flown in overnight\, fresh from the coast of Maine! Wicked Good!!!! \nMENU \n$20 Full Lobster Roll Plate – 4oz Lobster Roll\, Coleslaw\, Pickle Spear\, Chips \n$16 1/2 Lobster Roll Plate – 2oz Lobster Roll\, Coleslaw\, Pickle Spear\, Chips \n$20 Crab Plate Roll – 4oz Crab Roll\, Coleslaw\, Pickle Spear\, Chips \n$5 Hot Dog Plate – Hot Dog\, Pickle Spear\, Chips
URL:https://citystarbrewing.com/event/dills-maine-lobster-shack/2023-02-07/
LOCATION:CO
CATEGORIES:Events,Food Trucks
ATTACH;FMTTYPE=image/jpeg:https://citystarbrewing.com/wp-content/uploads/2020/07/dills-maine-1.jpg
END:VEVENT
BEGIN:VEVENT
DTSTART;TZID=America/Denver:20230207T180000
DTEND;TZID=America/Denver:20230207T200000
DTSTAMP:20260420T224910
CREATED:20220124T175122Z
LAST-MODIFIED:20250106T215223Z
UID:10002149-1675792800-1675800000@citystarbrewing.com
SUMMARY:Humdinger Trivia
DESCRIPTION:Come and get your brain going with us at Humdinger Trivia! Hosted by Berthoud locals\, Erin and Jacob Crabtree. It’s FREE to play and you could win $30 in City Star beer. The fun starts at 6pm every Tuesday in the beer garden. *limit 6 per team \nCheck out the food truck schedule to see who will be serving dinner out front.
URL:https://citystarbrewing.com/event/humdinger-trivia/2023-02-07/
CATEGORIES:Events,Taproom Events
ATTACH;FMTTYPE=image/png:https://citystarbrewing.com/wp-content/uploads/2022/01/Screen-Shot-2022-01-24-at-10.43.52-AM-e1643046764674.png
END:VEVENT
BEGIN:VEVENT
DTSTART;TZID=America/Denver:20230208T160000
DTEND;TZID=America/Denver:20230208T200000
DTSTAMP:20260420T224910
CREATED:20221116T211336Z
LAST-MODIFIED:20250212T032058Z
UID:10002063-1675872000-1675886400@citystarbrewing.com
SUMMARY:Santa Elena's
DESCRIPTION:Wood Smoked Mexican Provisions \nWE MAY JUST BE A FOOD TRUCK \, BUT OUR PROMISE IS to the land and those it serves. \nWe strive to work closely with those that work the land whether near or far\, to bring to you the best possible food truck experience. We seek to work with those who are making products that are conscious of their environmental impact. We want to honor our culture and try to bring the authentic essence of where we came from and what it means to us. We want to share our sense of hospitality and nurture your spirt with our food. \nBienvenidos Amigos \nBeautiful Bountiful Blue Corn: Our work couldn’t find ground until ground found us. Your authentic experience begins early in the morning when we make our own masa (corn dough) from the beautiful blue heirloom mushito corn from Michoacan. This corn and it’s people have long thrived through hardships\, we think mainly cause it’s so freaking good. Our fresh masa goes on to make tortillas for quesadillas\, enchiladas\, tostadas etc. Come try for yourself! \nhttps://www.santaelenas.com
URL:https://citystarbrewing.com/event/santa-elenas-2/
CATEGORIES:Events,Food Trucks
ATTACH;FMTTYPE=image/jpeg:https://citystarbrewing.com/wp-content/uploads/2021/09/santaelenas-e1631658980688.jpg
END:VEVENT
BEGIN:VEVENT
DTSTART;TZID=America/Denver:20230214T180000
DTEND;TZID=America/Denver:20230214T200000
DTSTAMP:20260420T224910
CREATED:20220124T175122Z
LAST-MODIFIED:20250106T215223Z
UID:10002184-1676397600-1676404800@citystarbrewing.com
SUMMARY:Humdinger Trivia
DESCRIPTION:Come and get your brain going with us at Humdinger Trivia! Hosted by Berthoud locals\, Erin and Jacob Crabtree. It’s FREE to play and you could win $30 in City Star beer. The fun starts at 6pm every Tuesday in the beer garden. *limit 6 per team \nCheck out the food truck schedule to see who will be serving dinner out front.
URL:https://citystarbrewing.com/event/humdinger-trivia/2023-02-14/
CATEGORIES:Events,Taproom Events
ATTACH;FMTTYPE=image/png:https://citystarbrewing.com/wp-content/uploads/2022/01/Screen-Shot-2022-01-24-at-10.43.52-AM-e1643046764674.png
END:VEVENT
BEGIN:VEVENT
DTSTART;TZID=America/Denver:20230216T120000
DTEND;TZID=America/Denver:20230216T200000
DTSTAMP:20260420T224910
CREATED:20221007T220739Z
LAST-MODIFIED:20250523T182800Z
UID:10006111-1676548800-1676577600@citystarbrewing.com
SUMMARY:Georgia Boys BBQ
DESCRIPTION:Come get some true Southern BBQ from our Georgia Boys BBQ Outpost food truck! We’re slingin’ our homemade grub all over Northern Colorado…get here early while the gettin’s good\, as we do sell out.
URL:https://citystarbrewing.com/event/georgia-boys-bbq-4/2023-02-16/
CATEGORIES:Events,Food Trucks
ATTACH;FMTTYPE=image/png:https://citystarbrewing.com/wp-content/uploads/2020/08/GeorgiaBoys.png
END:VEVENT
BEGIN:VEVENT
DTSTART;TZID=America/Denver:20230220T160000
DTEND;TZID=America/Denver:20230220T200000
DTSTAMP:20260420T224911
CREATED:20200711T213851Z
LAST-MODIFIED:20230123T152358Z
UID:10002138-1676908800-1676923200@citystarbrewing.com
SUMMARY:Dill's Maine Lobster Shack
DESCRIPTION:Maine native Ryan Dill and wife Liz bring you: Dill’s Maine Lobster Shack\, a Food Trailer in Northern Colorado focusing on authentic Maine Lobster & Crab Rolls. Looking forward to bringing a bit of New England to Colorado. \nAll seafood is flown in overnight\, fresh from the coast of Maine! Wicked Good!!!! \nMENU \n$20 Full Lobster Roll Plate – 4oz Lobster Roll\, Coleslaw\, Pickle Spear\, Chips \n$16 1/2 Lobster Roll Plate – 2oz Lobster Roll\, Coleslaw\, Pickle Spear\, Chips \n$20 Crab Plate Roll – 4oz Crab Roll\, Coleslaw\, Pickle Spear\, Chips \n$5 Hot Dog Plate – Hot Dog\, Pickle Spear\, Chips
URL:https://citystarbrewing.com/event/dills-maine-lobster-shack/2023-02-20/
LOCATION:CO
CATEGORIES:Events,Food Trucks
ATTACH;FMTTYPE=image/jpeg:https://citystarbrewing.com/wp-content/uploads/2020/07/dills-maine-1.jpg
END:VEVENT
BEGIN:VEVENT
DTSTART;TZID=America/Denver:20230221T180000
DTEND;TZID=America/Denver:20230221T200000
DTSTAMP:20260420T224911
CREATED:20220124T175122Z
LAST-MODIFIED:20250106T215223Z
UID:10002151-1677002400-1677009600@citystarbrewing.com
SUMMARY:Humdinger Trivia
DESCRIPTION:Come and get your brain going with us at Humdinger Trivia! Hosted by Berthoud locals\, Erin and Jacob Crabtree. It’s FREE to play and you could win $30 in City Star beer. The fun starts at 6pm every Tuesday in the beer garden. *limit 6 per team \nCheck out the food truck schedule to see who will be serving dinner out front.
URL:https://citystarbrewing.com/event/humdinger-trivia/2023-02-21/
CATEGORIES:Events,Taproom Events
ATTACH;FMTTYPE=image/png:https://citystarbrewing.com/wp-content/uploads/2022/01/Screen-Shot-2022-01-24-at-10.43.52-AM-e1643046764674.png
END:VEVENT
BEGIN:VEVENT
DTSTART;TZID=America/Denver:20230225T120000
DTEND;TZID=America/Denver:20230225T200000
DTSTAMP:20260420T224911
CREATED:20181128T060314Z
LAST-MODIFIED:20241203T220750Z
UID:10002002-1677326400-1677355200@citystarbrewing.com
SUMMARY:Sweaty Moose
DESCRIPTION:Sweaty Moose MENU: www.sweatymoose.com
URL:https://citystarbrewing.com/event/sweaty-moose/2023-02-25/
CATEGORIES:Events,Food Trucks
ATTACH;FMTTYPE=image/jpeg:https://citystarbrewing.com/wp-content/uploads/2017/10/sweaty-moose.jpg
END:VEVENT
BEGIN:VEVENT
DTSTART;TZID=America/Denver:20230228T180000
DTEND;TZID=America/Denver:20230228T200000
DTSTAMP:20260420T224911
CREATED:20220124T175122Z
LAST-MODIFIED:20250106T215223Z
UID:10002152-1677607200-1677614400@citystarbrewing.com
SUMMARY:Humdinger Trivia
DESCRIPTION:Come and get your brain going with us at Humdinger Trivia! Hosted by Berthoud locals\, Erin and Jacob Crabtree. It’s FREE to play and you could win $30 in City Star beer. The fun starts at 6pm every Tuesday in the beer garden. *limit 6 per team \nCheck out the food truck schedule to see who will be serving dinner out front.
URL:https://citystarbrewing.com/event/humdinger-trivia/2023-02-28/
CATEGORIES:Events,Taproom Events
ATTACH;FMTTYPE=image/png:https://citystarbrewing.com/wp-content/uploads/2022/01/Screen-Shot-2022-01-24-at-10.43.52-AM-e1643046764674.png
END:VEVENT
END:VCALENDAR