BEGIN:VCALENDAR
VERSION:2.0
PRODID:-//City Star Brewing - ECPv6.15.20//NONSGML v1.0//EN
CALSCALE:GREGORIAN
METHOD:PUBLISH
X-WR-CALNAME:City Star Brewing
X-ORIGINAL-URL:https://citystarbrewing.com
X-WR-CALDESC:Events for City Star Brewing
REFRESH-INTERVAL;VALUE=DURATION:PT1H
X-Robots-Tag:noindex
X-PUBLISHED-TTL:PT1H
BEGIN:VTIMEZONE
TZID:America/Denver
BEGIN:DAYLIGHT
TZOFFSETFROM:-0700
TZOFFSETTO:-0600
TZNAME:MDT
DTSTART:20210314T090000
END:DAYLIGHT
BEGIN:STANDARD
TZOFFSETFROM:-0600
TZOFFSETTO:-0700
TZNAME:MST
DTSTART:20211107T080000
END:STANDARD
BEGIN:DAYLIGHT
TZOFFSETFROM:-0700
TZOFFSETTO:-0600
TZNAME:MDT
DTSTART:20220313T090000
END:DAYLIGHT
BEGIN:STANDARD
TZOFFSETFROM:-0600
TZOFFSETTO:-0700
TZNAME:MST
DTSTART:20221106T080000
END:STANDARD
BEGIN:DAYLIGHT
TZOFFSETFROM:-0700
TZOFFSETTO:-0600
TZNAME:MDT
DTSTART:20230312T090000
END:DAYLIGHT
BEGIN:STANDARD
TZOFFSETFROM:-0600
TZOFFSETTO:-0700
TZNAME:MST
DTSTART:20231105T080000
END:STANDARD
END:VTIMEZONE
BEGIN:VEVENT
DTSTART;TZID=America/Denver:20221101T160000
DTEND;TZID=America/Denver:20221101T200000
DTSTAMP:20260421T034827
CREATED:20200711T213851Z
LAST-MODIFIED:20230123T152358Z
UID:10001487-1667318400-1667332800@citystarbrewing.com
SUMMARY:Dill's Maine Lobster Shack
DESCRIPTION:Maine native Ryan Dill and wife Liz bring you: Dill’s Maine Lobster Shack\, a Food Trailer in Northern Colorado focusing on authentic Maine Lobster & Crab Rolls. Looking forward to bringing a bit of New England to Colorado. \nAll seafood is flown in overnight\, fresh from the coast of Maine! Wicked Good!!!! \nMENU \n$20 Full Lobster Roll Plate – 4oz Lobster Roll\, Coleslaw\, Pickle Spear\, Chips \n$16 1/2 Lobster Roll Plate – 2oz Lobster Roll\, Coleslaw\, Pickle Spear\, Chips \n$20 Crab Plate Roll – 4oz Crab Roll\, Coleslaw\, Pickle Spear\, Chips \n$5 Hot Dog Plate – Hot Dog\, Pickle Spear\, Chips
URL:https://citystarbrewing.com/event/dills-maine-lobster-shack/2022-11-01/
LOCATION:CO
CATEGORIES:Events,Food Trucks
ATTACH;FMTTYPE=image/jpeg:https://citystarbrewing.com/wp-content/uploads/2020/07/dills-maine-1.jpg
END:VEVENT
BEGIN:VEVENT
DTSTART;TZID=America/Denver:20221105T120000
DTEND;TZID=America/Denver:20221105T200000
DTSTAMP:20260421T034827
CREATED:20181128T060314Z
LAST-MODIFIED:20241203T220750Z
UID:10000155-1667649600-1667678400@citystarbrewing.com
SUMMARY:Sweaty Moose
DESCRIPTION:Sweaty Moose MENU: www.sweatymoose.com
URL:https://citystarbrewing.com/event/sweaty-moose/2022-11-05/
CATEGORIES:Events,Food Trucks
ATTACH;FMTTYPE=image/jpeg:https://citystarbrewing.com/wp-content/uploads/2017/10/sweaty-moose.jpg
END:VEVENT
BEGIN:VEVENT
DTSTART;TZID=America/Denver:20221112T120000
DTEND;TZID=America/Denver:20221112T200000
DTSTAMP:20260421T034827
CREATED:20220113T005446Z
LAST-MODIFIED:20240710T180051Z
UID:10001805-1668254400-1668283200@citystarbrewing.com
SUMMARY:Georgia Boys BBQ
DESCRIPTION:Come get some true Southern BBQ from our Georgia Boys BBQ Outpost food truck! We’re slingin’ our homemade grub all over Northern Colorado…get here early while the gettin’s good\, as we do sell out.
URL:https://citystarbrewing.com/event/georgia-boys-bbq-2/2022-11-12/
CATEGORIES:Events,Food Trucks
ATTACH;FMTTYPE=image/png:https://citystarbrewing.com/wp-content/uploads/2020/08/GeorgiaBoys.png
END:VEVENT
BEGIN:VEVENT
DTSTART;TZID=America/Denver:20221115T160000
DTEND;TZID=America/Denver:20221115T200000
DTSTAMP:20260421T034827
CREATED:20200711T213851Z
LAST-MODIFIED:20230123T152358Z
UID:10001488-1668528000-1668542400@citystarbrewing.com
SUMMARY:Dill's Maine Lobster Shack
DESCRIPTION:Maine native Ryan Dill and wife Liz bring you: Dill’s Maine Lobster Shack\, a Food Trailer in Northern Colorado focusing on authentic Maine Lobster & Crab Rolls. Looking forward to bringing a bit of New England to Colorado. \nAll seafood is flown in overnight\, fresh from the coast of Maine! Wicked Good!!!! \nMENU \n$20 Full Lobster Roll Plate – 4oz Lobster Roll\, Coleslaw\, Pickle Spear\, Chips \n$16 1/2 Lobster Roll Plate – 2oz Lobster Roll\, Coleslaw\, Pickle Spear\, Chips \n$20 Crab Plate Roll – 4oz Crab Roll\, Coleslaw\, Pickle Spear\, Chips \n$5 Hot Dog Plate – Hot Dog\, Pickle Spear\, Chips
URL:https://citystarbrewing.com/event/dills-maine-lobster-shack/2022-11-15/
LOCATION:CO
CATEGORIES:Events,Food Trucks
ATTACH;FMTTYPE=image/jpeg:https://citystarbrewing.com/wp-content/uploads/2020/07/dills-maine-1.jpg
END:VEVENT
BEGIN:VEVENT
DTSTART;TZID=America/Denver:20221119T180000
DTEND;TZID=America/Denver:20221119T203000
DTSTAMP:20260421T034827
CREATED:20221010T150145Z
LAST-MODIFIED:20221010T150145Z
UID:10001884-1668880800-1668889800@citystarbrewing.com
SUMMARY:SummerHawk
DESCRIPTION:SummerHawk is a 4 piece acoustic group that plays original country and Bluegrass music. \nhttps://summerhawkmusic.com
URL:https://citystarbrewing.com/event/summerhawk/
LOCATION:CO
CATEGORIES:Events,Live Music
ATTACH;FMTTYPE=image/png:https://citystarbrewing.com/wp-content/uploads/2022/10/summerhawk.png
END:VEVENT
BEGIN:VEVENT
DTSTART;TZID=America/Denver:20221121T180000
DTEND;TZID=America/Denver:20221121T200000
DTSTAMP:20260421T034827
CREATED:20190808T205953Z
LAST-MODIFIED:20221031T160437Z
UID:10001348-1669053600-1669060800@citystarbrewing.com
SUMMARY:Thanksgiving Potluck
DESCRIPTION:Join us for our annual Thanksgiving themed taproom potluck the Monday prior Thanksgiving! The Way’s will be smoking 2 turkeys\, so that’s covered… Bring something to share. Paper plates\, napkins and silverware will be provided. \nGood beer. Good company. Good food.
URL:https://citystarbrewing.com/event/thanksgiving-potluck/
LOCATION:CO
CATEGORIES:Events,Taproom Events
ATTACH;FMTTYPE=image/png:https://citystarbrewing.com/wp-content/uploads/2015/08/thanksgivingpotluck.png
END:VEVENT
BEGIN:VEVENT
DTSTART;TZID=America/Denver:20221124T120000
DTEND;TZID=America/Denver:20221124T200000
DTSTAMP:20260421T034827
CREATED:20221007T220739Z
LAST-MODIFIED:20250523T182800Z
UID:10006108-1669291200-1669320000@citystarbrewing.com
SUMMARY:Georgia Boys BBQ
DESCRIPTION:Come get some true Southern BBQ from our Georgia Boys BBQ Outpost food truck! We’re slingin’ our homemade grub all over Northern Colorado…get here early while the gettin’s good\, as we do sell out.
URL:https://citystarbrewing.com/event/georgia-boys-bbq-4/2022-11-24/
CATEGORIES:Events,Food Trucks
ATTACH;FMTTYPE=image/png:https://citystarbrewing.com/wp-content/uploads/2020/08/GeorgiaBoys.png
END:VEVENT
BEGIN:VEVENT
DTSTART;TZID=America/Denver:20221126T130000
DTEND;TZID=America/Denver:20221126T170000
DTSTAMP:20260421T034827
CREATED:20221011T170123Z
LAST-MODIFIED:20221122T224057Z
UID:10001890-1669467600-1669482000@citystarbrewing.com
SUMMARY:Handmade Market
DESCRIPTION:Join us for the fifth annual handmade market at City Star Brewing featuring an assortment of local artisans. Food truck out front plus live music to follow. \n2022 Creatives \nDaisy Oak Co metasmith working with sterling silver and natural stones\nAlpine Essence lavender farm + plant based skin care\nTumbleweed Studio Handmade Pottery for Daily Rituals\nSounds of Silver Silver & gold hoop earrings\, studs\, necklaces\nKompass Apparel outdoor inspired clothing by Kynsi Saye\nElissa Robb jewelry and ornaments\nDaphne’s Delicious Delicacies\nKoppermoon Original Abstract Art and Hand Crafted Jewelry\nFishFam Alpacas Felted items\, yarn and fleece\nZink Metal Art\nSteff’s Creations – handcrafted greeting card\nMountain Craftsman – fine woodworking\nMallory Cash – custom painted pet portraits and Colorado landscapes. \nArtisans reach out to info@citystarbrewing.com to join this list! \n… and don’t forget to shop next door at Wishful Living and Pantry! wishfulliving.com \nThank you for your support of these great NoCo businesses!
URL:https://citystarbrewing.com/event/handmade-market-2/
LOCATION:CO
CATEGORIES:Events,Taproom Events
ATTACH;FMTTYPE=image/png:https://citystarbrewing.com/wp-content/uploads/2018/10/handmademarket-website.png
END:VEVENT
BEGIN:VEVENT
DTSTART;TZID=America/Denver:20221129T160000
DTEND;TZID=America/Denver:20221129T200000
DTSTAMP:20260421T034827
CREATED:20200711T213851Z
LAST-MODIFIED:20230123T152358Z
UID:10001489-1669737600-1669752000@citystarbrewing.com
SUMMARY:Dill's Maine Lobster Shack
DESCRIPTION:Maine native Ryan Dill and wife Liz bring you: Dill’s Maine Lobster Shack\, a Food Trailer in Northern Colorado focusing on authentic Maine Lobster & Crab Rolls. Looking forward to bringing a bit of New England to Colorado. \nAll seafood is flown in overnight\, fresh from the coast of Maine! Wicked Good!!!! \nMENU \n$20 Full Lobster Roll Plate – 4oz Lobster Roll\, Coleslaw\, Pickle Spear\, Chips \n$16 1/2 Lobster Roll Plate – 2oz Lobster Roll\, Coleslaw\, Pickle Spear\, Chips \n$20 Crab Plate Roll – 4oz Crab Roll\, Coleslaw\, Pickle Spear\, Chips \n$5 Hot Dog Plate – Hot Dog\, Pickle Spear\, Chips
URL:https://citystarbrewing.com/event/dills-maine-lobster-shack/2022-11-29/
LOCATION:CO
CATEGORIES:Events,Food Trucks
ATTACH;FMTTYPE=image/jpeg:https://citystarbrewing.com/wp-content/uploads/2020/07/dills-maine-1.jpg
END:VEVENT
END:VCALENDAR