BEGIN:VCALENDAR
VERSION:2.0
PRODID:-//City Star Brewing - ECPv6.15.20//NONSGML v1.0//EN
CALSCALE:GREGORIAN
METHOD:PUBLISH
X-ORIGINAL-URL:https://citystarbrewing.com
X-WR-CALDESC:Events for City Star Brewing
REFRESH-INTERVAL;VALUE=DURATION:PT1H
X-Robots-Tag:noindex
X-PUBLISHED-TTL:PT1H
BEGIN:VTIMEZONE
TZID:America/Denver
BEGIN:DAYLIGHT
TZOFFSETFROM:-0700
TZOFFSETTO:-0600
TZNAME:MDT
DTSTART:20210314T090000
END:DAYLIGHT
BEGIN:STANDARD
TZOFFSETFROM:-0600
TZOFFSETTO:-0700
TZNAME:MST
DTSTART:20211107T080000
END:STANDARD
BEGIN:DAYLIGHT
TZOFFSETFROM:-0700
TZOFFSETTO:-0600
TZNAME:MDT
DTSTART:20220313T090000
END:DAYLIGHT
BEGIN:STANDARD
TZOFFSETFROM:-0600
TZOFFSETTO:-0700
TZNAME:MST
DTSTART:20221106T080000
END:STANDARD
BEGIN:DAYLIGHT
TZOFFSETFROM:-0700
TZOFFSETTO:-0600
TZNAME:MDT
DTSTART:20230312T090000
END:DAYLIGHT
BEGIN:STANDARD
TZOFFSETFROM:-0600
TZOFFSETTO:-0700
TZNAME:MST
DTSTART:20231105T080000
END:STANDARD
END:VTIMEZONE
BEGIN:VEVENT
DTSTART;TZID=America/Denver:20221004T160000
DTEND;TZID=America/Denver:20221004T200000
DTSTAMP:20260421T052732
CREATED:20200711T213851Z
LAST-MODIFIED:20230123T152358Z
UID:10001485-1664899200-1664913600@citystarbrewing.com
SUMMARY:Dill's Maine Lobster Shack
DESCRIPTION:Maine native Ryan Dill and wife Liz bring you: Dill’s Maine Lobster Shack\, a Food Trailer in Northern Colorado focusing on authentic Maine Lobster & Crab Rolls. Looking forward to bringing a bit of New England to Colorado. \nAll seafood is flown in overnight\, fresh from the coast of Maine! Wicked Good!!!! \nMENU \n$20 Full Lobster Roll Plate – 4oz Lobster Roll\, Coleslaw\, Pickle Spear\, Chips \n$16 1/2 Lobster Roll Plate – 2oz Lobster Roll\, Coleslaw\, Pickle Spear\, Chips \n$20 Crab Plate Roll – 4oz Crab Roll\, Coleslaw\, Pickle Spear\, Chips \n$5 Hot Dog Plate – Hot Dog\, Pickle Spear\, Chips
URL:https://citystarbrewing.com/event/dills-maine-lobster-shack/2022-10-04/
LOCATION:CO
CATEGORIES:Events,Food Trucks
ATTACH;FMTTYPE=image/jpeg:https://citystarbrewing.com/wp-content/uploads/2020/07/dills-maine-1.jpg
END:VEVENT
BEGIN:VEVENT
DTSTART;TZID=America/Denver:20221008T120000
DTEND;TZID=America/Denver:20221008T200000
DTSTAMP:20260421T052732
CREATED:20181128T060314Z
LAST-MODIFIED:20241203T220750Z
UID:10001999-1665230400-1665259200@citystarbrewing.com
SUMMARY:Sweaty Moose
DESCRIPTION:Sweaty Moose MENU: www.sweatymoose.com
URL:https://citystarbrewing.com/event/sweaty-moose/2022-10-08/
CATEGORIES:Events,Food Trucks
ATTACH;FMTTYPE=image/jpeg:https://citystarbrewing.com/wp-content/uploads/2017/10/sweaty-moose.jpg
END:VEVENT
BEGIN:VEVENT
DTSTART;TZID=America/Denver:20221014T160000
DTEND;TZID=America/Denver:20221014T200000
DTSTAMP:20260421T052732
CREATED:20211018T193659Z
LAST-MODIFIED:20221007T215743Z
UID:10001875-1665763200-1665777600@citystarbrewing.com
SUMMARY:Ting's Things
DESCRIPTION:Ting’s Things Food Truck Menu\nHappiness in a meal…\nBelow are our mainstays & seasonal offerings… We make all of our pastas by hand\, source our ingredients locally and cook with a passion that would make your nonna very proud. \nMAKE IT SAUCEY… All of our pastas are made with fresh pasta\, never dried! We make our pasta fresh each week. 80-90% of our ingredients are sourced from local farms\, ranches and bakeries! Our menu changes seasonally and sometimes features weekly specials. Keep an eye out! ENJOY 🙂  \nSeasonal Lasagna \nCheck out our truck to see what lasagna we’re featuring this week! \nSpicy Tomato Cream Sauce \nfresh lumache noodles tossed in house spicy tomato cream sauce topped with whipped ricotta \nThree Cheese Pasta  \nfresh gnocchetti noodles tossed in a blend of pecorino romano\, parmesan and gruyere cheeses \n– add crispy guanciale (Italian cured pork) to any of your pastas 🙂 \nBeef *GF* Meatballs \nA side of 5 local beef meatballs in our house marinara always made gluten free! \nChicken Parmesan & Noodles \nBreaded Chicken Cutlets topped with house marinara\, mozzarella\, parmesan served with a side of fresh pasta noodles \nChicken Parmesan Sando \nBreaded Chicken Cutlets topped with house marinara\, mozzarella\, parmesan served on a garlic focaccia bun & a side of chips \nItalian Sub Panini \nSliced salami\, pepperoni and provolone cheese with roasted red peppers\, peperoncino peppers\, hot pepper spread and mayo pressed in our panini press & a side of chips \nSun-dried Tomato & Pesto Panini \nBasil pesto\, provolone cheese and sun-dried tomato panini with a side of chips \nGarlic Bread \nA side of garlic bread or add to any dish for an additional charge! \nDelicious Desserts & Extras:  Confetti Cookies\, A new local\, small business\, Confetti Cookies\, making the best sugar and snickerdoodle cookies in Colorado! Stay tuned for their brownies that will be featured on the truck too 🙂
URL:https://citystarbrewing.com/event/tings-things/2022-10-14/
LOCATION:CO
CATEGORIES:Events,Food Trucks
ATTACH;FMTTYPE=image/jpeg:https://citystarbrewing.com/wp-content/uploads/2021/10/tingsthings-e1634589386725.jpg
END:VEVENT
BEGIN:VEVENT
DTSTART;TZID=America/Denver:20221015T120000
DTEND;TZID=America/Denver:20221015T200000
DTSTAMP:20260421T052732
CREATED:20220113T005446Z
LAST-MODIFIED:20240710T180051Z
UID:10001804-1665835200-1665864000@citystarbrewing.com
SUMMARY:Georgia Boys BBQ
DESCRIPTION:Come get some true Southern BBQ from our Georgia Boys BBQ Outpost food truck! We’re slingin’ our homemade grub all over Northern Colorado…get here early while the gettin’s good\, as we do sell out.
URL:https://citystarbrewing.com/event/georgia-boys-bbq-2/2022-10-15/
CATEGORIES:Events,Food Trucks
ATTACH;FMTTYPE=image/png:https://citystarbrewing.com/wp-content/uploads/2020/08/GeorgiaBoys.png
END:VEVENT
BEGIN:VEVENT
DTSTART;TZID=America/Denver:20221018T160000
DTEND;TZID=America/Denver:20221018T200000
DTSTAMP:20260421T052732
CREATED:20200711T213851Z
LAST-MODIFIED:20230123T152358Z
UID:10001486-1666108800-1666123200@citystarbrewing.com
SUMMARY:Dill's Maine Lobster Shack
DESCRIPTION:Maine native Ryan Dill and wife Liz bring you: Dill’s Maine Lobster Shack\, a Food Trailer in Northern Colorado focusing on authentic Maine Lobster & Crab Rolls. Looking forward to bringing a bit of New England to Colorado. \nAll seafood is flown in overnight\, fresh from the coast of Maine! Wicked Good!!!! \nMENU \n$20 Full Lobster Roll Plate – 4oz Lobster Roll\, Coleslaw\, Pickle Spear\, Chips \n$16 1/2 Lobster Roll Plate – 2oz Lobster Roll\, Coleslaw\, Pickle Spear\, Chips \n$20 Crab Plate Roll – 4oz Crab Roll\, Coleslaw\, Pickle Spear\, Chips \n$5 Hot Dog Plate – Hot Dog\, Pickle Spear\, Chips
URL:https://citystarbrewing.com/event/dills-maine-lobster-shack/2022-10-18/
LOCATION:CO
CATEGORIES:Events,Food Trucks
ATTACH;FMTTYPE=image/jpeg:https://citystarbrewing.com/wp-content/uploads/2020/07/dills-maine-1.jpg
END:VEVENT
BEGIN:VEVENT
DTSTART;TZID=America/Denver:20221027T120000
DTEND;TZID=America/Denver:20221027T200000
DTSTAMP:20260421T052732
CREATED:20221007T220739Z
LAST-MODIFIED:20250523T182800Z
UID:10006107-1666872000-1666900800@citystarbrewing.com
SUMMARY:Georgia Boys BBQ
DESCRIPTION:Come get some true Southern BBQ from our Georgia Boys BBQ Outpost food truck! We’re slingin’ our homemade grub all over Northern Colorado…get here early while the gettin’s good\, as we do sell out.
URL:https://citystarbrewing.com/event/georgia-boys-bbq-4/2022-10-27/
CATEGORIES:Events,Food Trucks
ATTACH;FMTTYPE=image/png:https://citystarbrewing.com/wp-content/uploads/2020/08/GeorgiaBoys.png
END:VEVENT
BEGIN:VEVENT
DTSTART;VALUE=DATE:20221028
DTEND;VALUE=DATE:20221029
DTSTAMP:20260421T052732
CREATED:20221020T154843Z
LAST-MODIFIED:20221020T154843Z
UID:10001893-1666915200-1667001599@citystarbrewing.com
SUMMARY:Hazy IPA Garage Rock Radio Beer Release
DESCRIPTION:A New England style Hazy IPA dry hopped with Strata and Amarillo hops. Available on draft and in cans to-go at citystarpickup.com
URL:https://citystarbrewing.com/event/hazy-ipa-garage-rock-radio-beer-release/
LOCATION:CO
CATEGORIES:Beer Releases,Events
ATTACH;FMTTYPE=image/png:https://citystarbrewing.com/wp-content/uploads/2022/10/garagerockLABEL.png
END:VEVENT
BEGIN:VEVENT
DTSTART;TZID=America/Denver:20221028T160000
DTEND;TZID=America/Denver:20221028T200000
DTSTAMP:20260421T052732
CREATED:20211018T193659Z
LAST-MODIFIED:20221007T215743Z
UID:10001764-1666972800-1666987200@citystarbrewing.com
SUMMARY:Ting's Things
DESCRIPTION:Ting’s Things Food Truck Menu\nHappiness in a meal…\nBelow are our mainstays & seasonal offerings… We make all of our pastas by hand\, source our ingredients locally and cook with a passion that would make your nonna very proud. \nMAKE IT SAUCEY… All of our pastas are made with fresh pasta\, never dried! We make our pasta fresh each week. 80-90% of our ingredients are sourced from local farms\, ranches and bakeries! Our menu changes seasonally and sometimes features weekly specials. Keep an eye out! ENJOY 🙂  \nSeasonal Lasagna \nCheck out our truck to see what lasagna we’re featuring this week! \nSpicy Tomato Cream Sauce \nfresh lumache noodles tossed in house spicy tomato cream sauce topped with whipped ricotta \nThree Cheese Pasta  \nfresh gnocchetti noodles tossed in a blend of pecorino romano\, parmesan and gruyere cheeses \n– add crispy guanciale (Italian cured pork) to any of your pastas 🙂 \nBeef *GF* Meatballs \nA side of 5 local beef meatballs in our house marinara always made gluten free! \nChicken Parmesan & Noodles \nBreaded Chicken Cutlets topped with house marinara\, mozzarella\, parmesan served with a side of fresh pasta noodles \nChicken Parmesan Sando \nBreaded Chicken Cutlets topped with house marinara\, mozzarella\, parmesan served on a garlic focaccia bun & a side of chips \nItalian Sub Panini \nSliced salami\, pepperoni and provolone cheese with roasted red peppers\, peperoncino peppers\, hot pepper spread and mayo pressed in our panini press & a side of chips \nSun-dried Tomato & Pesto Panini \nBasil pesto\, provolone cheese and sun-dried tomato panini with a side of chips \nGarlic Bread \nA side of garlic bread or add to any dish for an additional charge! \nDelicious Desserts & Extras:  Confetti Cookies\, A new local\, small business\, Confetti Cookies\, making the best sugar and snickerdoodle cookies in Colorado! Stay tuned for their brownies that will be featured on the truck too 🙂
URL:https://citystarbrewing.com/event/tings-things/2022-10-28/
LOCATION:CO
CATEGORIES:Events,Food Trucks
ATTACH;FMTTYPE=image/jpeg:https://citystarbrewing.com/wp-content/uploads/2021/10/tingsthings-e1634589386725.jpg
END:VEVENT
BEGIN:VEVENT
DTSTART;TZID=America/Denver:20221028T180000
DTEND;TZID=America/Denver:20221028T203000
DTSTAMP:20260421T052732
CREATED:20221024T153314Z
LAST-MODIFIED:20221024T153314Z
UID:10001895-1666980000-1666989000@citystarbrewing.com
SUMMARY:Al Laughlin and Mike Lamitola
DESCRIPTION:
URL:https://citystarbrewing.com/event/al-laughlin-and-mike-lamitola/
LOCATION:CO
CATEGORIES:Events,Live Music
ATTACH;FMTTYPE=image/jpeg:https://citystarbrewing.com/wp-content/uploads/2015/04/guitar-e1431029528580.jpg
END:VEVENT
BEGIN:VEVENT
DTSTART;TZID=America/Denver:20221029T180000
DTEND;TZID=America/Denver:20221029T203000
DTSTAMP:20260421T052732
CREATED:20211004T211227Z
LAST-MODIFIED:20220911T034926Z
UID:10001749-1667066400-1667075400@citystarbrewing.com
SUMMARY:Cliffside Rodeo
DESCRIPTION:For a few years now\, Cliffside Rodeo has been banging around breweries\, coffee shops\, rock clubs\, and farmers markets. All along the Front Range they’ve sharpened their teeth on crowds of all kinds. With a quiver full of lost dance tunes\, Cliffside gets the stiffest crowd to move. During the pandemic\, Cliffside Rodeo recorded their first album of all originals. Check it out at https://soundcloud.com/cliffside-rodeo. Now they’re out of the garage and prowling the plains for they’re next dance party. \nSwing • Country • Rock N Roll\nListen: https://cliffsiderodeo.bandcamp.com/releases
URL:https://citystarbrewing.com/event/cliffside-rodeo/
LOCATION:CO
CATEGORIES:Events,Live Music
ATTACH;FMTTYPE=image/jpeg:https://citystarbrewing.com/wp-content/uploads/2021/10/cliffside-rodeo.jpg
END:VEVENT
END:VCALENDAR