BEGIN:VCALENDAR
VERSION:2.0
PRODID:-//City Star Brewing - ECPv6.15.20//NONSGML v1.0//EN
CALSCALE:GREGORIAN
METHOD:PUBLISH
X-ORIGINAL-URL:https://citystarbrewing.com
X-WR-CALDESC:Events for City Star Brewing
REFRESH-INTERVAL;VALUE=DURATION:PT1H
X-Robots-Tag:noindex
X-PUBLISHED-TTL:PT1H
BEGIN:VTIMEZONE
TZID:America/Denver
BEGIN:DAYLIGHT
TZOFFSETFROM:-0700
TZOFFSETTO:-0600
TZNAME:MDT
DTSTART:20210314T090000
END:DAYLIGHT
BEGIN:STANDARD
TZOFFSETFROM:-0600
TZOFFSETTO:-0700
TZNAME:MST
DTSTART:20211107T080000
END:STANDARD
BEGIN:DAYLIGHT
TZOFFSETFROM:-0700
TZOFFSETTO:-0600
TZNAME:MDT
DTSTART:20220313T090000
END:DAYLIGHT
BEGIN:STANDARD
TZOFFSETFROM:-0600
TZOFFSETTO:-0700
TZNAME:MST
DTSTART:20221106T080000
END:STANDARD
BEGIN:DAYLIGHT
TZOFFSETFROM:-0700
TZOFFSETTO:-0600
TZNAME:MDT
DTSTART:20230312T090000
END:DAYLIGHT
BEGIN:STANDARD
TZOFFSETFROM:-0600
TZOFFSETTO:-0700
TZNAME:MST
DTSTART:20231105T080000
END:STANDARD
END:VTIMEZONE
BEGIN:VEVENT
DTSTART;TZID=America/Denver:20220901T160000
DTEND;TZID=America/Denver:20220901T200000
DTSTAMP:20260421T070352
CREATED:20200813T162516Z
LAST-MODIFIED:20220522T171440Z
UID:10001501-1662048000-1662062400@citystarbrewing.com
SUMMARY:Georgia Boys BBQ
DESCRIPTION:Come get some true Southern BBQ from our Georgia Boys BBQ Outpost food truck! We’re slingin’ our homemade grub all over Northern Colorado…get here early while the gettin’s good\, as we do sell out.
URL:https://citystarbrewing.com/event/georgia-boys-bbq/2022-09-01/
LOCATION:CO
CATEGORIES:Events,Food Trucks
ATTACH;FMTTYPE=image/png:https://citystarbrewing.com/wp-content/uploads/2020/08/GeorgiaBoys.png
END:VEVENT
BEGIN:VEVENT
DTSTART;TZID=America/Denver:20220901T170000
DTEND;TZID=America/Denver:20220901T200000
DTSTAMP:20260421T070352
CREATED:20190731T212720Z
LAST-MODIFIED:20191014T194901Z
UID:10001337-1662051600-1662062400@citystarbrewing.com
SUMMARY:Summit Tacos
DESCRIPTION:Summit Tacos proudly serves authentic Mexican food and they love to share our passion for our food and our culture. Visit at 237 Collyer Street in Longmont and select food truck pop-ups. \nhttps://eatsummittacos.com
URL:https://citystarbrewing.com/event/summit-tacos/2022-09-01/
LOCATION:321 Mountain Avenue\, Berthoud\, CO\, 80513\, United States
CATEGORIES:Events,Food Trucks
ATTACH;FMTTYPE=image/png:https://citystarbrewing.com/wp-content/uploads/2017/05/summittacos.png
END:VEVENT
BEGIN:VEVENT
DTSTART;TZID=America/Denver:20220902T170000
DTEND;TZID=America/Denver:20220902T200000
DTSTAMP:20260421T070352
CREATED:20190731T212720Z
LAST-MODIFIED:20191014T194901Z
UID:10001338-1662138000-1662148800@citystarbrewing.com
SUMMARY:Summit Tacos
DESCRIPTION:Summit Tacos proudly serves authentic Mexican food and they love to share our passion for our food and our culture. Visit at 237 Collyer Street in Longmont and select food truck pop-ups. \nhttps://eatsummittacos.com
URL:https://citystarbrewing.com/event/summit-tacos/2022-09-02/
LOCATION:321 Mountain Avenue\, Berthoud\, CO\, 80513\, United States
CATEGORIES:Events,Food Trucks
ATTACH;FMTTYPE=image/png:https://citystarbrewing.com/wp-content/uploads/2017/05/summittacos.png
END:VEVENT
BEGIN:VEVENT
DTSTART;TZID=America/Denver:20220903T170000
DTEND;TZID=America/Denver:20220903T200000
DTSTAMP:20260421T070352
CREATED:20190731T212720Z
LAST-MODIFIED:20191014T194901Z
UID:10001339-1662224400-1662235200@citystarbrewing.com
SUMMARY:Summit Tacos
DESCRIPTION:Summit Tacos proudly serves authentic Mexican food and they love to share our passion for our food and our culture. Visit at 237 Collyer Street in Longmont and select food truck pop-ups. \nhttps://eatsummittacos.com
URL:https://citystarbrewing.com/event/summit-tacos/2022-09-03/
LOCATION:321 Mountain Avenue\, Berthoud\, CO\, 80513\, United States
CATEGORIES:Events,Food Trucks
ATTACH;FMTTYPE=image/png:https://citystarbrewing.com/wp-content/uploads/2017/05/summittacos.png
END:VEVENT
BEGIN:VEVENT
DTSTART;TZID=America/Denver:20220904T170000
DTEND;TZID=America/Denver:20220904T200000
DTSTAMP:20260421T070352
CREATED:20190731T212720Z
LAST-MODIFIED:20191014T194901Z
UID:10001340-1662310800-1662321600@citystarbrewing.com
SUMMARY:Summit Tacos
DESCRIPTION:Summit Tacos proudly serves authentic Mexican food and they love to share our passion for our food and our culture. Visit at 237 Collyer Street in Longmont and select food truck pop-ups. \nhttps://eatsummittacos.com
URL:https://citystarbrewing.com/event/summit-tacos/2022-09-04/
LOCATION:321 Mountain Avenue\, Berthoud\, CO\, 80513\, United States
CATEGORIES:Events,Food Trucks
ATTACH;FMTTYPE=image/png:https://citystarbrewing.com/wp-content/uploads/2017/05/summittacos.png
END:VEVENT
BEGIN:VEVENT
DTSTART;TZID=America/Denver:20220905T143000
DTEND;TZID=America/Denver:20220905T170000
DTSTAMP:20260421T070352
CREATED:20220809T191243Z
LAST-MODIFIED:20220818T212059Z
UID:10001861-1662388200-1662397200@citystarbrewing.com
SUMMARY:Atomic Drifters: Sun Records Session Show
DESCRIPTION:The Atomic Drifters are Denver’s premier hard drivin’\, traditional rockabilly band. This Roots Americana Session\, circa ’54-’69  will be a 3-piece special. \nIf a band could be a time machine\, The Atomic Drifters would be a good candidate for the ride! Their brand of postwar sound and “Rocky Mountain Rockabilly” has established them as the premier live show for special events\, car shows and music festivals in all corners of America and abroad. Revving up car clubs and crowds at Viva Las Vegas (14\,15 & 20)\, Kustom Kulture Festival in WA\, Atwood KS Early Rod Run\, Hot Cars Cool Nights\, High Country Humdinger\, Early Iron Weekend\, Hot Rods & Hawgs\, Tri-State Hot Rod Revival\, Cruisin’ Havana\, Hot Rod Ho-Down (to name a few) & with a rapidly growing fan base from around the word\, The Atomic Drifters are “GROUND ZERO FOR ROCKABILLY”  – Las Vegas Review-Journal \nhttp://www.atomicdrifters.com
URL:https://citystarbrewing.com/event/atomic-drifters/
LOCATION:CO
CATEGORIES:Events,Live Music
ATTACH;FMTTYPE=image/jpeg:https://citystarbrewing.com/wp-content/uploads/2022/08/Atomic-Drifters.jpg
END:VEVENT
BEGIN:VEVENT
DTSTART;TZID=America/Denver:20220905T170000
DTEND;TZID=America/Denver:20220905T200000
DTSTAMP:20260421T070352
CREATED:20190731T212720Z
LAST-MODIFIED:20191014T194901Z
UID:10001341-1662397200-1662408000@citystarbrewing.com
SUMMARY:Summit Tacos
DESCRIPTION:Summit Tacos proudly serves authentic Mexican food and they love to share our passion for our food and our culture. Visit at 237 Collyer Street in Longmont and select food truck pop-ups. \nhttps://eatsummittacos.com
URL:https://citystarbrewing.com/event/summit-tacos/2022-09-05/
LOCATION:321 Mountain Avenue\, Berthoud\, CO\, 80513\, United States
CATEGORIES:Events,Food Trucks
ATTACH;FMTTYPE=image/png:https://citystarbrewing.com/wp-content/uploads/2017/05/summittacos.png
END:VEVENT
BEGIN:VEVENT
DTSTART;TZID=America/Denver:20220906T160000
DTEND;TZID=America/Denver:20220906T200000
DTSTAMP:20260421T070352
CREATED:20200711T213851Z
LAST-MODIFIED:20230123T152358Z
UID:10001483-1662480000-1662494400@citystarbrewing.com
SUMMARY:Dill's Maine Lobster Shack
DESCRIPTION:Maine native Ryan Dill and wife Liz bring you: Dill’s Maine Lobster Shack\, a Food Trailer in Northern Colorado focusing on authentic Maine Lobster & Crab Rolls. Looking forward to bringing a bit of New England to Colorado. \nAll seafood is flown in overnight\, fresh from the coast of Maine! Wicked Good!!!! \nMENU \n$20 Full Lobster Roll Plate – 4oz Lobster Roll\, Coleslaw\, Pickle Spear\, Chips \n$16 1/2 Lobster Roll Plate – 2oz Lobster Roll\, Coleslaw\, Pickle Spear\, Chips \n$20 Crab Plate Roll – 4oz Crab Roll\, Coleslaw\, Pickle Spear\, Chips \n$5 Hot Dog Plate – Hot Dog\, Pickle Spear\, Chips
URL:https://citystarbrewing.com/event/dills-maine-lobster-shack/2022-09-06/
LOCATION:CO
CATEGORIES:Events,Food Trucks
ATTACH;FMTTYPE=image/jpeg:https://citystarbrewing.com/wp-content/uploads/2020/07/dills-maine-1.jpg
END:VEVENT
BEGIN:VEVENT
DTSTART;TZID=America/Denver:20220906T170000
DTEND;TZID=America/Denver:20220906T200000
DTSTAMP:20260421T070352
CREATED:20190731T212720Z
LAST-MODIFIED:20191014T194901Z
UID:10001342-1662483600-1662494400@citystarbrewing.com
SUMMARY:Summit Tacos
DESCRIPTION:Summit Tacos proudly serves authentic Mexican food and they love to share our passion for our food and our culture. Visit at 237 Collyer Street in Longmont and select food truck pop-ups. \nhttps://eatsummittacos.com
URL:https://citystarbrewing.com/event/summit-tacos/2022-09-06/
LOCATION:321 Mountain Avenue\, Berthoud\, CO\, 80513\, United States
CATEGORIES:Events,Food Trucks
ATTACH;FMTTYPE=image/png:https://citystarbrewing.com/wp-content/uploads/2017/05/summittacos.png
END:VEVENT
BEGIN:VEVENT
DTSTART;TZID=America/Denver:20220907T170000
DTEND;TZID=America/Denver:20220907T200000
DTSTAMP:20260421T070352
CREATED:20190731T212720Z
LAST-MODIFIED:20191014T194901Z
UID:10001343-1662570000-1662580800@citystarbrewing.com
SUMMARY:Summit Tacos
DESCRIPTION:Summit Tacos proudly serves authentic Mexican food and they love to share our passion for our food and our culture. Visit at 237 Collyer Street in Longmont and select food truck pop-ups. \nhttps://eatsummittacos.com
URL:https://citystarbrewing.com/event/summit-tacos/2022-09-07/
LOCATION:321 Mountain Avenue\, Berthoud\, CO\, 80513\, United States
CATEGORIES:Events,Food Trucks
ATTACH;FMTTYPE=image/png:https://citystarbrewing.com/wp-content/uploads/2017/05/summittacos.png
END:VEVENT
BEGIN:VEVENT
DTSTART;TZID=America/Denver:20220910T120000
DTEND;TZID=America/Denver:20220910T200000
DTSTAMP:20260421T070352
CREATED:20181128T060314Z
LAST-MODIFIED:20241203T220750Z
UID:10001998-1662811200-1662840000@citystarbrewing.com
SUMMARY:Sweaty Moose
DESCRIPTION:Sweaty Moose MENU: www.sweatymoose.com
URL:https://citystarbrewing.com/event/sweaty-moose/2022-09-10/
CATEGORIES:Events,Food Trucks
ATTACH;FMTTYPE=image/jpeg:https://citystarbrewing.com/wp-content/uploads/2017/10/sweaty-moose.jpg
END:VEVENT
BEGIN:VEVENT
DTSTART;TZID=America/Denver:20220910T120000
DTEND;TZID=America/Denver:20220910T200000
DTSTAMP:20260421T070352
CREATED:20191108T154304Z
LAST-MODIFIED:20220726T214300Z
UID:10001374-1662811200-1662840000@citystarbrewing.com
SUMMARY:Cilantro & Lime
DESCRIPTION:Serving up the freshest soups\, salads\, wraps and bowls near you!\nhttps://www.cilantroandlime.com/ \nSAMPLE MENU (subject to change and availability)\nBowls (served over your choice of white or brown rice\, or mixed greens): \n​Peanut Chicken Bowl\nseasoned chicken breast\, baby spinach\, roasted sweet potatoes and onions\, avocado\, peanut sauce\, sesame seeds \nHawaiian BBQ (gf)\ngrilled chicken or tofu\, sautéed zucchini and peppers\, fresh pineapple\, red onion\, bbq sauce\, green onions and cilantro \nTeriyaki Turkey\nground turkey\, carrots and finely chopped broccoli in a sweet and salty teriyaki sauce\, topped with green onions and toasted sesame seeds \nCalifornia Roll (gf)\nimitation crab\, cucumber\, avocado\, and shredded carrots\, pickled ginger and toasted sesame seeds \nSignature Soups\nBlack Bean (v\, gf)\ncreamy black bean soup topped with fresh tomatoes\, cilantro\, green onions \nand cotija cheese\noptional add-ons: andouille sausage\, fresh avocado \nThai coconut w/ shrimp (gf)\nred curry and coconut milk with rice\, onions\, peppers\, lime and cilantro \nHot & Sour (v)\ntofu\, portabella mushrooms\, carrots\, bamboo shoots and egg in a tangy broth topped with green onions \nPosole\npork and hominy simmered in a tomato-based broth\, served with shredded cheese\, fresh cabbage\, cilantro and lime \nSalads\nThai quinoa (gf)\nquinoa\, cabbage\, carrot\, red bell pepper\, cucumber\, edamame and green onions with a sweet\, ginger-lime dressing\, topped with cilantro and peanuts \nMexican corn (v\, gf)\nroasted corn\, avocado\, bell pepper and red onion with lime and cotija cheese \nSpecials\nPork Banh Mi Wrap\nmarinated pork loin\, pickled vegetables\, cucumber\, mayo\, cilantro\, mint and lime wrapped in a flour tortilla \nChicken Mole Tacos (gf)\ndiced chicken thighs marinated in a rich\, spicy mole sauce\, topped with cilantro and onion in corn tortillas \nSteak and Kimchi Bowl \nKorean grilled steak\, shredded carrots\, house-made kimchi\, avocado\, pico de gallo\, green onions\, gochujang aioli \nKids’ Quesadilla (v)\nkeepin’ it simple with just a tortilla and melted cheese. Try it with a cup of soup or small salad!
URL:https://citystarbrewing.com/event/cilantro-lime/2022-09-10/
LOCATION:CO
CATEGORIES:Events,Food Trucks
ATTACH;FMTTYPE=image/jpeg:https://citystarbrewing.com/wp-content/uploads/2019/11/cilantroLimeLOGO@4x-100-e1573228721473.jpg
END:VEVENT
BEGIN:VEVENT
DTSTART;TZID=America/Denver:20220911T170000
DTEND;TZID=America/Denver:20220911T193000
DTSTAMP:20260421T070352
CREATED:20220301T191316Z
LAST-MODIFIED:20220815T162923Z
UID:10001835-1662915600-1662924600@citystarbrewing.com
SUMMARY:West Side Joe Duo
DESCRIPTION:Loose\, funky grooves and smooth vocals. Incendiary guitar playing and lyrics that you can’t forget. Raised in Memphis\, TN\, Joe now does his thing based out out of Ft. Collins\, Colorado. He earned his recording and performing credentials with Memphis’ Blues Rock Queen Reba Russell. After playing with Reba for five years\, Joe took on the challenge of starting his own group\, Minivan\, which became a staple of the Memphis roots rock scene. He also took gigs with Memphis blues artists Earl the Pearl\, Billy Gibson\, and Big Joe Turner (bassist for Albert and B.B. King). Joe has shared stages with Charlie Hunter\, Tower of Power\, and James Cotton. It’s mostly blues\, R&B\, rock & roll\, soul\, and funk – the brilliant creations of African-American artists which most modern popular music is based on today. This is what inspires West Side Joe & The Men of Soul to write their material.  \nhttps://westsidejoeandthemenofsoul.com/about \n 
URL:https://citystarbrewing.com/event/west-side-joe-duo/
LOCATION:CO
CATEGORIES:Events,Live Music
ATTACH;FMTTYPE=image/jpeg:https://citystarbrewing.com/wp-content/uploads/2021/06/Joe-Schicke-1.jpg
END:VEVENT
BEGIN:VEVENT
DTSTART;TZID=America/Denver:20220915T160000
DTEND;TZID=America/Denver:20220915T200000
DTSTAMP:20260421T070352
CREATED:20210503T202906Z
LAST-MODIFIED:20260318T171335Z
UID:10001655-1663257600-1663272000@citystarbrewing.com
SUMMARY:Stick Around Skewers
DESCRIPTION:FLAME FINISHED STICKS & SKEWERS \nStick Around is a locally owned and operated Food Truck based in Boulder\, Colorado. Focusing on the worlds most traditional form of BBQ\, Skewers & kebabs! Stick Around brings something to the table for everybody. Take a look at our menu to see if you can find something that fits your style! \nMENU: https://www.stickaroundskewers.com/menu
URL:https://citystarbrewing.com/event/stick-around-skewers/2022-09-15/
CATEGORIES:Events,Food Trucks
ATTACH;FMTTYPE=image/jpeg:https://citystarbrewing.com/wp-content/uploads/2021/05/stickaround.jpg
END:VEVENT
BEGIN:VEVENT
DTSTART;TZID=America/Denver:20220917T120000
DTEND;TZID=America/Denver:20220917T200000
DTSTAMP:20260421T070352
CREATED:20220113T005446Z
LAST-MODIFIED:20240710T180051Z
UID:10001803-1663416000-1663444800@citystarbrewing.com
SUMMARY:Georgia Boys BBQ
DESCRIPTION:Come get some true Southern BBQ from our Georgia Boys BBQ Outpost food truck! We’re slingin’ our homemade grub all over Northern Colorado…get here early while the gettin’s good\, as we do sell out.
URL:https://citystarbrewing.com/event/georgia-boys-bbq-2/2022-09-17/
CATEGORIES:Events,Food Trucks
ATTACH;FMTTYPE=image/png:https://citystarbrewing.com/wp-content/uploads/2020/08/GeorgiaBoys.png
END:VEVENT
BEGIN:VEVENT
DTSTART;TZID=America/Denver:20220920T160000
DTEND;TZID=America/Denver:20220920T200000
DTSTAMP:20260421T070352
CREATED:20200711T213851Z
LAST-MODIFIED:20230123T152358Z
UID:10001484-1663689600-1663704000@citystarbrewing.com
SUMMARY:Dill's Maine Lobster Shack
DESCRIPTION:Maine native Ryan Dill and wife Liz bring you: Dill’s Maine Lobster Shack\, a Food Trailer in Northern Colorado focusing on authentic Maine Lobster & Crab Rolls. Looking forward to bringing a bit of New England to Colorado. \nAll seafood is flown in overnight\, fresh from the coast of Maine! Wicked Good!!!! \nMENU \n$20 Full Lobster Roll Plate – 4oz Lobster Roll\, Coleslaw\, Pickle Spear\, Chips \n$16 1/2 Lobster Roll Plate – 2oz Lobster Roll\, Coleslaw\, Pickle Spear\, Chips \n$20 Crab Plate Roll – 4oz Crab Roll\, Coleslaw\, Pickle Spear\, Chips \n$5 Hot Dog Plate – Hot Dog\, Pickle Spear\, Chips
URL:https://citystarbrewing.com/event/dills-maine-lobster-shack/2022-09-20/
LOCATION:CO
CATEGORIES:Events,Food Trucks
ATTACH;FMTTYPE=image/jpeg:https://citystarbrewing.com/wp-content/uploads/2020/07/dills-maine-1.jpg
END:VEVENT
BEGIN:VEVENT
DTSTART;TZID=America/Denver:20220929T120000
DTEND;TZID=America/Denver:20220929T200000
DTSTAMP:20260421T070352
CREATED:20221007T220739Z
LAST-MODIFIED:20250523T182800Z
UID:10006106-1664452800-1664481600@citystarbrewing.com
SUMMARY:Georgia Boys BBQ
DESCRIPTION:Come get some true Southern BBQ from our Georgia Boys BBQ Outpost food truck! We’re slingin’ our homemade grub all over Northern Colorado…get here early while the gettin’s good\, as we do sell out.
URL:https://citystarbrewing.com/event/georgia-boys-bbq-4/2022-09-29/
CATEGORIES:Events,Food Trucks
ATTACH;FMTTYPE=image/png:https://citystarbrewing.com/wp-content/uploads/2020/08/GeorgiaBoys.png
END:VEVENT
BEGIN:VEVENT
DTSTART;TZID=America/Denver:20220929T160000
DTEND;TZID=America/Denver:20220929T200000
DTSTAMP:20260421T070352
CREATED:20200813T162516Z
LAST-MODIFIED:20220522T171440Z
UID:10001502-1664467200-1664481600@citystarbrewing.com
SUMMARY:Georgia Boys BBQ
DESCRIPTION:Come get some true Southern BBQ from our Georgia Boys BBQ Outpost food truck! We’re slingin’ our homemade grub all over Northern Colorado…get here early while the gettin’s good\, as we do sell out.
URL:https://citystarbrewing.com/event/georgia-boys-bbq/2022-09-29/
LOCATION:CO
CATEGORIES:Events,Food Trucks
ATTACH;FMTTYPE=image/png:https://citystarbrewing.com/wp-content/uploads/2020/08/GeorgiaBoys.png
END:VEVENT
END:VCALENDAR