BEGIN:VCALENDAR
VERSION:2.0
PRODID:-//City Star Brewing - ECPv6.15.20//NONSGML v1.0//EN
CALSCALE:GREGORIAN
METHOD:PUBLISH
X-WR-CALNAME:City Star Brewing
X-ORIGINAL-URL:https://citystarbrewing.com
X-WR-CALDESC:Events for City Star Brewing
REFRESH-INTERVAL;VALUE=DURATION:PT1H
X-Robots-Tag:noindex
X-PUBLISHED-TTL:PT1H
BEGIN:VTIMEZONE
TZID:America/Denver
BEGIN:DAYLIGHT
TZOFFSETFROM:-0700
TZOFFSETTO:-0600
TZNAME:MDT
DTSTART:20210314T090000
END:DAYLIGHT
BEGIN:STANDARD
TZOFFSETFROM:-0600
TZOFFSETTO:-0700
TZNAME:MST
DTSTART:20211107T080000
END:STANDARD
BEGIN:DAYLIGHT
TZOFFSETFROM:-0700
TZOFFSETTO:-0600
TZNAME:MDT
DTSTART:20220313T090000
END:DAYLIGHT
BEGIN:STANDARD
TZOFFSETFROM:-0600
TZOFFSETTO:-0700
TZNAME:MST
DTSTART:20221106T080000
END:STANDARD
BEGIN:DAYLIGHT
TZOFFSETFROM:-0700
TZOFFSETTO:-0600
TZNAME:MDT
DTSTART:20230312T090000
END:DAYLIGHT
BEGIN:STANDARD
TZOFFSETFROM:-0600
TZOFFSETTO:-0700
TZNAME:MST
DTSTART:20231105T080000
END:STANDARD
END:VTIMEZONE
BEGIN:VEVENT
DTSTART;TZID=America/Denver:20220801T170000
DTEND;TZID=America/Denver:20220801T200000
DTSTAMP:20260421T084047
CREATED:20190731T212720Z
LAST-MODIFIED:20191014T194901Z
UID:10001306-1659373200-1659384000@citystarbrewing.com
SUMMARY:Summit Tacos
DESCRIPTION:Summit Tacos proudly serves authentic Mexican food and they love to share our passion for our food and our culture. Visit at 237 Collyer Street in Longmont and select food truck pop-ups. \nhttps://eatsummittacos.com
URL:https://citystarbrewing.com/event/summit-tacos/2022-08-01/
LOCATION:321 Mountain Avenue\, Berthoud\, CO\, 80513\, United States
CATEGORIES:Events,Food Trucks
ATTACH;FMTTYPE=image/png:https://citystarbrewing.com/wp-content/uploads/2017/05/summittacos.png
END:VEVENT
BEGIN:VEVENT
DTSTART;TZID=America/Denver:20220802T170000
DTEND;TZID=America/Denver:20220802T200000
DTSTAMP:20260421T084047
CREATED:20190731T212720Z
LAST-MODIFIED:20191014T194901Z
UID:10001307-1659459600-1659470400@citystarbrewing.com
SUMMARY:Summit Tacos
DESCRIPTION:Summit Tacos proudly serves authentic Mexican food and they love to share our passion for our food and our culture. Visit at 237 Collyer Street in Longmont and select food truck pop-ups. \nhttps://eatsummittacos.com
URL:https://citystarbrewing.com/event/summit-tacos/2022-08-02/
LOCATION:321 Mountain Avenue\, Berthoud\, CO\, 80513\, United States
CATEGORIES:Events,Food Trucks
ATTACH;FMTTYPE=image/png:https://citystarbrewing.com/wp-content/uploads/2017/05/summittacos.png
END:VEVENT
BEGIN:VEVENT
DTSTART;TZID=America/Denver:20220803T170000
DTEND;TZID=America/Denver:20220803T200000
DTSTAMP:20260421T084047
CREATED:20190731T212720Z
LAST-MODIFIED:20191014T194901Z
UID:10001308-1659546000-1659556800@citystarbrewing.com
SUMMARY:Summit Tacos
DESCRIPTION:Summit Tacos proudly serves authentic Mexican food and they love to share our passion for our food and our culture. Visit at 237 Collyer Street in Longmont and select food truck pop-ups. \nhttps://eatsummittacos.com
URL:https://citystarbrewing.com/event/summit-tacos/2022-08-03/
LOCATION:321 Mountain Avenue\, Berthoud\, CO\, 80513\, United States
CATEGORIES:Events,Food Trucks
ATTACH;FMTTYPE=image/png:https://citystarbrewing.com/wp-content/uploads/2017/05/summittacos.png
END:VEVENT
BEGIN:VEVENT
DTSTART;TZID=America/Denver:20220804T170000
DTEND;TZID=America/Denver:20220804T200000
DTSTAMP:20260421T084047
CREATED:20190731T212720Z
LAST-MODIFIED:20191014T194901Z
UID:10001309-1659632400-1659643200@citystarbrewing.com
SUMMARY:Summit Tacos
DESCRIPTION:Summit Tacos proudly serves authentic Mexican food and they love to share our passion for our food and our culture. Visit at 237 Collyer Street in Longmont and select food truck pop-ups. \nhttps://eatsummittacos.com
URL:https://citystarbrewing.com/event/summit-tacos/2022-08-04/
LOCATION:321 Mountain Avenue\, Berthoud\, CO\, 80513\, United States
CATEGORIES:Events,Food Trucks
ATTACH;FMTTYPE=image/png:https://citystarbrewing.com/wp-content/uploads/2017/05/summittacos.png
END:VEVENT
BEGIN:VEVENT
DTSTART;TZID=America/Denver:20220805T150000
DTEND;TZID=America/Denver:20220805T210000
DTSTAMP:20260421T084047
CREATED:20220719T184335Z
LAST-MODIFIED:20220720T162836Z
UID:10001860-1659711600-1659733200@citystarbrewing.com
SUMMARY:Beer Release: Hazy IPA
DESCRIPTION:A West Coast style hazy IPA dry hopped with Cashmere and Hull Melon with Strata hops added in kettle. Available on draft and in 16oz. cans to-go.
URL:https://citystarbrewing.com/event/beer-release-hazy-ipa/
LOCATION:CO
CATEGORIES:Beer Releases,Events
ATTACH;FMTTYPE=image/png:https://citystarbrewing.com/wp-content/uploads/2022/07/TylerChildersHazy.png
END:VEVENT
BEGIN:VEVENT
DTSTART;TZID=America/Denver:20220805T170000
DTEND;TZID=America/Denver:20220805T200000
DTSTAMP:20260421T084047
CREATED:20190731T212720Z
LAST-MODIFIED:20191014T194901Z
UID:10001310-1659718800-1659729600@citystarbrewing.com
SUMMARY:Summit Tacos
DESCRIPTION:Summit Tacos proudly serves authentic Mexican food and they love to share our passion for our food and our culture. Visit at 237 Collyer Street in Longmont and select food truck pop-ups. \nhttps://eatsummittacos.com
URL:https://citystarbrewing.com/event/summit-tacos/2022-08-05/
LOCATION:321 Mountain Avenue\, Berthoud\, CO\, 80513\, United States
CATEGORIES:Events,Food Trucks
ATTACH;FMTTYPE=image/png:https://citystarbrewing.com/wp-content/uploads/2017/05/summittacos.png
END:VEVENT
BEGIN:VEVENT
DTSTART;TZID=America/Denver:20220806T170000
DTEND;TZID=America/Denver:20220806T200000
DTSTAMP:20260421T084047
CREATED:20190731T212720Z
LAST-MODIFIED:20191014T194901Z
UID:10001311-1659805200-1659816000@citystarbrewing.com
SUMMARY:Summit Tacos
DESCRIPTION:Summit Tacos proudly serves authentic Mexican food and they love to share our passion for our food and our culture. Visit at 237 Collyer Street in Longmont and select food truck pop-ups. \nhttps://eatsummittacos.com
URL:https://citystarbrewing.com/event/summit-tacos/2022-08-06/
LOCATION:321 Mountain Avenue\, Berthoud\, CO\, 80513\, United States
CATEGORIES:Events,Food Trucks
ATTACH;FMTTYPE=image/png:https://citystarbrewing.com/wp-content/uploads/2017/05/summittacos.png
END:VEVENT
BEGIN:VEVENT
DTSTART;TZID=America/Denver:20220807T170000
DTEND;TZID=America/Denver:20220807T200000
DTSTAMP:20260421T084047
CREATED:20190731T212720Z
LAST-MODIFIED:20191014T194901Z
UID:10001312-1659891600-1659902400@citystarbrewing.com
SUMMARY:Summit Tacos
DESCRIPTION:Summit Tacos proudly serves authentic Mexican food and they love to share our passion for our food and our culture. Visit at 237 Collyer Street in Longmont and select food truck pop-ups. \nhttps://eatsummittacos.com
URL:https://citystarbrewing.com/event/summit-tacos/2022-08-07/
LOCATION:321 Mountain Avenue\, Berthoud\, CO\, 80513\, United States
CATEGORIES:Events,Food Trucks
ATTACH;FMTTYPE=image/png:https://citystarbrewing.com/wp-content/uploads/2017/05/summittacos.png
END:VEVENT
BEGIN:VEVENT
DTSTART;TZID=America/Denver:20220808T170000
DTEND;TZID=America/Denver:20220808T200000
DTSTAMP:20260421T084047
CREATED:20190731T212720Z
LAST-MODIFIED:20191014T194901Z
UID:10001313-1659978000-1659988800@citystarbrewing.com
SUMMARY:Summit Tacos
DESCRIPTION:Summit Tacos proudly serves authentic Mexican food and they love to share our passion for our food and our culture. Visit at 237 Collyer Street in Longmont and select food truck pop-ups. \nhttps://eatsummittacos.com
URL:https://citystarbrewing.com/event/summit-tacos/2022-08-08/
LOCATION:321 Mountain Avenue\, Berthoud\, CO\, 80513\, United States
CATEGORIES:Events,Food Trucks
ATTACH;FMTTYPE=image/png:https://citystarbrewing.com/wp-content/uploads/2017/05/summittacos.png
END:VEVENT
BEGIN:VEVENT
DTSTART;TZID=America/Denver:20220809T160000
DTEND;TZID=America/Denver:20220809T200000
DTSTAMP:20260421T084047
CREATED:20200711T213851Z
LAST-MODIFIED:20230123T152358Z
UID:10001481-1660060800-1660075200@citystarbrewing.com
SUMMARY:Dill's Maine Lobster Shack
DESCRIPTION:Maine native Ryan Dill and wife Liz bring you: Dill’s Maine Lobster Shack\, a Food Trailer in Northern Colorado focusing on authentic Maine Lobster & Crab Rolls. Looking forward to bringing a bit of New England to Colorado. \nAll seafood is flown in overnight\, fresh from the coast of Maine! Wicked Good!!!! \nMENU \n$20 Full Lobster Roll Plate – 4oz Lobster Roll\, Coleslaw\, Pickle Spear\, Chips \n$16 1/2 Lobster Roll Plate – 2oz Lobster Roll\, Coleslaw\, Pickle Spear\, Chips \n$20 Crab Plate Roll – 4oz Crab Roll\, Coleslaw\, Pickle Spear\, Chips \n$5 Hot Dog Plate – Hot Dog\, Pickle Spear\, Chips
URL:https://citystarbrewing.com/event/dills-maine-lobster-shack/2022-08-09/
LOCATION:CO
CATEGORIES:Events,Food Trucks
ATTACH;FMTTYPE=image/jpeg:https://citystarbrewing.com/wp-content/uploads/2020/07/dills-maine-1.jpg
END:VEVENT
BEGIN:VEVENT
DTSTART;TZID=America/Denver:20220809T170000
DTEND;TZID=America/Denver:20220809T200000
DTSTAMP:20260421T084047
CREATED:20190731T212720Z
LAST-MODIFIED:20191014T194901Z
UID:10001314-1660064400-1660075200@citystarbrewing.com
SUMMARY:Summit Tacos
DESCRIPTION:Summit Tacos proudly serves authentic Mexican food and they love to share our passion for our food and our culture. Visit at 237 Collyer Street in Longmont and select food truck pop-ups. \nhttps://eatsummittacos.com
URL:https://citystarbrewing.com/event/summit-tacos/2022-08-09/
LOCATION:321 Mountain Avenue\, Berthoud\, CO\, 80513\, United States
CATEGORIES:Events,Food Trucks
ATTACH;FMTTYPE=image/png:https://citystarbrewing.com/wp-content/uploads/2017/05/summittacos.png
END:VEVENT
BEGIN:VEVENT
DTSTART;TZID=America/Denver:20220810T170000
DTEND;TZID=America/Denver:20220810T200000
DTSTAMP:20260421T084047
CREATED:20190731T212720Z
LAST-MODIFIED:20191014T194901Z
UID:10001315-1660150800-1660161600@citystarbrewing.com
SUMMARY:Summit Tacos
DESCRIPTION:Summit Tacos proudly serves authentic Mexican food and they love to share our passion for our food and our culture. Visit at 237 Collyer Street in Longmont and select food truck pop-ups. \nhttps://eatsummittacos.com
URL:https://citystarbrewing.com/event/summit-tacos/2022-08-10/
LOCATION:321 Mountain Avenue\, Berthoud\, CO\, 80513\, United States
CATEGORIES:Events,Food Trucks
ATTACH;FMTTYPE=image/png:https://citystarbrewing.com/wp-content/uploads/2017/05/summittacos.png
END:VEVENT
BEGIN:VEVENT
DTSTART;TZID=America/Denver:20220811T170000
DTEND;TZID=America/Denver:20220811T200000
DTSTAMP:20260421T084047
CREATED:20190731T212720Z
LAST-MODIFIED:20191014T194901Z
UID:10001316-1660237200-1660248000@citystarbrewing.com
SUMMARY:Summit Tacos
DESCRIPTION:Summit Tacos proudly serves authentic Mexican food and they love to share our passion for our food and our culture. Visit at 237 Collyer Street in Longmont and select food truck pop-ups. \nhttps://eatsummittacos.com
URL:https://citystarbrewing.com/event/summit-tacos/2022-08-11/
LOCATION:321 Mountain Avenue\, Berthoud\, CO\, 80513\, United States
CATEGORIES:Events,Food Trucks
ATTACH;FMTTYPE=image/png:https://citystarbrewing.com/wp-content/uploads/2017/05/summittacos.png
END:VEVENT
BEGIN:VEVENT
DTSTART;TZID=America/Denver:20220812T150000
DTEND;TZID=America/Denver:20220812T210000
DTSTAMP:20260421T084047
CREATED:20210901T165157Z
LAST-MODIFIED:20220719T003604Z
UID:10001712-1660316400-1660338000@citystarbrewing.com
SUMMARY:Beer Release: Tiki Time
DESCRIPTION:Tropical Wheat brewed with lactose and soursop. Available on draft and in cans. Order to-go at citystarpickup.com \nFood Truck: Burger Nomad\nLive Music: Sugar Britches 6-8:30pm
URL:https://citystarbrewing.com/event/tiki-time/
LOCATION:CO
CATEGORIES:Beer Releases,Events
ATTACH;FMTTYPE=image/png:https://citystarbrewing.com/wp-content/uploads/2021/09/Screen-Shot-2021-09-01-at-10.34.14-AM-e1630514736993.png
END:VEVENT
BEGIN:VEVENT
DTSTART;TZID=America/Denver:20220812T170000
DTEND;TZID=America/Denver:20220812T200000
DTSTAMP:20260421T084047
CREATED:20190731T212720Z
LAST-MODIFIED:20191014T194901Z
UID:10001317-1660323600-1660334400@citystarbrewing.com
SUMMARY:Summit Tacos
DESCRIPTION:Summit Tacos proudly serves authentic Mexican food and they love to share our passion for our food and our culture. Visit at 237 Collyer Street in Longmont and select food truck pop-ups. \nhttps://eatsummittacos.com
URL:https://citystarbrewing.com/event/summit-tacos/2022-08-12/
LOCATION:321 Mountain Avenue\, Berthoud\, CO\, 80513\, United States
CATEGORIES:Events,Food Trucks
ATTACH;FMTTYPE=image/png:https://citystarbrewing.com/wp-content/uploads/2017/05/summittacos.png
END:VEVENT
BEGIN:VEVENT
DTSTART;TZID=America/Denver:20220813T120000
DTEND;TZID=America/Denver:20220813T200000
DTSTAMP:20260421T084047
CREATED:20181128T060314Z
LAST-MODIFIED:20241203T220750Z
UID:10001997-1660392000-1660420800@citystarbrewing.com
SUMMARY:Sweaty Moose
DESCRIPTION:Sweaty Moose MENU: www.sweatymoose.com
URL:https://citystarbrewing.com/event/sweaty-moose/2022-08-13/
CATEGORIES:Events,Food Trucks
ATTACH;FMTTYPE=image/jpeg:https://citystarbrewing.com/wp-content/uploads/2017/10/sweaty-moose.jpg
END:VEVENT
BEGIN:VEVENT
DTSTART;TZID=America/Denver:20220813T170000
DTEND;TZID=America/Denver:20220813T200000
DTSTAMP:20260421T084047
CREATED:20190731T212720Z
LAST-MODIFIED:20191014T194901Z
UID:10001318-1660410000-1660420800@citystarbrewing.com
SUMMARY:Summit Tacos
DESCRIPTION:Summit Tacos proudly serves authentic Mexican food and they love to share our passion for our food and our culture. Visit at 237 Collyer Street in Longmont and select food truck pop-ups. \nhttps://eatsummittacos.com
URL:https://citystarbrewing.com/event/summit-tacos/2022-08-13/
LOCATION:321 Mountain Avenue\, Berthoud\, CO\, 80513\, United States
CATEGORIES:Events,Food Trucks
ATTACH;FMTTYPE=image/png:https://citystarbrewing.com/wp-content/uploads/2017/05/summittacos.png
END:VEVENT
BEGIN:VEVENT
DTSTART;TZID=America/Denver:20220814T170000
DTEND;TZID=America/Denver:20220814T200000
DTSTAMP:20260421T084047
CREATED:20190731T212720Z
LAST-MODIFIED:20191014T194901Z
UID:10001319-1660496400-1660507200@citystarbrewing.com
SUMMARY:Summit Tacos
DESCRIPTION:Summit Tacos proudly serves authentic Mexican food and they love to share our passion for our food and our culture. Visit at 237 Collyer Street in Longmont and select food truck pop-ups. \nhttps://eatsummittacos.com
URL:https://citystarbrewing.com/event/summit-tacos/2022-08-14/
LOCATION:321 Mountain Avenue\, Berthoud\, CO\, 80513\, United States
CATEGORIES:Events,Food Trucks
ATTACH;FMTTYPE=image/png:https://citystarbrewing.com/wp-content/uploads/2017/05/summittacos.png
END:VEVENT
BEGIN:VEVENT
DTSTART;TZID=America/Denver:20220815T170000
DTEND;TZID=America/Denver:20220815T200000
DTSTAMP:20260421T084047
CREATED:20190731T212720Z
LAST-MODIFIED:20191014T194901Z
UID:10001320-1660582800-1660593600@citystarbrewing.com
SUMMARY:Summit Tacos
DESCRIPTION:Summit Tacos proudly serves authentic Mexican food and they love to share our passion for our food and our culture. Visit at 237 Collyer Street in Longmont and select food truck pop-ups. \nhttps://eatsummittacos.com
URL:https://citystarbrewing.com/event/summit-tacos/2022-08-15/
LOCATION:321 Mountain Avenue\, Berthoud\, CO\, 80513\, United States
CATEGORIES:Events,Food Trucks
ATTACH;FMTTYPE=image/png:https://citystarbrewing.com/wp-content/uploads/2017/05/summittacos.png
END:VEVENT
BEGIN:VEVENT
DTSTART;TZID=America/Denver:20220816T170000
DTEND;TZID=America/Denver:20220816T200000
DTSTAMP:20260421T084047
CREATED:20190731T212720Z
LAST-MODIFIED:20191014T194901Z
UID:10001321-1660669200-1660680000@citystarbrewing.com
SUMMARY:Summit Tacos
DESCRIPTION:Summit Tacos proudly serves authentic Mexican food and they love to share our passion for our food and our culture. Visit at 237 Collyer Street in Longmont and select food truck pop-ups. \nhttps://eatsummittacos.com
URL:https://citystarbrewing.com/event/summit-tacos/2022-08-16/
LOCATION:321 Mountain Avenue\, Berthoud\, CO\, 80513\, United States
CATEGORIES:Events,Food Trucks
ATTACH;FMTTYPE=image/png:https://citystarbrewing.com/wp-content/uploads/2017/05/summittacos.png
END:VEVENT
BEGIN:VEVENT
DTSTART;TZID=America/Denver:20220817T170000
DTEND;TZID=America/Denver:20220817T200000
DTSTAMP:20260421T084047
CREATED:20190731T212720Z
LAST-MODIFIED:20191014T194901Z
UID:10001322-1660755600-1660766400@citystarbrewing.com
SUMMARY:Summit Tacos
DESCRIPTION:Summit Tacos proudly serves authentic Mexican food and they love to share our passion for our food and our culture. Visit at 237 Collyer Street in Longmont and select food truck pop-ups. \nhttps://eatsummittacos.com
URL:https://citystarbrewing.com/event/summit-tacos/2022-08-17/
LOCATION:321 Mountain Avenue\, Berthoud\, CO\, 80513\, United States
CATEGORIES:Events,Food Trucks
ATTACH;FMTTYPE=image/png:https://citystarbrewing.com/wp-content/uploads/2017/05/summittacos.png
END:VEVENT
BEGIN:VEVENT
DTSTART;TZID=America/Denver:20220818T160000
DTEND;TZID=America/Denver:20220818T200000
DTSTAMP:20260421T084047
CREATED:20210503T202906Z
LAST-MODIFIED:20260318T171335Z
UID:10001654-1660838400-1660852800@citystarbrewing.com
SUMMARY:Stick Around Skewers
DESCRIPTION:FLAME FINISHED STICKS & SKEWERS \nStick Around is a locally owned and operated Food Truck based in Boulder\, Colorado. Focusing on the worlds most traditional form of BBQ\, Skewers & kebabs! Stick Around brings something to the table for everybody. Take a look at our menu to see if you can find something that fits your style! \nMENU: https://www.stickaroundskewers.com/menu
URL:https://citystarbrewing.com/event/stick-around-skewers/2022-08-18/
CATEGORIES:Events,Food Trucks
ATTACH;FMTTYPE=image/jpeg:https://citystarbrewing.com/wp-content/uploads/2021/05/stickaround.jpg
END:VEVENT
BEGIN:VEVENT
DTSTART;TZID=America/Denver:20220818T170000
DTEND;TZID=America/Denver:20220818T200000
DTSTAMP:20260421T084047
CREATED:20190731T212720Z
LAST-MODIFIED:20191014T194901Z
UID:10001323-1660842000-1660852800@citystarbrewing.com
SUMMARY:Summit Tacos
DESCRIPTION:Summit Tacos proudly serves authentic Mexican food and they love to share our passion for our food and our culture. Visit at 237 Collyer Street in Longmont and select food truck pop-ups. \nhttps://eatsummittacos.com
URL:https://citystarbrewing.com/event/summit-tacos/2022-08-18/
LOCATION:321 Mountain Avenue\, Berthoud\, CO\, 80513\, United States
CATEGORIES:Events,Food Trucks
ATTACH;FMTTYPE=image/png:https://citystarbrewing.com/wp-content/uploads/2017/05/summittacos.png
END:VEVENT
BEGIN:VEVENT
DTSTART;TZID=America/Denver:20220819T150000
DTEND;TZID=America/Denver:20220819T210000
DTSTAMP:20260421T084047
CREATED:20210719T141704Z
LAST-MODIFIED:20220719T003820Z
UID:10001703-1660921200-1660942800@citystarbrewing.com
SUMMARY:Tangerine Farmhouse
DESCRIPTION:Tangerine Farmhouse: Belgian farmhouse ale infused with juicy tangerine. \nAvailable in the taproom on draft and in cans to-go. Order online at citystarpickup.com \nFood Truck: Ting’s Things\nLive Music: Hardwood Heart 6-8:30
URL:https://citystarbrewing.com/event/tangerine-farmhouse/
LOCATION:CO
CATEGORIES:Beer Releases,Events
ATTACH;FMTTYPE=image/png:https://citystarbrewing.com/wp-content/uploads/2021/07/Screen-Shot-2021-07-19-at-8.09.07-AM.png
END:VEVENT
BEGIN:VEVENT
DTSTART;TZID=America/Denver:20220819T170000
DTEND;TZID=America/Denver:20220819T200000
DTSTAMP:20260421T084047
CREATED:20190731T212720Z
LAST-MODIFIED:20191014T194901Z
UID:10001324-1660928400-1660939200@citystarbrewing.com
SUMMARY:Summit Tacos
DESCRIPTION:Summit Tacos proudly serves authentic Mexican food and they love to share our passion for our food and our culture. Visit at 237 Collyer Street in Longmont and select food truck pop-ups. \nhttps://eatsummittacos.com
URL:https://citystarbrewing.com/event/summit-tacos/2022-08-19/
LOCATION:321 Mountain Avenue\, Berthoud\, CO\, 80513\, United States
CATEGORIES:Events,Food Trucks
ATTACH;FMTTYPE=image/png:https://citystarbrewing.com/wp-content/uploads/2017/05/summittacos.png
END:VEVENT
BEGIN:VEVENT
DTSTART;TZID=America/Denver:20220819T180000
DTEND;TZID=America/Denver:20220819T203000
DTSTAMP:20260421T084047
CREATED:20220120T173729Z
LAST-MODIFIED:20220412T231545Z
UID:10001806-1660932000-1660941000@citystarbrewing.com
SUMMARY:Hardwood Heart
DESCRIPTION:Hardwood Heart is a string band serving up exploratory bluegrass/rock/jazz/americana to anybody with an open mind. \nHardwood Heart was born out of compulsion – a desire for guitarist Josh Clinger and mandolin player Jed Nussbaum to keep as musically active and exploratory as possible. What started as two songwriters swapping tunes in backyards and living rooms turned into an impressive catalog of original material and covers\, woven together with creative improvisation and vocal harmonies. Together they paired up with bassist Caleb Mattis and forged a sound rooted in bluegrass but stretching into jazz\, folk\, blues and rock and roll. The trio used the slowdown in 2020 to focus on expanding their repertoire and record their first two EPs\, showcasing the band’s intimate lyrics and tasteful instrumentation\, and released their third EP\, Walls & Picture Frames in June 2021. \nhttps://www.facebook.com/hardwoodheart\nhttps://hardwoodheart.bandcamp.com/
URL:https://citystarbrewing.com/event/hardwood-heart/
LOCATION:CO
CATEGORIES:Events,Live Music
ATTACH;FMTTYPE=image/jpeg:https://citystarbrewing.com/wp-content/uploads/2022/01/hartwoodheart-e1642700196687.jpg
END:VEVENT
BEGIN:VEVENT
DTSTART;TZID=America/Denver:20220820T120000
DTEND;TZID=America/Denver:20220820T200000
DTSTAMP:20260421T084047
CREATED:20220113T005446Z
LAST-MODIFIED:20240710T180051Z
UID:10001877-1660996800-1661025600@citystarbrewing.com
SUMMARY:Georgia Boys BBQ
DESCRIPTION:Come get some true Southern BBQ from our Georgia Boys BBQ Outpost food truck! We’re slingin’ our homemade grub all over Northern Colorado…get here early while the gettin’s good\, as we do sell out.
URL:https://citystarbrewing.com/event/georgia-boys-bbq-2/2022-08-20/
CATEGORIES:Events,Food Trucks
ATTACH;FMTTYPE=image/png:https://citystarbrewing.com/wp-content/uploads/2020/08/GeorgiaBoys.png
END:VEVENT
BEGIN:VEVENT
DTSTART;TZID=America/Denver:20220820T170000
DTEND;TZID=America/Denver:20220820T200000
DTSTAMP:20260421T084047
CREATED:20190731T212720Z
LAST-MODIFIED:20191014T194901Z
UID:10001325-1661014800-1661025600@citystarbrewing.com
SUMMARY:Summit Tacos
DESCRIPTION:Summit Tacos proudly serves authentic Mexican food and they love to share our passion for our food and our culture. Visit at 237 Collyer Street in Longmont and select food truck pop-ups. \nhttps://eatsummittacos.com
URL:https://citystarbrewing.com/event/summit-tacos/2022-08-20/
LOCATION:321 Mountain Avenue\, Berthoud\, CO\, 80513\, United States
CATEGORIES:Events,Food Trucks
ATTACH;FMTTYPE=image/png:https://citystarbrewing.com/wp-content/uploads/2017/05/summittacos.png
END:VEVENT
BEGIN:VEVENT
DTSTART;TZID=America/Denver:20220820T180000
DTEND;TZID=America/Denver:20220820T203000
DTSTAMP:20260421T084047
CREATED:20190816T210737Z
LAST-MODIFIED:20220524T181651Z
UID:10001353-1661018400-1661027400@citystarbrewing.com
SUMMARY:Abbigale Dawn
DESCRIPTION:Songwriter\, Folk\, Americana\, Alternative\, Blues \nhttps://www.facebook.com/abbigaledawnmusic/
URL:https://citystarbrewing.com/event/abbigale-dawn/
LOCATION:CO
CATEGORIES:Events,Live Music
ATTACH;FMTTYPE=image/jpeg:https://citystarbrewing.com/wp-content/uploads/2019/08/abbigaledawn.jpg
END:VEVENT
BEGIN:VEVENT
DTSTART;TZID=America/Denver:20220821T170000
DTEND;TZID=America/Denver:20220821T200000
DTSTAMP:20260421T084047
CREATED:20190731T212720Z
LAST-MODIFIED:20191014T194901Z
UID:10001326-1661101200-1661112000@citystarbrewing.com
SUMMARY:Summit Tacos
DESCRIPTION:Summit Tacos proudly serves authentic Mexican food and they love to share our passion for our food and our culture. Visit at 237 Collyer Street in Longmont and select food truck pop-ups. \nhttps://eatsummittacos.com
URL:https://citystarbrewing.com/event/summit-tacos/2022-08-21/
LOCATION:321 Mountain Avenue\, Berthoud\, CO\, 80513\, United States
CATEGORIES:Events,Food Trucks
ATTACH;FMTTYPE=image/png:https://citystarbrewing.com/wp-content/uploads/2017/05/summittacos.png
END:VEVENT
END:VCALENDAR