BEGIN:VCALENDAR
VERSION:2.0
PRODID:-//City Star Brewing - ECPv6.15.20//NONSGML v1.0//EN
CALSCALE:GREGORIAN
METHOD:PUBLISH
X-WR-CALNAME:City Star Brewing
X-ORIGINAL-URL:https://citystarbrewing.com
X-WR-CALDESC:Events for City Star Brewing
REFRESH-INTERVAL;VALUE=DURATION:PT1H
X-Robots-Tag:noindex
X-PUBLISHED-TTL:PT1H
BEGIN:VTIMEZONE
TZID:America/Denver
BEGIN:DAYLIGHT
TZOFFSETFROM:-0700
TZOFFSETTO:-0600
TZNAME:MDT
DTSTART:20210314T090000
END:DAYLIGHT
BEGIN:STANDARD
TZOFFSETFROM:-0600
TZOFFSETTO:-0700
TZNAME:MST
DTSTART:20211107T080000
END:STANDARD
BEGIN:DAYLIGHT
TZOFFSETFROM:-0700
TZOFFSETTO:-0600
TZNAME:MDT
DTSTART:20220313T090000
END:DAYLIGHT
BEGIN:STANDARD
TZOFFSETFROM:-0600
TZOFFSETTO:-0700
TZNAME:MST
DTSTART:20221106T080000
END:STANDARD
BEGIN:DAYLIGHT
TZOFFSETFROM:-0700
TZOFFSETTO:-0600
TZNAME:MDT
DTSTART:20230312T090000
END:DAYLIGHT
BEGIN:STANDARD
TZOFFSETFROM:-0600
TZOFFSETTO:-0700
TZNAME:MST
DTSTART:20231105T080000
END:STANDARD
END:VTIMEZONE
BEGIN:VEVENT
DTSTART;TZID=America/Denver:20220701T170000
DTEND;TZID=America/Denver:20220701T200000
DTSTAMP:20260421T103037
CREATED:20190731T212720Z
LAST-MODIFIED:20191014T194901Z
UID:10001275-1656694800-1656705600@citystarbrewing.com
SUMMARY:Summit Tacos
DESCRIPTION:Summit Tacos proudly serves authentic Mexican food and they love to share our passion for our food and our culture. Visit at 237 Collyer Street in Longmont and select food truck pop-ups. \nhttps://eatsummittacos.com
URL:https://citystarbrewing.com/event/summit-tacos/2022-07-01/
LOCATION:321 Mountain Avenue\, Berthoud\, CO\, 80513\, United States
CATEGORIES:Events,Food Trucks
ATTACH;FMTTYPE=image/png:https://citystarbrewing.com/wp-content/uploads/2017/05/summittacos.png
END:VEVENT
BEGIN:VEVENT
DTSTART;TZID=America/Denver:20220702T170000
DTEND;TZID=America/Denver:20220702T200000
DTSTAMP:20260421T103037
CREATED:20190731T212720Z
LAST-MODIFIED:20191014T194901Z
UID:10001276-1656781200-1656792000@citystarbrewing.com
SUMMARY:Summit Tacos
DESCRIPTION:Summit Tacos proudly serves authentic Mexican food and they love to share our passion for our food and our culture. Visit at 237 Collyer Street in Longmont and select food truck pop-ups. \nhttps://eatsummittacos.com
URL:https://citystarbrewing.com/event/summit-tacos/2022-07-02/
LOCATION:321 Mountain Avenue\, Berthoud\, CO\, 80513\, United States
CATEGORIES:Events,Food Trucks
ATTACH;FMTTYPE=image/png:https://citystarbrewing.com/wp-content/uploads/2017/05/summittacos.png
END:VEVENT
BEGIN:VEVENT
DTSTART;TZID=America/Denver:20220702T180000
DTEND;TZID=America/Denver:20220702T203000
DTSTAMP:20260421T103037
CREATED:20220616T195442Z
LAST-MODIFIED:20220617T235459Z
UID:10001853-1656784800-1656793800@citystarbrewing.com
SUMMARY:Nicki Sage
DESCRIPTION:Nicki Sage (Nicki Oh) is a recording artist and actress who works in the entertainment industry. Nicki has been working as a singer-songwriter\, professional videographer\, actress\, and photographer for many years now. Nicki began playing music at a young age. She took 8 years of classical piano lessons as a child\, and also participated in jazz and concert band in middle school as a woodwind player. She got her first acoustic guitar at age 14\, and literally wrote a song the night that she got the guitar with just the few chords she knew how to play\, having never played guitar or taken any lessons. Nicki began acting by getting involved with musical theater as a child. Her acting career began professionally back in 2015\, when she started working on TV shows as an extra\, and soon began booking work in commercials\, as well as independent films and television shows. She is currently based in Denver\, Colorado\, but has worked in multiple larger markets\, such as Los Angeles\, Atlanta\, Orlando\, and Nashville–where her music career started. Nicki has worked with many reputable writers and musicians. Recently\, she has been working with David Archuletta’s produce\, Nate Dodge\, on her next upcoming release\, “More Than a Memory”. \n“Life is short. I think that everyone would benefit from speaking their truth\, and making themselves vulnerable to the possibility of the unknown. People often mask their emotions\, and want to hide in a pink cloud because they’re afraid to admit that they are human\, and that it’s okay to not be okay. My music is how I express my feelings\, and I’m as raw as you get. I hope that I can encourage others to not be afraid of expressing where they are at.  Trust me\, you will feel so much better. Secrets keep you sick.” \n-Nicki Sage \nhttps://nickioh.com/music
URL:https://citystarbrewing.com/event/nicki-sage/
LOCATION:CO
CATEGORIES:Events,Live Music
ATTACH;FMTTYPE=image/jpeg:https://citystarbrewing.com/wp-content/uploads/2022/06/Nicki-Sage.jpg
END:VEVENT
BEGIN:VEVENT
DTSTART;TZID=America/Denver:20220703T170000
DTEND;TZID=America/Denver:20220703T200000
DTSTAMP:20260421T103037
CREATED:20190731T212720Z
LAST-MODIFIED:20191014T194901Z
UID:10001277-1656867600-1656878400@citystarbrewing.com
SUMMARY:Summit Tacos
DESCRIPTION:Summit Tacos proudly serves authentic Mexican food and they love to share our passion for our food and our culture. Visit at 237 Collyer Street in Longmont and select food truck pop-ups. \nhttps://eatsummittacos.com
URL:https://citystarbrewing.com/event/summit-tacos/2022-07-03/
LOCATION:321 Mountain Avenue\, Berthoud\, CO\, 80513\, United States
CATEGORIES:Events,Food Trucks
ATTACH;FMTTYPE=image/png:https://citystarbrewing.com/wp-content/uploads/2017/05/summittacos.png
END:VEVENT
BEGIN:VEVENT
DTSTART;TZID=America/Denver:20220704T170000
DTEND;TZID=America/Denver:20220704T200000
DTSTAMP:20260421T103037
CREATED:20190731T212720Z
LAST-MODIFIED:20191014T194901Z
UID:10001278-1656954000-1656964800@citystarbrewing.com
SUMMARY:Summit Tacos
DESCRIPTION:Summit Tacos proudly serves authentic Mexican food and they love to share our passion for our food and our culture. Visit at 237 Collyer Street in Longmont and select food truck pop-ups. \nhttps://eatsummittacos.com
URL:https://citystarbrewing.com/event/summit-tacos/2022-07-04/
LOCATION:321 Mountain Avenue\, Berthoud\, CO\, 80513\, United States
CATEGORIES:Events,Food Trucks
ATTACH;FMTTYPE=image/png:https://citystarbrewing.com/wp-content/uploads/2017/05/summittacos.png
END:VEVENT
BEGIN:VEVENT
DTSTART;TZID=America/Denver:20220705T170000
DTEND;TZID=America/Denver:20220705T200000
DTSTAMP:20260421T103037
CREATED:20190731T212720Z
LAST-MODIFIED:20191014T194901Z
UID:10001279-1657040400-1657051200@citystarbrewing.com
SUMMARY:Summit Tacos
DESCRIPTION:Summit Tacos proudly serves authentic Mexican food and they love to share our passion for our food and our culture. Visit at 237 Collyer Street in Longmont and select food truck pop-ups. \nhttps://eatsummittacos.com
URL:https://citystarbrewing.com/event/summit-tacos/2022-07-05/
LOCATION:321 Mountain Avenue\, Berthoud\, CO\, 80513\, United States
CATEGORIES:Events,Food Trucks
ATTACH;FMTTYPE=image/png:https://citystarbrewing.com/wp-content/uploads/2017/05/summittacos.png
END:VEVENT
BEGIN:VEVENT
DTSTART;TZID=America/Denver:20220706T170000
DTEND;TZID=America/Denver:20220706T200000
DTSTAMP:20260421T103037
CREATED:20190731T212720Z
LAST-MODIFIED:20191014T194901Z
UID:10001280-1657126800-1657137600@citystarbrewing.com
SUMMARY:Summit Tacos
DESCRIPTION:Summit Tacos proudly serves authentic Mexican food and they love to share our passion for our food and our culture. Visit at 237 Collyer Street in Longmont and select food truck pop-ups. \nhttps://eatsummittacos.com
URL:https://citystarbrewing.com/event/summit-tacos/2022-07-06/
LOCATION:321 Mountain Avenue\, Berthoud\, CO\, 80513\, United States
CATEGORIES:Events,Food Trucks
ATTACH;FMTTYPE=image/png:https://citystarbrewing.com/wp-content/uploads/2017/05/summittacos.png
END:VEVENT
BEGIN:VEVENT
DTSTART;TZID=America/Denver:20220707T160000
DTEND;TZID=America/Denver:20220707T200000
DTSTAMP:20260421T103037
CREATED:20200813T162516Z
LAST-MODIFIED:20220522T171440Z
UID:10001500-1657209600-1657224000@citystarbrewing.com
SUMMARY:Georgia Boys BBQ
DESCRIPTION:Come get some true Southern BBQ from our Georgia Boys BBQ Outpost food truck! We’re slingin’ our homemade grub all over Northern Colorado…get here early while the gettin’s good\, as we do sell out.
URL:https://citystarbrewing.com/event/georgia-boys-bbq/2022-07-07/
LOCATION:CO
CATEGORIES:Events,Food Trucks
ATTACH;FMTTYPE=image/png:https://citystarbrewing.com/wp-content/uploads/2020/08/GeorgiaBoys.png
END:VEVENT
BEGIN:VEVENT
DTSTART;TZID=America/Denver:20220707T170000
DTEND;TZID=America/Denver:20220707T200000
DTSTAMP:20260421T103037
CREATED:20190731T212720Z
LAST-MODIFIED:20191014T194901Z
UID:10001281-1657213200-1657224000@citystarbrewing.com
SUMMARY:Summit Tacos
DESCRIPTION:Summit Tacos proudly serves authentic Mexican food and they love to share our passion for our food and our culture. Visit at 237 Collyer Street in Longmont and select food truck pop-ups. \nhttps://eatsummittacos.com
URL:https://citystarbrewing.com/event/summit-tacos/2022-07-07/
LOCATION:321 Mountain Avenue\, Berthoud\, CO\, 80513\, United States
CATEGORIES:Events,Food Trucks
ATTACH;FMTTYPE=image/png:https://citystarbrewing.com/wp-content/uploads/2017/05/summittacos.png
END:VEVENT
BEGIN:VEVENT
DTSTART;TZID=America/Denver:20220708T150000
DTEND;TZID=America/Denver:20220708T210000
DTSTAMP:20260421T103037
CREATED:20220704T150440Z
LAST-MODIFIED:20220704T150440Z
UID:10001855-1657292400-1657314000@citystarbrewing.com
SUMMARY:Heritage Hefeweizen
DESCRIPTION:German style wheat ale brewed with Root Shoot Malting heritage Olander Wheat. 5%ABV Available on draft and in cans to-go at citystarpickup.com
URL:https://citystarbrewing.com/event/heritage-hefeweizen/
LOCATION:CO
CATEGORIES:Beer Releases,Events
ATTACH;FMTTYPE=image/png:https://citystarbrewing.com/wp-content/uploads/2022/07/Screen-Shot-2022-06-30-at-4.04.10-PM.png
END:VEVENT
BEGIN:VEVENT
DTSTART;TZID=America/Denver:20220708T170000
DTEND;TZID=America/Denver:20220708T200000
DTSTAMP:20260421T103037
CREATED:20190731T212720Z
LAST-MODIFIED:20191014T194901Z
UID:10001282-1657299600-1657310400@citystarbrewing.com
SUMMARY:Summit Tacos
DESCRIPTION:Summit Tacos proudly serves authentic Mexican food and they love to share our passion for our food and our culture. Visit at 237 Collyer Street in Longmont and select food truck pop-ups. \nhttps://eatsummittacos.com
URL:https://citystarbrewing.com/event/summit-tacos/2022-07-08/
LOCATION:321 Mountain Avenue\, Berthoud\, CO\, 80513\, United States
CATEGORIES:Events,Food Trucks
ATTACH;FMTTYPE=image/png:https://citystarbrewing.com/wp-content/uploads/2017/05/summittacos.png
END:VEVENT
BEGIN:VEVENT
DTSTART;TZID=America/Denver:20220708T180000
DTEND;TZID=America/Denver:20220708T203000
DTSTAMP:20260421T103037
CREATED:20210628T160904Z
LAST-MODIFIED:20220705T213139Z
UID:10001695-1657303200-1657312200@citystarbrewing.com
SUMMARY:Matt McCloskey
DESCRIPTION:
URL:https://citystarbrewing.com/event/matt-mccloskey/2022-07-08/
LOCATION:CO
CATEGORIES:Events,Live Music
ATTACH;FMTTYPE=image/png:https://citystarbrewing.com/wp-content/uploads/2021/06/mattmcloskey.png
END:VEVENT
BEGIN:VEVENT
DTSTART;TZID=America/Denver:20220709T170000
DTEND;TZID=America/Denver:20220709T200000
DTSTAMP:20260421T103037
CREATED:20190731T212720Z
LAST-MODIFIED:20191014T194901Z
UID:10001283-1657386000-1657396800@citystarbrewing.com
SUMMARY:Summit Tacos
DESCRIPTION:Summit Tacos proudly serves authentic Mexican food and they love to share our passion for our food and our culture. Visit at 237 Collyer Street in Longmont and select food truck pop-ups. \nhttps://eatsummittacos.com
URL:https://citystarbrewing.com/event/summit-tacos/2022-07-09/
LOCATION:321 Mountain Avenue\, Berthoud\, CO\, 80513\, United States
CATEGORIES:Events,Food Trucks
ATTACH;FMTTYPE=image/png:https://citystarbrewing.com/wp-content/uploads/2017/05/summittacos.png
END:VEVENT
BEGIN:VEVENT
DTSTART;TZID=America/Denver:20220709T180000
DTEND;TZID=America/Denver:20220709T203000
DTSTAMP:20260421T103037
CREATED:20181204T224338Z
LAST-MODIFIED:20220419T210406Z
UID:10000002-1657389600-1657398600@citystarbrewing.com
SUMMARY:The Stanleytones
DESCRIPTION:Steeped in tradition\, The Stanleytones Bluegrass Band was formed in 1999. The band was named after the Stanley Brothers\, Ralph and Carter\, who played throughout the 50’s until Carter’s death in 1966. \nSticking to a sound reminiscent of the old days and singing around a single mic\, their audience will be treated to original songs and timeless classics. Their passion for bluegrass is evident in their sound – hard drivin’ and traditional\, the way it was meant to be! \nhttp://www.stanleytonesbluegrass.com/
URL:https://citystarbrewing.com/event/the-stanleytones/
LOCATION:CO
CATEGORIES:Events,Live Music
ATTACH;FMTTYPE=image/jpeg:https://citystarbrewing.com/wp-content/uploads/2016/11/stanleytones.jpg
END:VEVENT
BEGIN:VEVENT
DTSTART;TZID=America/Denver:20220710T170000
DTEND;TZID=America/Denver:20220710T193000
DTSTAMP:20260421T103037
CREATED:20181204T223830Z
LAST-MODIFIED:20220602T204650Z
UID:10000118-1657472400-1657481400@citystarbrewing.com
SUMMARY:The Seers
DESCRIPTION:The Seers\, an experimental folk-rock duo from Fort Collins\, CO\, have transformed their shared passion for great songs into a walking\, talking\, modern-day jukebox of musical versatility. With a “stunning repertoire” of over 700 covers and 100 originals spanning from alternative rock to Americana country\, the Seers deliver sing-along performances that bring people closer together. \nAs a duo\, three-piece\, four-piece\, and five-piece band\, Seers perform at regional festivals (SXSW 2015 Colorado Music Showcase)\, weddings (in Idaho\, Utah\, Wyoming and Colorado)\, private events\, restaurants\, bars\, breweries\, memorials\, markets\, and more. With over fifteen years of collaboration\, it easy to see why they’re in high regional demand: they love to play. \nAs prolific songwriters and aspiring recording artists\, Collins and Waters have been recording and releasing albums as The Seers since 2010. Their first was an underground\, stream-of-consciousness EP titled “Universal Tree.” Two eclectic rock albums followed: “The Seers” (2013) and “Cellophane Eyes” (2014). In 2016\, in collaboration with Danny Kalb (Beck\, Ben Harper\, and Foster the People)\, The Seers released the indie folk EP “Signals” to critical acclaim. Their fourth release\, the full-length “Better Days” is out May 13th\, 2017 \nfolk • rock\nhttp://www.theseersband.com
URL:https://citystarbrewing.com/event/the-seers/
LOCATION:CO
CATEGORIES:Events,Live Music
ATTACH;FMTTYPE=image/png:https://citystarbrewing.com/wp-content/uploads/2018/05/theseers.png
END:VEVENT
BEGIN:VEVENT
DTSTART;TZID=America/Denver:20220710T170000
DTEND;TZID=America/Denver:20220710T200000
DTSTAMP:20260421T103037
CREATED:20190731T212720Z
LAST-MODIFIED:20191014T194901Z
UID:10001284-1657472400-1657483200@citystarbrewing.com
SUMMARY:Summit Tacos
DESCRIPTION:Summit Tacos proudly serves authentic Mexican food and they love to share our passion for our food and our culture. Visit at 237 Collyer Street in Longmont and select food truck pop-ups. \nhttps://eatsummittacos.com
URL:https://citystarbrewing.com/event/summit-tacos/2022-07-10/
LOCATION:321 Mountain Avenue\, Berthoud\, CO\, 80513\, United States
CATEGORIES:Events,Food Trucks
ATTACH;FMTTYPE=image/png:https://citystarbrewing.com/wp-content/uploads/2017/05/summittacos.png
END:VEVENT
BEGIN:VEVENT
DTSTART;TZID=America/Denver:20220711T170000
DTEND;TZID=America/Denver:20220711T200000
DTSTAMP:20260421T103037
CREATED:20190731T212720Z
LAST-MODIFIED:20191014T194901Z
UID:10001285-1657558800-1657569600@citystarbrewing.com
SUMMARY:Summit Tacos
DESCRIPTION:Summit Tacos proudly serves authentic Mexican food and they love to share our passion for our food and our culture. Visit at 237 Collyer Street in Longmont and select food truck pop-ups. \nhttps://eatsummittacos.com
URL:https://citystarbrewing.com/event/summit-tacos/2022-07-11/
LOCATION:321 Mountain Avenue\, Berthoud\, CO\, 80513\, United States
CATEGORIES:Events,Food Trucks
ATTACH;FMTTYPE=image/png:https://citystarbrewing.com/wp-content/uploads/2017/05/summittacos.png
END:VEVENT
BEGIN:VEVENT
DTSTART;TZID=America/Denver:20220712T160000
DTEND;TZID=America/Denver:20220712T200000
DTSTAMP:20260421T103037
CREATED:20200711T213851Z
LAST-MODIFIED:20230123T152358Z
UID:10001478-1657641600-1657656000@citystarbrewing.com
SUMMARY:Dill's Maine Lobster Shack
DESCRIPTION:Maine native Ryan Dill and wife Liz bring you: Dill’s Maine Lobster Shack\, a Food Trailer in Northern Colorado focusing on authentic Maine Lobster & Crab Rolls. Looking forward to bringing a bit of New England to Colorado. \nAll seafood is flown in overnight\, fresh from the coast of Maine! Wicked Good!!!! \nMENU \n$20 Full Lobster Roll Plate – 4oz Lobster Roll\, Coleslaw\, Pickle Spear\, Chips \n$16 1/2 Lobster Roll Plate – 2oz Lobster Roll\, Coleslaw\, Pickle Spear\, Chips \n$20 Crab Plate Roll – 4oz Crab Roll\, Coleslaw\, Pickle Spear\, Chips \n$5 Hot Dog Plate – Hot Dog\, Pickle Spear\, Chips
URL:https://citystarbrewing.com/event/dills-maine-lobster-shack/2022-07-12/
LOCATION:CO
CATEGORIES:Events,Food Trucks
ATTACH;FMTTYPE=image/jpeg:https://citystarbrewing.com/wp-content/uploads/2020/07/dills-maine-1.jpg
END:VEVENT
BEGIN:VEVENT
DTSTART;TZID=America/Denver:20220712T170000
DTEND;TZID=America/Denver:20220712T200000
DTSTAMP:20260421T103037
CREATED:20190731T212720Z
LAST-MODIFIED:20191014T194901Z
UID:10001286-1657645200-1657656000@citystarbrewing.com
SUMMARY:Summit Tacos
DESCRIPTION:Summit Tacos proudly serves authentic Mexican food and they love to share our passion for our food and our culture. Visit at 237 Collyer Street in Longmont and select food truck pop-ups. \nhttps://eatsummittacos.com
URL:https://citystarbrewing.com/event/summit-tacos/2022-07-12/
LOCATION:321 Mountain Avenue\, Berthoud\, CO\, 80513\, United States
CATEGORIES:Events,Food Trucks
ATTACH;FMTTYPE=image/png:https://citystarbrewing.com/wp-content/uploads/2017/05/summittacos.png
END:VEVENT
BEGIN:VEVENT
DTSTART;TZID=America/Denver:20220713T170000
DTEND;TZID=America/Denver:20220713T200000
DTSTAMP:20260421T103037
CREATED:20190731T212720Z
LAST-MODIFIED:20191014T194901Z
UID:10001287-1657731600-1657742400@citystarbrewing.com
SUMMARY:Summit Tacos
DESCRIPTION:Summit Tacos proudly serves authentic Mexican food and they love to share our passion for our food and our culture. Visit at 237 Collyer Street in Longmont and select food truck pop-ups. \nhttps://eatsummittacos.com
URL:https://citystarbrewing.com/event/summit-tacos/2022-07-13/
LOCATION:321 Mountain Avenue\, Berthoud\, CO\, 80513\, United States
CATEGORIES:Events,Food Trucks
ATTACH;FMTTYPE=image/png:https://citystarbrewing.com/wp-content/uploads/2017/05/summittacos.png
END:VEVENT
BEGIN:VEVENT
DTSTART;TZID=America/Denver:20220714T170000
DTEND;TZID=America/Denver:20220714T200000
DTSTAMP:20260421T103037
CREATED:20190731T212720Z
LAST-MODIFIED:20191014T194901Z
UID:10001288-1657818000-1657828800@citystarbrewing.com
SUMMARY:Summit Tacos
DESCRIPTION:Summit Tacos proudly serves authentic Mexican food and they love to share our passion for our food and our culture. Visit at 237 Collyer Street in Longmont and select food truck pop-ups. \nhttps://eatsummittacos.com
URL:https://citystarbrewing.com/event/summit-tacos/2022-07-14/
LOCATION:321 Mountain Avenue\, Berthoud\, CO\, 80513\, United States
CATEGORIES:Events,Food Trucks
ATTACH;FMTTYPE=image/png:https://citystarbrewing.com/wp-content/uploads/2017/05/summittacos.png
END:VEVENT
BEGIN:VEVENT
DTSTART;TZID=America/Denver:20220715T170000
DTEND;TZID=America/Denver:20220715T200000
DTSTAMP:20260421T103037
CREATED:20190731T212720Z
LAST-MODIFIED:20191014T194901Z
UID:10001289-1657904400-1657915200@citystarbrewing.com
SUMMARY:Summit Tacos
DESCRIPTION:Summit Tacos proudly serves authentic Mexican food and they love to share our passion for our food and our culture. Visit at 237 Collyer Street in Longmont and select food truck pop-ups. \nhttps://eatsummittacos.com
URL:https://citystarbrewing.com/event/summit-tacos/2022-07-15/
LOCATION:321 Mountain Avenue\, Berthoud\, CO\, 80513\, United States
CATEGORIES:Events,Food Trucks
ATTACH;FMTTYPE=image/png:https://citystarbrewing.com/wp-content/uploads/2017/05/summittacos.png
END:VEVENT
BEGIN:VEVENT
DTSTART;TZID=America/Denver:20220716T120000
DTEND;TZID=America/Denver:20220716T200000
DTSTAMP:20260421T103037
CREATED:20181128T060314Z
LAST-MODIFIED:20241203T220750Z
UID:10000154-1657972800-1658001600@citystarbrewing.com
SUMMARY:Sweaty Moose
DESCRIPTION:Sweaty Moose MENU: www.sweatymoose.com
URL:https://citystarbrewing.com/event/sweaty-moose/2022-07-16/
CATEGORIES:Events,Food Trucks
ATTACH;FMTTYPE=image/jpeg:https://citystarbrewing.com/wp-content/uploads/2017/10/sweaty-moose.jpg
END:VEVENT
BEGIN:VEVENT
DTSTART;TZID=America/Denver:20220716T170000
DTEND;TZID=America/Denver:20220716T200000
DTSTAMP:20260421T103037
CREATED:20190731T212720Z
LAST-MODIFIED:20191014T194901Z
UID:10001290-1657990800-1658001600@citystarbrewing.com
SUMMARY:Summit Tacos
DESCRIPTION:Summit Tacos proudly serves authentic Mexican food and they love to share our passion for our food and our culture. Visit at 237 Collyer Street in Longmont and select food truck pop-ups. \nhttps://eatsummittacos.com
URL:https://citystarbrewing.com/event/summit-tacos/2022-07-16/
LOCATION:321 Mountain Avenue\, Berthoud\, CO\, 80513\, United States
CATEGORIES:Events,Food Trucks
ATTACH;FMTTYPE=image/png:https://citystarbrewing.com/wp-content/uploads/2017/05/summittacos.png
END:VEVENT
BEGIN:VEVENT
DTSTART;TZID=America/Denver:20220717T170000
DTEND;TZID=America/Denver:20220717T200000
DTSTAMP:20260421T103037
CREATED:20190731T212720Z
LAST-MODIFIED:20191014T194901Z
UID:10001291-1658077200-1658088000@citystarbrewing.com
SUMMARY:Summit Tacos
DESCRIPTION:Summit Tacos proudly serves authentic Mexican food and they love to share our passion for our food and our culture. Visit at 237 Collyer Street in Longmont and select food truck pop-ups. \nhttps://eatsummittacos.com
URL:https://citystarbrewing.com/event/summit-tacos/2022-07-17/
LOCATION:321 Mountain Avenue\, Berthoud\, CO\, 80513\, United States
CATEGORIES:Events,Food Trucks
ATTACH;FMTTYPE=image/png:https://citystarbrewing.com/wp-content/uploads/2017/05/summittacos.png
END:VEVENT
BEGIN:VEVENT
DTSTART;TZID=America/Denver:20220718T170000
DTEND;TZID=America/Denver:20220718T200000
DTSTAMP:20260421T103037
CREATED:20190731T212720Z
LAST-MODIFIED:20191014T194901Z
UID:10001292-1658163600-1658174400@citystarbrewing.com
SUMMARY:Summit Tacos
DESCRIPTION:Summit Tacos proudly serves authentic Mexican food and they love to share our passion for our food and our culture. Visit at 237 Collyer Street in Longmont and select food truck pop-ups. \nhttps://eatsummittacos.com
URL:https://citystarbrewing.com/event/summit-tacos/2022-07-18/
LOCATION:321 Mountain Avenue\, Berthoud\, CO\, 80513\, United States
CATEGORIES:Events,Food Trucks
ATTACH;FMTTYPE=image/png:https://citystarbrewing.com/wp-content/uploads/2017/05/summittacos.png
END:VEVENT
BEGIN:VEVENT
DTSTART;TZID=America/Denver:20220719T170000
DTEND;TZID=America/Denver:20220719T200000
DTSTAMP:20260421T103037
CREATED:20190731T212720Z
LAST-MODIFIED:20191014T194901Z
UID:10001293-1658250000-1658260800@citystarbrewing.com
SUMMARY:Summit Tacos
DESCRIPTION:Summit Tacos proudly serves authentic Mexican food and they love to share our passion for our food and our culture. Visit at 237 Collyer Street in Longmont and select food truck pop-ups. \nhttps://eatsummittacos.com
URL:https://citystarbrewing.com/event/summit-tacos/2022-07-19/
LOCATION:321 Mountain Avenue\, Berthoud\, CO\, 80513\, United States
CATEGORIES:Events,Food Trucks
ATTACH;FMTTYPE=image/png:https://citystarbrewing.com/wp-content/uploads/2017/05/summittacos.png
END:VEVENT
BEGIN:VEVENT
DTSTART;TZID=America/Denver:20220720T170000
DTEND;TZID=America/Denver:20220720T200000
DTSTAMP:20260421T103037
CREATED:20190731T212720Z
LAST-MODIFIED:20191014T194901Z
UID:10001294-1658336400-1658347200@citystarbrewing.com
SUMMARY:Summit Tacos
DESCRIPTION:Summit Tacos proudly serves authentic Mexican food and they love to share our passion for our food and our culture. Visit at 237 Collyer Street in Longmont and select food truck pop-ups. \nhttps://eatsummittacos.com
URL:https://citystarbrewing.com/event/summit-tacos/2022-07-20/
LOCATION:321 Mountain Avenue\, Berthoud\, CO\, 80513\, United States
CATEGORIES:Events,Food Trucks
ATTACH;FMTTYPE=image/png:https://citystarbrewing.com/wp-content/uploads/2017/05/summittacos.png
END:VEVENT
BEGIN:VEVENT
DTSTART;TZID=America/Denver:20220721T160000
DTEND;TZID=America/Denver:20220721T200000
DTSTAMP:20260421T103037
CREATED:20210503T202906Z
LAST-MODIFIED:20260318T171335Z
UID:10001653-1658419200-1658433600@citystarbrewing.com
SUMMARY:Stick Around Skewers
DESCRIPTION:FLAME FINISHED STICKS & SKEWERS \nStick Around is a locally owned and operated Food Truck based in Boulder\, Colorado. Focusing on the worlds most traditional form of BBQ\, Skewers & kebabs! Stick Around brings something to the table for everybody. Take a look at our menu to see if you can find something that fits your style! \nMENU: https://www.stickaroundskewers.com/menu
URL:https://citystarbrewing.com/event/stick-around-skewers/2022-07-21/
CATEGORIES:Events,Food Trucks
ATTACH;FMTTYPE=image/jpeg:https://citystarbrewing.com/wp-content/uploads/2021/05/stickaround.jpg
END:VEVENT
BEGIN:VEVENT
DTSTART;TZID=America/Denver:20220721T170000
DTEND;TZID=America/Denver:20220721T200000
DTSTAMP:20260421T103037
CREATED:20190731T212720Z
LAST-MODIFIED:20191014T194901Z
UID:10001295-1658422800-1658433600@citystarbrewing.com
SUMMARY:Summit Tacos
DESCRIPTION:Summit Tacos proudly serves authentic Mexican food and they love to share our passion for our food and our culture. Visit at 237 Collyer Street in Longmont and select food truck pop-ups. \nhttps://eatsummittacos.com
URL:https://citystarbrewing.com/event/summit-tacos/2022-07-21/
LOCATION:321 Mountain Avenue\, Berthoud\, CO\, 80513\, United States
CATEGORIES:Events,Food Trucks
ATTACH;FMTTYPE=image/png:https://citystarbrewing.com/wp-content/uploads/2017/05/summittacos.png
END:VEVENT
END:VCALENDAR