BEGIN:VCALENDAR
VERSION:2.0
PRODID:-//City Star Brewing - ECPv6.15.20//NONSGML v1.0//EN
CALSCALE:GREGORIAN
METHOD:PUBLISH
X-WR-CALNAME:City Star Brewing
X-ORIGINAL-URL:https://citystarbrewing.com
X-WR-CALDESC:Events for City Star Brewing
REFRESH-INTERVAL;VALUE=DURATION:PT1H
X-Robots-Tag:noindex
X-PUBLISHED-TTL:PT1H
BEGIN:VTIMEZONE
TZID:America/Denver
BEGIN:DAYLIGHT
TZOFFSETFROM:-0700
TZOFFSETTO:-0600
TZNAME:MDT
DTSTART:20210314T090000
END:DAYLIGHT
BEGIN:STANDARD
TZOFFSETFROM:-0600
TZOFFSETTO:-0700
TZNAME:MST
DTSTART:20211107T080000
END:STANDARD
BEGIN:DAYLIGHT
TZOFFSETFROM:-0700
TZOFFSETTO:-0600
TZNAME:MDT
DTSTART:20220313T090000
END:DAYLIGHT
BEGIN:STANDARD
TZOFFSETFROM:-0600
TZOFFSETTO:-0700
TZNAME:MST
DTSTART:20221106T080000
END:STANDARD
BEGIN:DAYLIGHT
TZOFFSETFROM:-0700
TZOFFSETTO:-0600
TZNAME:MDT
DTSTART:20230312T090000
END:DAYLIGHT
BEGIN:STANDARD
TZOFFSETFROM:-0600
TZOFFSETTO:-0700
TZNAME:MST
DTSTART:20231105T080000
END:STANDARD
END:VTIMEZONE
BEGIN:VEVENT
DTSTART;TZID=America/Denver:20220601T170000
DTEND;TZID=America/Denver:20220601T200000
DTSTAMP:20260421T121957
CREATED:20190731T212720Z
LAST-MODIFIED:20191014T194901Z
UID:10001245-1654102800-1654113600@citystarbrewing.com
SUMMARY:Summit Tacos
DESCRIPTION:Summit Tacos proudly serves authentic Mexican food and they love to share our passion for our food and our culture. Visit at 237 Collyer Street in Longmont and select food truck pop-ups. \nhttps://eatsummittacos.com
URL:https://citystarbrewing.com/event/summit-tacos/2022-06-01/
LOCATION:321 Mountain Avenue\, Berthoud\, CO\, 80513\, United States
CATEGORIES:Events,Food Trucks
ATTACH;FMTTYPE=image/png:https://citystarbrewing.com/wp-content/uploads/2017/05/summittacos.png
END:VEVENT
BEGIN:VEVENT
DTSTART;TZID=America/Denver:20220602T170000
DTEND;TZID=America/Denver:20220602T200000
DTSTAMP:20260421T121957
CREATED:20190731T212720Z
LAST-MODIFIED:20191014T194901Z
UID:10001246-1654189200-1654200000@citystarbrewing.com
SUMMARY:Summit Tacos
DESCRIPTION:Summit Tacos proudly serves authentic Mexican food and they love to share our passion for our food and our culture. Visit at 237 Collyer Street in Longmont and select food truck pop-ups. \nhttps://eatsummittacos.com
URL:https://citystarbrewing.com/event/summit-tacos/2022-06-02/
LOCATION:321 Mountain Avenue\, Berthoud\, CO\, 80513\, United States
CATEGORIES:Events,Food Trucks
ATTACH;FMTTYPE=image/png:https://citystarbrewing.com/wp-content/uploads/2017/05/summittacos.png
END:VEVENT
BEGIN:VEVENT
DTSTART;TZID=America/Denver:20220603T120000
DTEND;TZID=America/Denver:20220603T200000
DTSTAMP:20260421T121957
CREATED:20220526T230119Z
LAST-MODIFIED:20220526T230119Z
UID:10001851-1654257600-1654286400@citystarbrewing.com
SUMMARY:Hazy IPA
DESCRIPTION:Hazy IPA double dry hopped with Cashmere\, Barbe Rouge\, and Strata hops 7.2% abv. Available on draft and in cans to-go at citystarpickup.com
URL:https://citystarbrewing.com/event/hazy-ipa/
LOCATION:CO
CATEGORIES:Beer Releases,Events
ATTACH;FMTTYPE=image/jpeg:https://citystarbrewing.com/wp-content/uploads/2022/05/IMG_3457-scaled.jpg
END:VEVENT
BEGIN:VEVENT
DTSTART;TZID=America/Denver:20220603T160000
DTEND;TZID=America/Denver:20220603T200000
DTSTAMP:20260421T121957
CREATED:20181128T055502Z
LAST-MODIFIED:20220824T170553Z
UID:10000119-1654272000-1654286400@citystarbrewing.com
SUMMARY:Burger Nomad
DESCRIPTION:Food truck focusing on classic American sandwiches\, utilizing fresh ingredients and from scratch. \nhttps://scratchkitchencolorado.com/menu
URL:https://citystarbrewing.com/event/burger-nomad/
LOCATION:CO
CATEGORIES:Events,Food Trucks
ATTACH;FMTTYPE=image/png:https://citystarbrewing.com/wp-content/uploads/2018/11/Burger-Nomad-Full-Color.png
END:VEVENT
BEGIN:VEVENT
DTSTART;TZID=America/Denver:20220603T170000
DTEND;TZID=America/Denver:20220603T200000
DTSTAMP:20260421T121957
CREATED:20190731T212720Z
LAST-MODIFIED:20191014T194901Z
UID:10001247-1654275600-1654286400@citystarbrewing.com
SUMMARY:Summit Tacos
DESCRIPTION:Summit Tacos proudly serves authentic Mexican food and they love to share our passion for our food and our culture. Visit at 237 Collyer Street in Longmont and select food truck pop-ups. \nhttps://eatsummittacos.com
URL:https://citystarbrewing.com/event/summit-tacos/2022-06-03/
LOCATION:321 Mountain Avenue\, Berthoud\, CO\, 80513\, United States
CATEGORIES:Events,Food Trucks
ATTACH;FMTTYPE=image/png:https://citystarbrewing.com/wp-content/uploads/2017/05/summittacos.png
END:VEVENT
BEGIN:VEVENT
DTSTART;TZID=America/Denver:20220604T170000
DTEND;TZID=America/Denver:20220604T200000
DTSTAMP:20260421T121957
CREATED:20190731T212720Z
LAST-MODIFIED:20191014T194901Z
UID:10001248-1654362000-1654372800@citystarbrewing.com
SUMMARY:Summit Tacos
DESCRIPTION:Summit Tacos proudly serves authentic Mexican food and they love to share our passion for our food and our culture. Visit at 237 Collyer Street in Longmont and select food truck pop-ups. \nhttps://eatsummittacos.com
URL:https://citystarbrewing.com/event/summit-tacos/2022-06-04/
LOCATION:321 Mountain Avenue\, Berthoud\, CO\, 80513\, United States
CATEGORIES:Events,Food Trucks
ATTACH;FMTTYPE=image/png:https://citystarbrewing.com/wp-content/uploads/2017/05/summittacos.png
END:VEVENT
BEGIN:VEVENT
DTSTART;TZID=America/Denver:20220605T170000
DTEND;TZID=America/Denver:20220605T200000
DTSTAMP:20260421T121957
CREATED:20190731T212720Z
LAST-MODIFIED:20191014T194901Z
UID:10001249-1654448400-1654459200@citystarbrewing.com
SUMMARY:Summit Tacos
DESCRIPTION:Summit Tacos proudly serves authentic Mexican food and they love to share our passion for our food and our culture. Visit at 237 Collyer Street in Longmont and select food truck pop-ups. \nhttps://eatsummittacos.com
URL:https://citystarbrewing.com/event/summit-tacos/2022-06-05/
LOCATION:321 Mountain Avenue\, Berthoud\, CO\, 80513\, United States
CATEGORIES:Events,Food Trucks
ATTACH;FMTTYPE=image/png:https://citystarbrewing.com/wp-content/uploads/2017/05/summittacos.png
END:VEVENT
BEGIN:VEVENT
DTSTART;TZID=America/Denver:20220606T170000
DTEND;TZID=America/Denver:20220606T200000
DTSTAMP:20260421T121957
CREATED:20190731T212720Z
LAST-MODIFIED:20191014T194901Z
UID:10001250-1654534800-1654545600@citystarbrewing.com
SUMMARY:Summit Tacos
DESCRIPTION:Summit Tacos proudly serves authentic Mexican food and they love to share our passion for our food and our culture. Visit at 237 Collyer Street in Longmont and select food truck pop-ups. \nhttps://eatsummittacos.com
URL:https://citystarbrewing.com/event/summit-tacos/2022-06-06/
LOCATION:321 Mountain Avenue\, Berthoud\, CO\, 80513\, United States
CATEGORIES:Events,Food Trucks
ATTACH;FMTTYPE=image/png:https://citystarbrewing.com/wp-content/uploads/2017/05/summittacos.png
END:VEVENT
BEGIN:VEVENT
DTSTART;TZID=America/Denver:20220607T170000
DTEND;TZID=America/Denver:20220607T200000
DTSTAMP:20260421T121957
CREATED:20190731T212720Z
LAST-MODIFIED:20191014T194901Z
UID:10001251-1654621200-1654632000@citystarbrewing.com
SUMMARY:Summit Tacos
DESCRIPTION:Summit Tacos proudly serves authentic Mexican food and they love to share our passion for our food and our culture. Visit at 237 Collyer Street in Longmont and select food truck pop-ups. \nhttps://eatsummittacos.com
URL:https://citystarbrewing.com/event/summit-tacos/2022-06-07/
LOCATION:321 Mountain Avenue\, Berthoud\, CO\, 80513\, United States
CATEGORIES:Events,Food Trucks
ATTACH;FMTTYPE=image/png:https://citystarbrewing.com/wp-content/uploads/2017/05/summittacos.png
END:VEVENT
BEGIN:VEVENT
DTSTART;TZID=America/Denver:20220608T170000
DTEND;TZID=America/Denver:20220608T200000
DTSTAMP:20260421T121957
CREATED:20190731T212720Z
LAST-MODIFIED:20191014T194901Z
UID:10001252-1654707600-1654718400@citystarbrewing.com
SUMMARY:Summit Tacos
DESCRIPTION:Summit Tacos proudly serves authentic Mexican food and they love to share our passion for our food and our culture. Visit at 237 Collyer Street in Longmont and select food truck pop-ups. \nhttps://eatsummittacos.com
URL:https://citystarbrewing.com/event/summit-tacos/2022-06-08/
LOCATION:321 Mountain Avenue\, Berthoud\, CO\, 80513\, United States
CATEGORIES:Events,Food Trucks
ATTACH;FMTTYPE=image/png:https://citystarbrewing.com/wp-content/uploads/2017/05/summittacos.png
END:VEVENT
BEGIN:VEVENT
DTSTART;TZID=America/Denver:20220609T170000
DTEND;TZID=America/Denver:20220609T200000
DTSTAMP:20260421T121957
CREATED:20190731T212720Z
LAST-MODIFIED:20191014T194901Z
UID:10001253-1654794000-1654804800@citystarbrewing.com
SUMMARY:Summit Tacos
DESCRIPTION:Summit Tacos proudly serves authentic Mexican food and they love to share our passion for our food and our culture. Visit at 237 Collyer Street in Longmont and select food truck pop-ups. \nhttps://eatsummittacos.com
URL:https://citystarbrewing.com/event/summit-tacos/2022-06-09/
LOCATION:321 Mountain Avenue\, Berthoud\, CO\, 80513\, United States
CATEGORIES:Events,Food Trucks
ATTACH;FMTTYPE=image/png:https://citystarbrewing.com/wp-content/uploads/2017/05/summittacos.png
END:VEVENT
BEGIN:VEVENT
DTSTART;TZID=America/Denver:20220610T170000
DTEND;TZID=America/Denver:20220610T200000
DTSTAMP:20260421T121957
CREATED:20190731T212720Z
LAST-MODIFIED:20191014T194901Z
UID:10001254-1654880400-1654891200@citystarbrewing.com
SUMMARY:Summit Tacos
DESCRIPTION:Summit Tacos proudly serves authentic Mexican food and they love to share our passion for our food and our culture. Visit at 237 Collyer Street in Longmont and select food truck pop-ups. \nhttps://eatsummittacos.com
URL:https://citystarbrewing.com/event/summit-tacos/2022-06-10/
LOCATION:321 Mountain Avenue\, Berthoud\, CO\, 80513\, United States
CATEGORIES:Events,Food Trucks
ATTACH;FMTTYPE=image/png:https://citystarbrewing.com/wp-content/uploads/2017/05/summittacos.png
END:VEVENT
BEGIN:VEVENT
DTSTART;TZID=America/Denver:20220611T170000
DTEND;TZID=America/Denver:20220611T200000
DTSTAMP:20260421T121957
CREATED:20190731T212720Z
LAST-MODIFIED:20191014T194901Z
UID:10001255-1654966800-1654977600@citystarbrewing.com
SUMMARY:Summit Tacos
DESCRIPTION:Summit Tacos proudly serves authentic Mexican food and they love to share our passion for our food and our culture. Visit at 237 Collyer Street in Longmont and select food truck pop-ups. \nhttps://eatsummittacos.com
URL:https://citystarbrewing.com/event/summit-tacos/2022-06-11/
LOCATION:321 Mountain Avenue\, Berthoud\, CO\, 80513\, United States
CATEGORIES:Events,Food Trucks
ATTACH;FMTTYPE=image/png:https://citystarbrewing.com/wp-content/uploads/2017/05/summittacos.png
END:VEVENT
BEGIN:VEVENT
DTSTART;TZID=America/Denver:20220612T170000
DTEND;TZID=America/Denver:20220612T200000
DTSTAMP:20260421T121957
CREATED:20190731T212720Z
LAST-MODIFIED:20191014T194901Z
UID:10001256-1655053200-1655064000@citystarbrewing.com
SUMMARY:Summit Tacos
DESCRIPTION:Summit Tacos proudly serves authentic Mexican food and they love to share our passion for our food and our culture. Visit at 237 Collyer Street in Longmont and select food truck pop-ups. \nhttps://eatsummittacos.com
URL:https://citystarbrewing.com/event/summit-tacos/2022-06-12/
LOCATION:321 Mountain Avenue\, Berthoud\, CO\, 80513\, United States
CATEGORIES:Events,Food Trucks
ATTACH;FMTTYPE=image/png:https://citystarbrewing.com/wp-content/uploads/2017/05/summittacos.png
END:VEVENT
BEGIN:VEVENT
DTSTART;TZID=America/Denver:20220613T170000
DTEND;TZID=America/Denver:20220613T200000
DTSTAMP:20260421T121957
CREATED:20190731T212720Z
LAST-MODIFIED:20191014T194901Z
UID:10001257-1655139600-1655150400@citystarbrewing.com
SUMMARY:Summit Tacos
DESCRIPTION:Summit Tacos proudly serves authentic Mexican food and they love to share our passion for our food and our culture. Visit at 237 Collyer Street in Longmont and select food truck pop-ups. \nhttps://eatsummittacos.com
URL:https://citystarbrewing.com/event/summit-tacos/2022-06-13/
LOCATION:321 Mountain Avenue\, Berthoud\, CO\, 80513\, United States
CATEGORIES:Events,Food Trucks
ATTACH;FMTTYPE=image/png:https://citystarbrewing.com/wp-content/uploads/2017/05/summittacos.png
END:VEVENT
BEGIN:VEVENT
DTSTART;TZID=America/Denver:20220614T160000
DTEND;TZID=America/Denver:20220614T200000
DTSTAMP:20260421T121957
CREATED:20200711T213851Z
LAST-MODIFIED:20230123T152358Z
UID:10001476-1655222400-1655236800@citystarbrewing.com
SUMMARY:Dill's Maine Lobster Shack
DESCRIPTION:Maine native Ryan Dill and wife Liz bring you: Dill’s Maine Lobster Shack\, a Food Trailer in Northern Colorado focusing on authentic Maine Lobster & Crab Rolls. Looking forward to bringing a bit of New England to Colorado. \nAll seafood is flown in overnight\, fresh from the coast of Maine! Wicked Good!!!! \nMENU \n$20 Full Lobster Roll Plate – 4oz Lobster Roll\, Coleslaw\, Pickle Spear\, Chips \n$16 1/2 Lobster Roll Plate – 2oz Lobster Roll\, Coleslaw\, Pickle Spear\, Chips \n$20 Crab Plate Roll – 4oz Crab Roll\, Coleslaw\, Pickle Spear\, Chips \n$5 Hot Dog Plate – Hot Dog\, Pickle Spear\, Chips
URL:https://citystarbrewing.com/event/dills-maine-lobster-shack/2022-06-14/
LOCATION:CO
CATEGORIES:Events,Food Trucks
ATTACH;FMTTYPE=image/jpeg:https://citystarbrewing.com/wp-content/uploads/2020/07/dills-maine-1.jpg
END:VEVENT
BEGIN:VEVENT
DTSTART;TZID=America/Denver:20220614T170000
DTEND;TZID=America/Denver:20220614T200000
DTSTAMP:20260421T121957
CREATED:20190731T212720Z
LAST-MODIFIED:20191014T194901Z
UID:10001258-1655226000-1655236800@citystarbrewing.com
SUMMARY:Summit Tacos
DESCRIPTION:Summit Tacos proudly serves authentic Mexican food and they love to share our passion for our food and our culture. Visit at 237 Collyer Street in Longmont and select food truck pop-ups. \nhttps://eatsummittacos.com
URL:https://citystarbrewing.com/event/summit-tacos/2022-06-14/
LOCATION:321 Mountain Avenue\, Berthoud\, CO\, 80513\, United States
CATEGORIES:Events,Food Trucks
ATTACH;FMTTYPE=image/png:https://citystarbrewing.com/wp-content/uploads/2017/05/summittacos.png
END:VEVENT
BEGIN:VEVENT
DTSTART;TZID=America/Denver:20220615T170000
DTEND;TZID=America/Denver:20220615T200000
DTSTAMP:20260421T121957
CREATED:20190731T212720Z
LAST-MODIFIED:20191014T194901Z
UID:10001259-1655312400-1655323200@citystarbrewing.com
SUMMARY:Summit Tacos
DESCRIPTION:Summit Tacos proudly serves authentic Mexican food and they love to share our passion for our food and our culture. Visit at 237 Collyer Street in Longmont and select food truck pop-ups. \nhttps://eatsummittacos.com
URL:https://citystarbrewing.com/event/summit-tacos/2022-06-15/
LOCATION:321 Mountain Avenue\, Berthoud\, CO\, 80513\, United States
CATEGORIES:Events,Food Trucks
ATTACH;FMTTYPE=image/png:https://citystarbrewing.com/wp-content/uploads/2017/05/summittacos.png
END:VEVENT
BEGIN:VEVENT
DTSTART;TZID=America/Denver:20220616T170000
DTEND;TZID=America/Denver:20220616T200000
DTSTAMP:20260421T121957
CREATED:20190731T212720Z
LAST-MODIFIED:20191014T194901Z
UID:10001260-1655398800-1655409600@citystarbrewing.com
SUMMARY:Summit Tacos
DESCRIPTION:Summit Tacos proudly serves authentic Mexican food and they love to share our passion for our food and our culture. Visit at 237 Collyer Street in Longmont and select food truck pop-ups. \nhttps://eatsummittacos.com
URL:https://citystarbrewing.com/event/summit-tacos/2022-06-16/
LOCATION:321 Mountain Avenue\, Berthoud\, CO\, 80513\, United States
CATEGORIES:Events,Food Trucks
ATTACH;FMTTYPE=image/png:https://citystarbrewing.com/wp-content/uploads/2017/05/summittacos.png
END:VEVENT
BEGIN:VEVENT
DTSTART;TZID=America/Denver:20220617T150000
DTEND;TZID=America/Denver:20220617T210000
DTSTAMP:20260421T121957
CREATED:20220609T183346Z
LAST-MODIFIED:20220616T224305Z
UID:10001852-1655478000-1655499600@citystarbrewing.com
SUMMARY:Italian Sour Beer Release
DESCRIPTION:Sour Barrel Aged Bergamot Blonde: golden ale aged 10 months in tequila oak barrels with sour bacteria. Finished with Bergamot\, an Italian citrus. 6% ABV \nAvailable on draft only
URL:https://citystarbrewing.com/event/italian-sour-beer-release/
LOCATION:CO
CATEGORIES:Beer Releases,Events
END:VEVENT
BEGIN:VEVENT
DTSTART;TZID=America/Denver:20220617T170000
DTEND;TZID=America/Denver:20220617T200000
DTSTAMP:20260421T121957
CREATED:20190731T212720Z
LAST-MODIFIED:20191014T194901Z
UID:10001261-1655485200-1655496000@citystarbrewing.com
SUMMARY:Summit Tacos
DESCRIPTION:Summit Tacos proudly serves authentic Mexican food and they love to share our passion for our food and our culture. Visit at 237 Collyer Street in Longmont and select food truck pop-ups. \nhttps://eatsummittacos.com
URL:https://citystarbrewing.com/event/summit-tacos/2022-06-17/
LOCATION:321 Mountain Avenue\, Berthoud\, CO\, 80513\, United States
CATEGORIES:Events,Food Trucks
ATTACH;FMTTYPE=image/png:https://citystarbrewing.com/wp-content/uploads/2017/05/summittacos.png
END:VEVENT
BEGIN:VEVENT
DTSTART;TZID=America/Denver:20220618T120000
DTEND;TZID=America/Denver:20220618T200000
DTSTAMP:20260421T121957
CREATED:20181128T060314Z
LAST-MODIFIED:20241203T220750Z
UID:10000153-1655553600-1655582400@citystarbrewing.com
SUMMARY:Sweaty Moose
DESCRIPTION:Sweaty Moose MENU: www.sweatymoose.com
URL:https://citystarbrewing.com/event/sweaty-moose/2022-06-18/
CATEGORIES:Events,Food Trucks
ATTACH;FMTTYPE=image/jpeg:https://citystarbrewing.com/wp-content/uploads/2017/10/sweaty-moose.jpg
END:VEVENT
BEGIN:VEVENT
DTSTART;TZID=America/Denver:20220618T170000
DTEND;TZID=America/Denver:20220618T200000
DTSTAMP:20260421T121957
CREATED:20190731T212720Z
LAST-MODIFIED:20191014T194901Z
UID:10001262-1655571600-1655582400@citystarbrewing.com
SUMMARY:Summit Tacos
DESCRIPTION:Summit Tacos proudly serves authentic Mexican food and they love to share our passion for our food and our culture. Visit at 237 Collyer Street in Longmont and select food truck pop-ups. \nhttps://eatsummittacos.com
URL:https://citystarbrewing.com/event/summit-tacos/2022-06-18/
LOCATION:321 Mountain Avenue\, Berthoud\, CO\, 80513\, United States
CATEGORIES:Events,Food Trucks
ATTACH;FMTTYPE=image/png:https://citystarbrewing.com/wp-content/uploads/2017/05/summittacos.png
END:VEVENT
BEGIN:VEVENT
DTSTART;TZID=America/Denver:20220619T170000
DTEND;TZID=America/Denver:20220619T200000
DTSTAMP:20260421T121957
CREATED:20190731T212720Z
LAST-MODIFIED:20191014T194901Z
UID:10001263-1655658000-1655668800@citystarbrewing.com
SUMMARY:Summit Tacos
DESCRIPTION:Summit Tacos proudly serves authentic Mexican food and they love to share our passion for our food and our culture. Visit at 237 Collyer Street in Longmont and select food truck pop-ups. \nhttps://eatsummittacos.com
URL:https://citystarbrewing.com/event/summit-tacos/2022-06-19/
LOCATION:321 Mountain Avenue\, Berthoud\, CO\, 80513\, United States
CATEGORIES:Events,Food Trucks
ATTACH;FMTTYPE=image/png:https://citystarbrewing.com/wp-content/uploads/2017/05/summittacos.png
END:VEVENT
BEGIN:VEVENT
DTSTART;TZID=America/Denver:20220619T200000
DTEND;TZID=America/Denver:20220619T200000
DTSTAMP:20260421T121957
CREATED:20210914T223638Z
LAST-MODIFIED:20250212T031924Z
UID:10001737-1655668800-1655668800@citystarbrewing.com
SUMMARY:Santa Elena's
DESCRIPTION:Wood Smoked Mexican Provisions \nWE MAY JUST BE A FOOD TRUCK \, BUT OUR PROMISE IS to the land and those it serves. \nWe strive to work closely with those that work the land whether near or far\, to bring to you the best possible food truck experience. We seek to work with those who are making products that are conscious of their environmental impact. We want to honor our culture and try to bring the authentic essence of where we came from and what it means to us. We want to share our sense of hospitality and nurture your spirt with our food. \nBienvenidos Amigos \nBeautiful Bountiful Blue Corn: Our work couldn’t find ground until ground found us. Your authentic experience begins early in the morning when we make our own masa (corn dough) from the beautiful blue heirloom mushito corn from Michoacan. This corn and it’s people have long thrived through hardships\, we think mainly cause it’s so freaking good. Our fresh masa goes on to make tortillas for quesadillas\, enchiladas\, tostadas etc. Come try for yourself! \nhttps://www.santaelenas.com
URL:https://citystarbrewing.com/event/santa-elenas/
CATEGORIES:Events,Food Trucks
ATTACH;FMTTYPE=image/jpeg:https://citystarbrewing.com/wp-content/uploads/2021/09/santaelenas-e1631658980688.jpg
END:VEVENT
BEGIN:VEVENT
DTSTART;TZID=America/Denver:20220620T170000
DTEND;TZID=America/Denver:20220620T200000
DTSTAMP:20260421T121957
CREATED:20190731T212720Z
LAST-MODIFIED:20191014T194901Z
UID:10001264-1655744400-1655755200@citystarbrewing.com
SUMMARY:Summit Tacos
DESCRIPTION:Summit Tacos proudly serves authentic Mexican food and they love to share our passion for our food and our culture. Visit at 237 Collyer Street in Longmont and select food truck pop-ups. \nhttps://eatsummittacos.com
URL:https://citystarbrewing.com/event/summit-tacos/2022-06-20/
LOCATION:321 Mountain Avenue\, Berthoud\, CO\, 80513\, United States
CATEGORIES:Events,Food Trucks
ATTACH;FMTTYPE=image/png:https://citystarbrewing.com/wp-content/uploads/2017/05/summittacos.png
END:VEVENT
BEGIN:VEVENT
DTSTART;TZID=America/Denver:20220621T170000
DTEND;TZID=America/Denver:20220621T200000
DTSTAMP:20260421T121957
CREATED:20190731T212720Z
LAST-MODIFIED:20191014T194901Z
UID:10001265-1655830800-1655841600@citystarbrewing.com
SUMMARY:Summit Tacos
DESCRIPTION:Summit Tacos proudly serves authentic Mexican food and they love to share our passion for our food and our culture. Visit at 237 Collyer Street in Longmont and select food truck pop-ups. \nhttps://eatsummittacos.com
URL:https://citystarbrewing.com/event/summit-tacos/2022-06-21/
LOCATION:321 Mountain Avenue\, Berthoud\, CO\, 80513\, United States
CATEGORIES:Events,Food Trucks
ATTACH;FMTTYPE=image/png:https://citystarbrewing.com/wp-content/uploads/2017/05/summittacos.png
END:VEVENT
BEGIN:VEVENT
DTSTART;TZID=America/Denver:20220622T170000
DTEND;TZID=America/Denver:20220622T200000
DTSTAMP:20260421T121957
CREATED:20190731T212720Z
LAST-MODIFIED:20191014T194901Z
UID:10001266-1655917200-1655928000@citystarbrewing.com
SUMMARY:Summit Tacos
DESCRIPTION:Summit Tacos proudly serves authentic Mexican food and they love to share our passion for our food and our culture. Visit at 237 Collyer Street in Longmont and select food truck pop-ups. \nhttps://eatsummittacos.com
URL:https://citystarbrewing.com/event/summit-tacos/2022-06-22/
LOCATION:321 Mountain Avenue\, Berthoud\, CO\, 80513\, United States
CATEGORIES:Events,Food Trucks
ATTACH;FMTTYPE=image/png:https://citystarbrewing.com/wp-content/uploads/2017/05/summittacos.png
END:VEVENT
BEGIN:VEVENT
DTSTART;TZID=America/Denver:20220623T160000
DTEND;TZID=America/Denver:20220623T200000
DTSTAMP:20260421T121957
CREATED:20210503T202906Z
LAST-MODIFIED:20260318T171335Z
UID:10001652-1656000000-1656014400@citystarbrewing.com
SUMMARY:Stick Around Skewers
DESCRIPTION:FLAME FINISHED STICKS & SKEWERS \nStick Around is a locally owned and operated Food Truck based in Boulder\, Colorado. Focusing on the worlds most traditional form of BBQ\, Skewers & kebabs! Stick Around brings something to the table for everybody. Take a look at our menu to see if you can find something that fits your style! \nMENU: https://www.stickaroundskewers.com/menu
URL:https://citystarbrewing.com/event/stick-around-skewers/2022-06-23/
CATEGORIES:Events,Food Trucks
ATTACH;FMTTYPE=image/jpeg:https://citystarbrewing.com/wp-content/uploads/2021/05/stickaround.jpg
END:VEVENT
BEGIN:VEVENT
DTSTART;TZID=America/Denver:20220623T170000
DTEND;TZID=America/Denver:20220623T200000
DTSTAMP:20260421T121957
CREATED:20190731T212720Z
LAST-MODIFIED:20191014T194901Z
UID:10001267-1656003600-1656014400@citystarbrewing.com
SUMMARY:Summit Tacos
DESCRIPTION:Summit Tacos proudly serves authentic Mexican food and they love to share our passion for our food and our culture. Visit at 237 Collyer Street in Longmont and select food truck pop-ups. \nhttps://eatsummittacos.com
URL:https://citystarbrewing.com/event/summit-tacos/2022-06-23/
LOCATION:321 Mountain Avenue\, Berthoud\, CO\, 80513\, United States
CATEGORIES:Events,Food Trucks
ATTACH;FMTTYPE=image/png:https://citystarbrewing.com/wp-content/uploads/2017/05/summittacos.png
END:VEVENT
END:VCALENDAR