BEGIN:VCALENDAR
VERSION:2.0
PRODID:-//City Star Brewing - ECPv6.15.20//NONSGML v1.0//EN
CALSCALE:GREGORIAN
METHOD:PUBLISH
X-WR-CALNAME:City Star Brewing
X-ORIGINAL-URL:https://citystarbrewing.com
X-WR-CALDESC:Events for City Star Brewing
REFRESH-INTERVAL;VALUE=DURATION:PT1H
X-Robots-Tag:noindex
X-PUBLISHED-TTL:PT1H
BEGIN:VTIMEZONE
TZID:America/Denver
BEGIN:DAYLIGHT
TZOFFSETFROM:-0700
TZOFFSETTO:-0600
TZNAME:MDT
DTSTART:20210314T090000
END:DAYLIGHT
BEGIN:STANDARD
TZOFFSETFROM:-0600
TZOFFSETTO:-0700
TZNAME:MST
DTSTART:20211107T080000
END:STANDARD
BEGIN:DAYLIGHT
TZOFFSETFROM:-0700
TZOFFSETTO:-0600
TZNAME:MDT
DTSTART:20220313T090000
END:DAYLIGHT
BEGIN:STANDARD
TZOFFSETFROM:-0600
TZOFFSETTO:-0700
TZNAME:MST
DTSTART:20221106T080000
END:STANDARD
BEGIN:DAYLIGHT
TZOFFSETFROM:-0700
TZOFFSETTO:-0600
TZNAME:MDT
DTSTART:20230312T090000
END:DAYLIGHT
BEGIN:STANDARD
TZOFFSETFROM:-0600
TZOFFSETTO:-0700
TZNAME:MST
DTSTART:20231105T080000
END:STANDARD
END:VTIMEZONE
BEGIN:VEVENT
DTSTART;TZID=America/Denver:20220401T150000
DTEND;TZID=America/Denver:20220401T210000
DTSTAMP:20260421T154506
CREATED:20220321T175546Z
LAST-MODIFIED:20220321T191525Z
UID:10001837-1648825200-1648846800@citystarbrewing.com
SUMMARY:Calamity Jane Beer Release
DESCRIPTION:International Women’s Day Collab\nExperimental Sour Pale Ale: blend of sour barrel aged golden ale with a citrus pale ale. City Star ladies brewed the pale ale together on IWD with fresh lime and sumo tangerine zest. The brew was then dry hopped with the Pink Boots Hop Blend (HBC 630\, Idaho Gem®\, Loral®\, Talus® and Triumph). Yakima Hops donates $3 per pound sold of the blend to the Pink Boots Society scholarship fund. \nThis brew will be available on draft only in the taproom starting at 3pm. We will also celebrate Women’s Day by hosting female owned Ting’s Things fresh pasta food truck and live music from 10 Year Echo.
URL:https://citystarbrewing.com/event/calamity-jane-beer-release/
LOCATION:CO
CATEGORIES:Beer Releases,Events
ATTACH;FMTTYPE=image/jpeg:https://citystarbrewing.com/wp-content/uploads/2022/03/Calamity-Jane-Image-e1647885112348.jpg
END:VEVENT
BEGIN:VEVENT
DTSTART;TZID=America/Denver:20220401T170000
DTEND;TZID=America/Denver:20220401T200000
DTSTAMP:20260421T154506
CREATED:20190731T212720Z
LAST-MODIFIED:20191014T194901Z
UID:10001184-1648832400-1648843200@citystarbrewing.com
SUMMARY:Summit Tacos
DESCRIPTION:Summit Tacos proudly serves authentic Mexican food and they love to share our passion for our food and our culture. Visit at 237 Collyer Street in Longmont and select food truck pop-ups. \nhttps://eatsummittacos.com
URL:https://citystarbrewing.com/event/summit-tacos/2022-04-01/
LOCATION:321 Mountain Avenue\, Berthoud\, CO\, 80513\, United States
CATEGORIES:Events,Food Trucks
ATTACH;FMTTYPE=image/png:https://citystarbrewing.com/wp-content/uploads/2017/05/summittacos.png
END:VEVENT
BEGIN:VEVENT
DTSTART;TZID=America/Denver:20220402T120000
DTEND;TZID=America/Denver:20220402T200000
DTSTAMP:20260421T154506
CREATED:20220113T005446Z
LAST-MODIFIED:20240710T180051Z
UID:10001799-1648900800-1648929600@citystarbrewing.com
SUMMARY:Georgia Boys BBQ
DESCRIPTION:Come get some true Southern BBQ from our Georgia Boys BBQ Outpost food truck! We’re slingin’ our homemade grub all over Northern Colorado…get here early while the gettin’s good\, as we do sell out.
URL:https://citystarbrewing.com/event/georgia-boys-bbq-2/2022-04-02/
CATEGORIES:Events,Food Trucks
ATTACH;FMTTYPE=image/png:https://citystarbrewing.com/wp-content/uploads/2020/08/GeorgiaBoys.png
END:VEVENT
BEGIN:VEVENT
DTSTART;TZID=America/Denver:20220402T170000
DTEND;TZID=America/Denver:20220402T200000
DTSTAMP:20260421T154506
CREATED:20190731T212720Z
LAST-MODIFIED:20191014T194901Z
UID:10001185-1648918800-1648929600@citystarbrewing.com
SUMMARY:Summit Tacos
DESCRIPTION:Summit Tacos proudly serves authentic Mexican food and they love to share our passion for our food and our culture. Visit at 237 Collyer Street in Longmont and select food truck pop-ups. \nhttps://eatsummittacos.com
URL:https://citystarbrewing.com/event/summit-tacos/2022-04-02/
LOCATION:321 Mountain Avenue\, Berthoud\, CO\, 80513\, United States
CATEGORIES:Events,Food Trucks
ATTACH;FMTTYPE=image/png:https://citystarbrewing.com/wp-content/uploads/2017/05/summittacos.png
END:VEVENT
BEGIN:VEVENT
DTSTART;TZID=America/Denver:20220403T170000
DTEND;TZID=America/Denver:20220403T200000
DTSTAMP:20260421T154506
CREATED:20190731T212720Z
LAST-MODIFIED:20191014T194901Z
UID:10001186-1649005200-1649016000@citystarbrewing.com
SUMMARY:Summit Tacos
DESCRIPTION:Summit Tacos proudly serves authentic Mexican food and they love to share our passion for our food and our culture. Visit at 237 Collyer Street in Longmont and select food truck pop-ups. \nhttps://eatsummittacos.com
URL:https://citystarbrewing.com/event/summit-tacos/2022-04-03/
LOCATION:321 Mountain Avenue\, Berthoud\, CO\, 80513\, United States
CATEGORIES:Events,Food Trucks
ATTACH;FMTTYPE=image/png:https://citystarbrewing.com/wp-content/uploads/2017/05/summittacos.png
END:VEVENT
BEGIN:VEVENT
DTSTART;TZID=America/Denver:20220404T170000
DTEND;TZID=America/Denver:20220404T200000
DTSTAMP:20260421T154506
CREATED:20190731T212720Z
LAST-MODIFIED:20191014T194901Z
UID:10001187-1649091600-1649102400@citystarbrewing.com
SUMMARY:Summit Tacos
DESCRIPTION:Summit Tacos proudly serves authentic Mexican food and they love to share our passion for our food and our culture. Visit at 237 Collyer Street in Longmont and select food truck pop-ups. \nhttps://eatsummittacos.com
URL:https://citystarbrewing.com/event/summit-tacos/2022-04-04/
LOCATION:321 Mountain Avenue\, Berthoud\, CO\, 80513\, United States
CATEGORIES:Events,Food Trucks
ATTACH;FMTTYPE=image/png:https://citystarbrewing.com/wp-content/uploads/2017/05/summittacos.png
END:VEVENT
BEGIN:VEVENT
DTSTART;TZID=America/Denver:20220405T160000
DTEND;TZID=America/Denver:20220405T200000
DTSTAMP:20260421T154506
CREATED:20200711T213851Z
LAST-MODIFIED:20230123T152358Z
UID:10001471-1649174400-1649188800@citystarbrewing.com
SUMMARY:Dill's Maine Lobster Shack
DESCRIPTION:Maine native Ryan Dill and wife Liz bring you: Dill’s Maine Lobster Shack\, a Food Trailer in Northern Colorado focusing on authentic Maine Lobster & Crab Rolls. Looking forward to bringing a bit of New England to Colorado. \nAll seafood is flown in overnight\, fresh from the coast of Maine! Wicked Good!!!! \nMENU \n$20 Full Lobster Roll Plate – 4oz Lobster Roll\, Coleslaw\, Pickle Spear\, Chips \n$16 1/2 Lobster Roll Plate – 2oz Lobster Roll\, Coleslaw\, Pickle Spear\, Chips \n$20 Crab Plate Roll – 4oz Crab Roll\, Coleslaw\, Pickle Spear\, Chips \n$5 Hot Dog Plate – Hot Dog\, Pickle Spear\, Chips
URL:https://citystarbrewing.com/event/dills-maine-lobster-shack/2022-04-05/
LOCATION:CO
CATEGORIES:Events,Food Trucks
ATTACH;FMTTYPE=image/jpeg:https://citystarbrewing.com/wp-content/uploads/2020/07/dills-maine-1.jpg
END:VEVENT
BEGIN:VEVENT
DTSTART;TZID=America/Denver:20220405T170000
DTEND;TZID=America/Denver:20220405T200000
DTSTAMP:20260421T154506
CREATED:20190731T212720Z
LAST-MODIFIED:20191014T194901Z
UID:10001188-1649178000-1649188800@citystarbrewing.com
SUMMARY:Summit Tacos
DESCRIPTION:Summit Tacos proudly serves authentic Mexican food and they love to share our passion for our food and our culture. Visit at 237 Collyer Street in Longmont and select food truck pop-ups. \nhttps://eatsummittacos.com
URL:https://citystarbrewing.com/event/summit-tacos/2022-04-05/
LOCATION:321 Mountain Avenue\, Berthoud\, CO\, 80513\, United States
CATEGORIES:Events,Food Trucks
ATTACH;FMTTYPE=image/png:https://citystarbrewing.com/wp-content/uploads/2017/05/summittacos.png
END:VEVENT
BEGIN:VEVENT
DTSTART;TZID=America/Denver:20220406T150000
DTEND;TZID=America/Denver:20220406T200000
DTSTAMP:20260421T154506
CREATED:20200716T163243Z
LAST-MODIFIED:20220405T015005Z
UID:10001490-1649257200-1649275200@citystarbrewing.com
SUMMARY:Colorado Pint Day
DESCRIPTION:Raise a pint in support of Colorado beer! $1 from each limited edition glass goes to Colorado Brewers Guild which is instrumental in keeping breweries operational. \nGlass sales launch online the morning of Colorado Pint Day\, Wednesday 4/7. $8 glass + first beer. Take your glass ‘to-go’ by picking up from citystarpickup.com and we’ll include a ‘free beer’ nickel inside.
URL:https://citystarbrewing.com/event/colorado-pint-day/
LOCATION:city star brewing\, 321 Mountain Avenue\, Berthoud\, CO\, 80513\, United States
CATEGORIES:Events,Taproom Events
ATTACH;FMTTYPE=image/png:https://citystarbrewing.com/wp-content/uploads/2020/07/CBG_Colorado-Pint-Day-2022-Social-Graphics_Cover-Photo.png
END:VEVENT
BEGIN:VEVENT
DTSTART;TZID=America/Denver:20220406T170000
DTEND;TZID=America/Denver:20220406T200000
DTSTAMP:20260421T154506
CREATED:20190731T212720Z
LAST-MODIFIED:20191014T194901Z
UID:10001189-1649264400-1649275200@citystarbrewing.com
SUMMARY:Summit Tacos
DESCRIPTION:Summit Tacos proudly serves authentic Mexican food and they love to share our passion for our food and our culture. Visit at 237 Collyer Street in Longmont and select food truck pop-ups. \nhttps://eatsummittacos.com
URL:https://citystarbrewing.com/event/summit-tacos/2022-04-06/
LOCATION:321 Mountain Avenue\, Berthoud\, CO\, 80513\, United States
CATEGORIES:Events,Food Trucks
ATTACH;FMTTYPE=image/png:https://citystarbrewing.com/wp-content/uploads/2017/05/summittacos.png
END:VEVENT
BEGIN:VEVENT
DTSTART;TZID=America/Denver:20220407T170000
DTEND;TZID=America/Denver:20220407T200000
DTSTAMP:20260421T154506
CREATED:20190731T212720Z
LAST-MODIFIED:20191014T194901Z
UID:10001190-1649350800-1649361600@citystarbrewing.com
SUMMARY:Summit Tacos
DESCRIPTION:Summit Tacos proudly serves authentic Mexican food and they love to share our passion for our food and our culture. Visit at 237 Collyer Street in Longmont and select food truck pop-ups. \nhttps://eatsummittacos.com
URL:https://citystarbrewing.com/event/summit-tacos/2022-04-07/
LOCATION:321 Mountain Avenue\, Berthoud\, CO\, 80513\, United States
CATEGORIES:Events,Food Trucks
ATTACH;FMTTYPE=image/png:https://citystarbrewing.com/wp-content/uploads/2017/05/summittacos.png
END:VEVENT
BEGIN:VEVENT
DTSTART;TZID=America/Denver:20220408T150000
DTEND;TZID=America/Denver:20220408T210000
DTSTAMP:20260421T154506
CREATED:20220328T161925Z
LAST-MODIFIED:20220328T161925Z
UID:10001838-1649430000-1649451600@citystarbrewing.com
SUMMARY:Amarillo By Morning
DESCRIPTION:Hazy IPA brewed with Amarillo hops. \nAvailable on draft and in 16oz. cans to-go.
URL:https://citystarbrewing.com/event/amarillo-by-morning/
LOCATION:CO
CATEGORIES:Beer Releases,Events
ATTACH;FMTTYPE=image/jpeg:https://citystarbrewing.com/wp-content/uploads/2022/03/AmarilloByMorningWeb.jpg
END:VEVENT
BEGIN:VEVENT
DTSTART;TZID=America/Denver:20220408T170000
DTEND;TZID=America/Denver:20220408T200000
DTSTAMP:20260421T154506
CREATED:20190731T212720Z
LAST-MODIFIED:20191014T194901Z
UID:10001191-1649437200-1649448000@citystarbrewing.com
SUMMARY:Summit Tacos
DESCRIPTION:Summit Tacos proudly serves authentic Mexican food and they love to share our passion for our food and our culture. Visit at 237 Collyer Street in Longmont and select food truck pop-ups. \nhttps://eatsummittacos.com
URL:https://citystarbrewing.com/event/summit-tacos/2022-04-08/
LOCATION:321 Mountain Avenue\, Berthoud\, CO\, 80513\, United States
CATEGORIES:Events,Food Trucks
ATTACH;FMTTYPE=image/png:https://citystarbrewing.com/wp-content/uploads/2017/05/summittacos.png
END:VEVENT
BEGIN:VEVENT
DTSTART;TZID=America/Denver:20220409T120000
DTEND;TZID=America/Denver:20220409T200000
DTSTAMP:20260421T154506
CREATED:20191108T154304Z
LAST-MODIFIED:20220726T214300Z
UID:10001372-1649505600-1649534400@citystarbrewing.com
SUMMARY:Cilantro & Lime
DESCRIPTION:Serving up the freshest soups\, salads\, wraps and bowls near you!\nhttps://www.cilantroandlime.com/ \nSAMPLE MENU (subject to change and availability)\nBowls (served over your choice of white or brown rice\, or mixed greens): \n​Peanut Chicken Bowl\nseasoned chicken breast\, baby spinach\, roasted sweet potatoes and onions\, avocado\, peanut sauce\, sesame seeds \nHawaiian BBQ (gf)\ngrilled chicken or tofu\, sautéed zucchini and peppers\, fresh pineapple\, red onion\, bbq sauce\, green onions and cilantro \nTeriyaki Turkey\nground turkey\, carrots and finely chopped broccoli in a sweet and salty teriyaki sauce\, topped with green onions and toasted sesame seeds \nCalifornia Roll (gf)\nimitation crab\, cucumber\, avocado\, and shredded carrots\, pickled ginger and toasted sesame seeds \nSignature Soups\nBlack Bean (v\, gf)\ncreamy black bean soup topped with fresh tomatoes\, cilantro\, green onions \nand cotija cheese\noptional add-ons: andouille sausage\, fresh avocado \nThai coconut w/ shrimp (gf)\nred curry and coconut milk with rice\, onions\, peppers\, lime and cilantro \nHot & Sour (v)\ntofu\, portabella mushrooms\, carrots\, bamboo shoots and egg in a tangy broth topped with green onions \nPosole\npork and hominy simmered in a tomato-based broth\, served with shredded cheese\, fresh cabbage\, cilantro and lime \nSalads\nThai quinoa (gf)\nquinoa\, cabbage\, carrot\, red bell pepper\, cucumber\, edamame and green onions with a sweet\, ginger-lime dressing\, topped with cilantro and peanuts \nMexican corn (v\, gf)\nroasted corn\, avocado\, bell pepper and red onion with lime and cotija cheese \nSpecials\nPork Banh Mi Wrap\nmarinated pork loin\, pickled vegetables\, cucumber\, mayo\, cilantro\, mint and lime wrapped in a flour tortilla \nChicken Mole Tacos (gf)\ndiced chicken thighs marinated in a rich\, spicy mole sauce\, topped with cilantro and onion in corn tortillas \nSteak and Kimchi Bowl \nKorean grilled steak\, shredded carrots\, house-made kimchi\, avocado\, pico de gallo\, green onions\, gochujang aioli \nKids’ Quesadilla (v)\nkeepin’ it simple with just a tortilla and melted cheese. Try it with a cup of soup or small salad!
URL:https://citystarbrewing.com/event/cilantro-lime/2022-04-09/
LOCATION:CO
CATEGORIES:Events,Food Trucks
ATTACH;FMTTYPE=image/jpeg:https://citystarbrewing.com/wp-content/uploads/2019/11/cilantroLimeLOGO@4x-100-e1573228721473.jpg
END:VEVENT
BEGIN:VEVENT
DTSTART;TZID=America/Denver:20220409T170000
DTEND;TZID=America/Denver:20220409T200000
DTSTAMP:20260421T154506
CREATED:20190731T212720Z
LAST-MODIFIED:20191014T194901Z
UID:10001192-1649523600-1649534400@citystarbrewing.com
SUMMARY:Summit Tacos
DESCRIPTION:Summit Tacos proudly serves authentic Mexican food and they love to share our passion for our food and our culture. Visit at 237 Collyer Street in Longmont and select food truck pop-ups. \nhttps://eatsummittacos.com
URL:https://citystarbrewing.com/event/summit-tacos/2022-04-09/
LOCATION:321 Mountain Avenue\, Berthoud\, CO\, 80513\, United States
CATEGORIES:Events,Food Trucks
ATTACH;FMTTYPE=image/png:https://citystarbrewing.com/wp-content/uploads/2017/05/summittacos.png
END:VEVENT
BEGIN:VEVENT
DTSTART;TZID=America/Denver:20220409T180000
DTEND;TZID=America/Denver:20220409T203000
DTSTAMP:20260421T154506
CREATED:20210617T012329Z
LAST-MODIFIED:20220228T182359Z
UID:10001690-1649527200-1649536200@citystarbrewing.com
SUMMARY:West Side Joe
DESCRIPTION:Loose\, funky grooves and smooth vocals. Incendiary guitar playing and lyrics that you can’t forget. Raised in Memphis\, TN\, Joe now does his thing based out out of Ft. Collins\, Colorado. He earned his recording and performing credentials with Memphis’ Blues Rock Queen Reba Russell. After playing with Reba for five years\, Joe took on the challenge of starting his own group\, Minivan\, which became a staple of the Memphis roots rock scene. He also took gigs with Memphis blues artists Earl the Pearl\, Billy Gibson\, and Big Joe Turner (bassist for Albert and B.B. King). Joe has shared stages with Charlie Hunter\, Tower of Power\, and James Cotton. It’s mostly blues\, R&B\, rock & roll\, soul\, and funk – the brilliant creations of African-American artists which most modern popular music is based on today. This is what inspires West Side Joe & The Men of Soul to write their material.  \nhttps://westsidejoeandthemenofsoul.com/about \n 
URL:https://citystarbrewing.com/event/west-side-joe/
LOCATION:CO
CATEGORIES:Events,Live Music
ATTACH;FMTTYPE=image/jpeg:https://citystarbrewing.com/wp-content/uploads/2021/06/Joe-Schicke-1.jpg
END:VEVENT
BEGIN:VEVENT
DTSTART;TZID=America/Denver:20220410T170000
DTEND;TZID=America/Denver:20220410T200000
DTSTAMP:20260421T154506
CREATED:20190731T212720Z
LAST-MODIFIED:20191014T194901Z
UID:10001193-1649610000-1649620800@citystarbrewing.com
SUMMARY:Summit Tacos
DESCRIPTION:Summit Tacos proudly serves authentic Mexican food and they love to share our passion for our food and our culture. Visit at 237 Collyer Street in Longmont and select food truck pop-ups. \nhttps://eatsummittacos.com
URL:https://citystarbrewing.com/event/summit-tacos/2022-04-10/
LOCATION:321 Mountain Avenue\, Berthoud\, CO\, 80513\, United States
CATEGORIES:Events,Food Trucks
ATTACH;FMTTYPE=image/png:https://citystarbrewing.com/wp-content/uploads/2017/05/summittacos.png
END:VEVENT
BEGIN:VEVENT
DTSTART;TZID=America/Denver:20220411T170000
DTEND;TZID=America/Denver:20220411T200000
DTSTAMP:20260421T154506
CREATED:20190731T212720Z
LAST-MODIFIED:20191014T194901Z
UID:10001194-1649696400-1649707200@citystarbrewing.com
SUMMARY:Summit Tacos
DESCRIPTION:Summit Tacos proudly serves authentic Mexican food and they love to share our passion for our food and our culture. Visit at 237 Collyer Street in Longmont and select food truck pop-ups. \nhttps://eatsummittacos.com
URL:https://citystarbrewing.com/event/summit-tacos/2022-04-11/
LOCATION:321 Mountain Avenue\, Berthoud\, CO\, 80513\, United States
CATEGORIES:Events,Food Trucks
ATTACH;FMTTYPE=image/png:https://citystarbrewing.com/wp-content/uploads/2017/05/summittacos.png
END:VEVENT
BEGIN:VEVENT
DTSTART;TZID=America/Denver:20220412T170000
DTEND;TZID=America/Denver:20220412T200000
DTSTAMP:20260421T154506
CREATED:20190731T212720Z
LAST-MODIFIED:20191014T194901Z
UID:10001195-1649782800-1649793600@citystarbrewing.com
SUMMARY:Summit Tacos
DESCRIPTION:Summit Tacos proudly serves authentic Mexican food and they love to share our passion for our food and our culture. Visit at 237 Collyer Street in Longmont and select food truck pop-ups. \nhttps://eatsummittacos.com
URL:https://citystarbrewing.com/event/summit-tacos/2022-04-12/
LOCATION:321 Mountain Avenue\, Berthoud\, CO\, 80513\, United States
CATEGORIES:Events,Food Trucks
ATTACH;FMTTYPE=image/png:https://citystarbrewing.com/wp-content/uploads/2017/05/summittacos.png
END:VEVENT
BEGIN:VEVENT
DTSTART;TZID=America/Denver:20220413T170000
DTEND;TZID=America/Denver:20220413T200000
DTSTAMP:20260421T154506
CREATED:20190731T212720Z
LAST-MODIFIED:20191014T194901Z
UID:10001196-1649869200-1649880000@citystarbrewing.com
SUMMARY:Summit Tacos
DESCRIPTION:Summit Tacos proudly serves authentic Mexican food and they love to share our passion for our food and our culture. Visit at 237 Collyer Street in Longmont and select food truck pop-ups. \nhttps://eatsummittacos.com
URL:https://citystarbrewing.com/event/summit-tacos/2022-04-13/
LOCATION:321 Mountain Avenue\, Berthoud\, CO\, 80513\, United States
CATEGORIES:Events,Food Trucks
ATTACH;FMTTYPE=image/png:https://citystarbrewing.com/wp-content/uploads/2017/05/summittacos.png
END:VEVENT
BEGIN:VEVENT
DTSTART;TZID=America/Denver:20220414T160000
DTEND;TZID=America/Denver:20220414T200000
DTSTAMP:20260421T154506
CREATED:20200813T162516Z
LAST-MODIFIED:20220522T171440Z
UID:10001498-1649952000-1649966400@citystarbrewing.com
SUMMARY:Georgia Boys BBQ
DESCRIPTION:Come get some true Southern BBQ from our Georgia Boys BBQ Outpost food truck! We’re slingin’ our homemade grub all over Northern Colorado…get here early while the gettin’s good\, as we do sell out.
URL:https://citystarbrewing.com/event/georgia-boys-bbq/2022-04-14/
LOCATION:CO
CATEGORIES:Events,Food Trucks
ATTACH;FMTTYPE=image/png:https://citystarbrewing.com/wp-content/uploads/2020/08/GeorgiaBoys.png
END:VEVENT
BEGIN:VEVENT
DTSTART;TZID=America/Denver:20220414T170000
DTEND;TZID=America/Denver:20220414T200000
DTSTAMP:20260421T154506
CREATED:20190731T212720Z
LAST-MODIFIED:20191014T194901Z
UID:10001197-1649955600-1649966400@citystarbrewing.com
SUMMARY:Summit Tacos
DESCRIPTION:Summit Tacos proudly serves authentic Mexican food and they love to share our passion for our food and our culture. Visit at 237 Collyer Street in Longmont and select food truck pop-ups. \nhttps://eatsummittacos.com
URL:https://citystarbrewing.com/event/summit-tacos/2022-04-14/
LOCATION:321 Mountain Avenue\, Berthoud\, CO\, 80513\, United States
CATEGORIES:Events,Food Trucks
ATTACH;FMTTYPE=image/png:https://citystarbrewing.com/wp-content/uploads/2017/05/summittacos.png
END:VEVENT
BEGIN:VEVENT
DTSTART;TZID=America/Denver:20220415T150000
DTEND;TZID=America/Denver:20220415T210000
DTSTAMP:20260421T154506
CREATED:20190217T222317Z
LAST-MODIFIED:20220410T232809Z
UID:10000190-1650034800-1650056400@citystarbrewing.com
SUMMARY:Beer Release: Dead or Alive
DESCRIPTION:This outlaw of an imperial IPA was brewed with Centennial\, Mosaic and Sabro hops\, and then dry hopped with classic Centennial hops. Dead or Alive’s hop bill imparts extreme hop bitterness with vibrant citrus and aromatic pine flavors. The malt backbone lends this beer an amber hue and nicely balances the onslaught of hops. Available on draft and in 16oz cans to-go.Food Truck: Ting’s Things\nLive Music: Mountain Duo 6-8:30pm
URL:https://citystarbrewing.com/event/beer-release-dead-or-alive/
LOCATION:CO
CATEGORIES:Beer Releases,Events
ATTACH;FMTTYPE=image/png:https://citystarbrewing.com/wp-content/uploads/2019/02/Dead-or-Alive.png
END:VEVENT
BEGIN:VEVENT
DTSTART;TZID=America/Denver:20220415T170000
DTEND;TZID=America/Denver:20220415T200000
DTSTAMP:20260421T154506
CREATED:20190731T212720Z
LAST-MODIFIED:20191014T194901Z
UID:10001198-1650042000-1650052800@citystarbrewing.com
SUMMARY:Summit Tacos
DESCRIPTION:Summit Tacos proudly serves authentic Mexican food and they love to share our passion for our food and our culture. Visit at 237 Collyer Street in Longmont and select food truck pop-ups. \nhttps://eatsummittacos.com
URL:https://citystarbrewing.com/event/summit-tacos/2022-04-15/
LOCATION:321 Mountain Avenue\, Berthoud\, CO\, 80513\, United States
CATEGORIES:Events,Food Trucks
ATTACH;FMTTYPE=image/png:https://citystarbrewing.com/wp-content/uploads/2017/05/summittacos.png
END:VEVENT
BEGIN:VEVENT
DTSTART;TZID=America/Denver:20220416T170000
DTEND;TZID=America/Denver:20220416T200000
DTSTAMP:20260421T154506
CREATED:20190731T212720Z
LAST-MODIFIED:20191014T194901Z
UID:10001199-1650128400-1650139200@citystarbrewing.com
SUMMARY:Summit Tacos
DESCRIPTION:Summit Tacos proudly serves authentic Mexican food and they love to share our passion for our food and our culture. Visit at 237 Collyer Street in Longmont and select food truck pop-ups. \nhttps://eatsummittacos.com
URL:https://citystarbrewing.com/event/summit-tacos/2022-04-16/
LOCATION:321 Mountain Avenue\, Berthoud\, CO\, 80513\, United States
CATEGORIES:Events,Food Trucks
ATTACH;FMTTYPE=image/png:https://citystarbrewing.com/wp-content/uploads/2017/05/summittacos.png
END:VEVENT
BEGIN:VEVENT
DTSTART;TZID=America/Denver:20220417T170000
DTEND;TZID=America/Denver:20220417T200000
DTSTAMP:20260421T154506
CREATED:20190731T212720Z
LAST-MODIFIED:20191014T194901Z
UID:10001200-1650214800-1650225600@citystarbrewing.com
SUMMARY:Summit Tacos
DESCRIPTION:Summit Tacos proudly serves authentic Mexican food and they love to share our passion for our food and our culture. Visit at 237 Collyer Street in Longmont and select food truck pop-ups. \nhttps://eatsummittacos.com
URL:https://citystarbrewing.com/event/summit-tacos/2022-04-17/
LOCATION:321 Mountain Avenue\, Berthoud\, CO\, 80513\, United States
CATEGORIES:Events,Food Trucks
ATTACH;FMTTYPE=image/png:https://citystarbrewing.com/wp-content/uploads/2017/05/summittacos.png
END:VEVENT
BEGIN:VEVENT
DTSTART;TZID=America/Denver:20220418T170000
DTEND;TZID=America/Denver:20220418T200000
DTSTAMP:20260421T154506
CREATED:20190731T212720Z
LAST-MODIFIED:20191014T194901Z
UID:10001201-1650301200-1650312000@citystarbrewing.com
SUMMARY:Summit Tacos
DESCRIPTION:Summit Tacos proudly serves authentic Mexican food and they love to share our passion for our food and our culture. Visit at 237 Collyer Street in Longmont and select food truck pop-ups. \nhttps://eatsummittacos.com
URL:https://citystarbrewing.com/event/summit-tacos/2022-04-18/
LOCATION:321 Mountain Avenue\, Berthoud\, CO\, 80513\, United States
CATEGORIES:Events,Food Trucks
ATTACH;FMTTYPE=image/png:https://citystarbrewing.com/wp-content/uploads/2017/05/summittacos.png
END:VEVENT
BEGIN:VEVENT
DTSTART;TZID=America/Denver:20220419T160000
DTEND;TZID=America/Denver:20220419T200000
DTSTAMP:20260421T154506
CREATED:20200711T213851Z
LAST-MODIFIED:20230123T152358Z
UID:10001472-1650384000-1650398400@citystarbrewing.com
SUMMARY:Dill's Maine Lobster Shack
DESCRIPTION:Maine native Ryan Dill and wife Liz bring you: Dill’s Maine Lobster Shack\, a Food Trailer in Northern Colorado focusing on authentic Maine Lobster & Crab Rolls. Looking forward to bringing a bit of New England to Colorado. \nAll seafood is flown in overnight\, fresh from the coast of Maine! Wicked Good!!!! \nMENU \n$20 Full Lobster Roll Plate – 4oz Lobster Roll\, Coleslaw\, Pickle Spear\, Chips \n$16 1/2 Lobster Roll Plate – 2oz Lobster Roll\, Coleslaw\, Pickle Spear\, Chips \n$20 Crab Plate Roll – 4oz Crab Roll\, Coleslaw\, Pickle Spear\, Chips \n$5 Hot Dog Plate – Hot Dog\, Pickle Spear\, Chips
URL:https://citystarbrewing.com/event/dills-maine-lobster-shack/2022-04-19/
LOCATION:CO
CATEGORIES:Events,Food Trucks
ATTACH;FMTTYPE=image/jpeg:https://citystarbrewing.com/wp-content/uploads/2020/07/dills-maine-1.jpg
END:VEVENT
BEGIN:VEVENT
DTSTART;TZID=America/Denver:20220419T170000
DTEND;TZID=America/Denver:20220419T200000
DTSTAMP:20260421T154506
CREATED:20190731T212720Z
LAST-MODIFIED:20191014T194901Z
UID:10001202-1650387600-1650398400@citystarbrewing.com
SUMMARY:Summit Tacos
DESCRIPTION:Summit Tacos proudly serves authentic Mexican food and they love to share our passion for our food and our culture. Visit at 237 Collyer Street in Longmont and select food truck pop-ups. \nhttps://eatsummittacos.com
URL:https://citystarbrewing.com/event/summit-tacos/2022-04-19/
LOCATION:321 Mountain Avenue\, Berthoud\, CO\, 80513\, United States
CATEGORIES:Events,Food Trucks
ATTACH;FMTTYPE=image/png:https://citystarbrewing.com/wp-content/uploads/2017/05/summittacos.png
END:VEVENT
BEGIN:VEVENT
DTSTART;TZID=America/Denver:20220420T170000
DTEND;TZID=America/Denver:20220420T200000
DTSTAMP:20260421T154506
CREATED:20190731T212720Z
LAST-MODIFIED:20191014T194901Z
UID:10001203-1650474000-1650484800@citystarbrewing.com
SUMMARY:Summit Tacos
DESCRIPTION:Summit Tacos proudly serves authentic Mexican food and they love to share our passion for our food and our culture. Visit at 237 Collyer Street in Longmont and select food truck pop-ups. \nhttps://eatsummittacos.com
URL:https://citystarbrewing.com/event/summit-tacos/2022-04-20/
LOCATION:321 Mountain Avenue\, Berthoud\, CO\, 80513\, United States
CATEGORIES:Events,Food Trucks
ATTACH;FMTTYPE=image/png:https://citystarbrewing.com/wp-content/uploads/2017/05/summittacos.png
END:VEVENT
END:VCALENDAR