BEGIN:VCALENDAR
VERSION:2.0
PRODID:-//City Star Brewing - ECPv6.15.20//NONSGML v1.0//EN
CALSCALE:GREGORIAN
METHOD:PUBLISH
X-WR-CALNAME:City Star Brewing
X-ORIGINAL-URL:https://citystarbrewing.com
X-WR-CALDESC:Events for City Star Brewing
REFRESH-INTERVAL;VALUE=DURATION:PT1H
X-Robots-Tag:noindex
X-PUBLISHED-TTL:PT1H
BEGIN:VTIMEZONE
TZID:America/Denver
BEGIN:DAYLIGHT
TZOFFSETFROM:-0700
TZOFFSETTO:-0600
TZNAME:MDT
DTSTART:20210314T090000
END:DAYLIGHT
BEGIN:STANDARD
TZOFFSETFROM:-0600
TZOFFSETTO:-0700
TZNAME:MST
DTSTART:20211107T080000
END:STANDARD
BEGIN:DAYLIGHT
TZOFFSETFROM:-0700
TZOFFSETTO:-0600
TZNAME:MDT
DTSTART:20220313T090000
END:DAYLIGHT
BEGIN:STANDARD
TZOFFSETFROM:-0600
TZOFFSETTO:-0700
TZNAME:MST
DTSTART:20221106T080000
END:STANDARD
BEGIN:DAYLIGHT
TZOFFSETFROM:-0700
TZOFFSETTO:-0600
TZNAME:MDT
DTSTART:20230312T090000
END:DAYLIGHT
BEGIN:STANDARD
TZOFFSETFROM:-0600
TZOFFSETTO:-0700
TZNAME:MST
DTSTART:20231105T080000
END:STANDARD
END:VTIMEZONE
BEGIN:VEVENT
DTSTART;TZID=America/Denver:20220301T170000
DTEND;TZID=America/Denver:20220301T200000
DTSTAMP:20260421T173922
CREATED:20190731T212720Z
LAST-MODIFIED:20191014T194901Z
UID:10001154-1646154000-1646164800@citystarbrewing.com
SUMMARY:Summit Tacos
DESCRIPTION:Summit Tacos proudly serves authentic Mexican food and they love to share our passion for our food and our culture. Visit at 237 Collyer Street in Longmont and select food truck pop-ups. \nhttps://eatsummittacos.com
URL:https://citystarbrewing.com/event/summit-tacos/2022-03-01/
LOCATION:321 Mountain Avenue\, Berthoud\, CO\, 80513\, United States
CATEGORIES:Events,Food Trucks
ATTACH;FMTTYPE=image/png:https://citystarbrewing.com/wp-content/uploads/2017/05/summittacos.png
END:VEVENT
BEGIN:VEVENT
DTSTART;TZID=America/Denver:20220302T170000
DTEND;TZID=America/Denver:20220302T200000
DTSTAMP:20260421T173922
CREATED:20190731T212720Z
LAST-MODIFIED:20191014T194901Z
UID:10001155-1646240400-1646251200@citystarbrewing.com
SUMMARY:Summit Tacos
DESCRIPTION:Summit Tacos proudly serves authentic Mexican food and they love to share our passion for our food and our culture. Visit at 237 Collyer Street in Longmont and select food truck pop-ups. \nhttps://eatsummittacos.com
URL:https://citystarbrewing.com/event/summit-tacos/2022-03-02/
LOCATION:321 Mountain Avenue\, Berthoud\, CO\, 80513\, United States
CATEGORIES:Events,Food Trucks
ATTACH;FMTTYPE=image/png:https://citystarbrewing.com/wp-content/uploads/2017/05/summittacos.png
END:VEVENT
BEGIN:VEVENT
DTSTART;TZID=America/Denver:20220303T160000
DTEND;TZID=America/Denver:20220303T200000
DTSTAMP:20260421T173922
CREATED:20210503T202906Z
LAST-MODIFIED:20260318T171335Z
UID:10001648-1646323200-1646337600@citystarbrewing.com
SUMMARY:Stick Around Skewers
DESCRIPTION:FLAME FINISHED STICKS & SKEWERS \nStick Around is a locally owned and operated Food Truck based in Boulder\, Colorado. Focusing on the worlds most traditional form of BBQ\, Skewers & kebabs! Stick Around brings something to the table for everybody. Take a look at our menu to see if you can find something that fits your style! \nMENU: https://www.stickaroundskewers.com/menu
URL:https://citystarbrewing.com/event/stick-around-skewers/2022-03-03/
CATEGORIES:Events,Food Trucks
ATTACH;FMTTYPE=image/jpeg:https://citystarbrewing.com/wp-content/uploads/2021/05/stickaround.jpg
END:VEVENT
BEGIN:VEVENT
DTSTART;TZID=America/Denver:20220303T170000
DTEND;TZID=America/Denver:20220303T200000
DTSTAMP:20260421T173922
CREATED:20190731T212720Z
LAST-MODIFIED:20191014T194901Z
UID:10001156-1646326800-1646337600@citystarbrewing.com
SUMMARY:Summit Tacos
DESCRIPTION:Summit Tacos proudly serves authentic Mexican food and they love to share our passion for our food and our culture. Visit at 237 Collyer Street in Longmont and select food truck pop-ups. \nhttps://eatsummittacos.com
URL:https://citystarbrewing.com/event/summit-tacos/2022-03-03/
LOCATION:321 Mountain Avenue\, Berthoud\, CO\, 80513\, United States
CATEGORIES:Events,Food Trucks
ATTACH;FMTTYPE=image/png:https://citystarbrewing.com/wp-content/uploads/2017/05/summittacos.png
END:VEVENT
BEGIN:VEVENT
DTSTART;TZID=America/Denver:20220304T160000
DTEND;TZID=America/Denver:20220304T200000
DTSTAMP:20260421T173922
CREATED:20211018T193659Z
LAST-MODIFIED:20221007T215743Z
UID:10001750-1646409600-1646424000@citystarbrewing.com
SUMMARY:Ting's Things
DESCRIPTION:Ting’s Things Food Truck Menu\nHappiness in a meal…\nBelow are our mainstays & seasonal offerings… We make all of our pastas by hand\, source our ingredients locally and cook with a passion that would make your nonna very proud. \nMAKE IT SAUCEY… All of our pastas are made with fresh pasta\, never dried! We make our pasta fresh each week. 80-90% of our ingredients are sourced from local farms\, ranches and bakeries! Our menu changes seasonally and sometimes features weekly specials. Keep an eye out! ENJOY 🙂  \nSeasonal Lasagna \nCheck out our truck to see what lasagna we’re featuring this week! \nSpicy Tomato Cream Sauce \nfresh lumache noodles tossed in house spicy tomato cream sauce topped with whipped ricotta \nThree Cheese Pasta  \nfresh gnocchetti noodles tossed in a blend of pecorino romano\, parmesan and gruyere cheeses \n– add crispy guanciale (Italian cured pork) to any of your pastas 🙂 \nBeef *GF* Meatballs \nA side of 5 local beef meatballs in our house marinara always made gluten free! \nChicken Parmesan & Noodles \nBreaded Chicken Cutlets topped with house marinara\, mozzarella\, parmesan served with a side of fresh pasta noodles \nChicken Parmesan Sando \nBreaded Chicken Cutlets topped with house marinara\, mozzarella\, parmesan served on a garlic focaccia bun & a side of chips \nItalian Sub Panini \nSliced salami\, pepperoni and provolone cheese with roasted red peppers\, peperoncino peppers\, hot pepper spread and mayo pressed in our panini press & a side of chips \nSun-dried Tomato & Pesto Panini \nBasil pesto\, provolone cheese and sun-dried tomato panini with a side of chips \nGarlic Bread \nA side of garlic bread or add to any dish for an additional charge! \nDelicious Desserts & Extras:  Confetti Cookies\, A new local\, small business\, Confetti Cookies\, making the best sugar and snickerdoodle cookies in Colorado! Stay tuned for their brownies that will be featured on the truck too 🙂
URL:https://citystarbrewing.com/event/tings-things/2022-03-04/
LOCATION:CO
CATEGORIES:Events,Food Trucks
ATTACH;FMTTYPE=image/jpeg:https://citystarbrewing.com/wp-content/uploads/2021/10/tingsthings-e1634589386725.jpg
END:VEVENT
BEGIN:VEVENT
DTSTART;TZID=America/Denver:20220304T170000
DTEND;TZID=America/Denver:20220304T200000
DTSTAMP:20260421T173922
CREATED:20190731T212720Z
LAST-MODIFIED:20191014T194901Z
UID:10001157-1646413200-1646424000@citystarbrewing.com
SUMMARY:Summit Tacos
DESCRIPTION:Summit Tacos proudly serves authentic Mexican food and they love to share our passion for our food and our culture. Visit at 237 Collyer Street in Longmont and select food truck pop-ups. \nhttps://eatsummittacos.com
URL:https://citystarbrewing.com/event/summit-tacos/2022-03-04/
LOCATION:321 Mountain Avenue\, Berthoud\, CO\, 80513\, United States
CATEGORIES:Events,Food Trucks
ATTACH;FMTTYPE=image/png:https://citystarbrewing.com/wp-content/uploads/2017/05/summittacos.png
END:VEVENT
BEGIN:VEVENT
DTSTART;TZID=America/Denver:20220305T120000
DTEND;TZID=America/Denver:20220305T200000
DTSTAMP:20260421T173922
CREATED:20220113T005446Z
LAST-MODIFIED:20240710T180051Z
UID:10001798-1646481600-1646510400@citystarbrewing.com
SUMMARY:Georgia Boys BBQ
DESCRIPTION:Come get some true Southern BBQ from our Georgia Boys BBQ Outpost food truck! We’re slingin’ our homemade grub all over Northern Colorado…get here early while the gettin’s good\, as we do sell out.
URL:https://citystarbrewing.com/event/georgia-boys-bbq-2/2022-03-05/
CATEGORIES:Events,Food Trucks
ATTACH;FMTTYPE=image/png:https://citystarbrewing.com/wp-content/uploads/2020/08/GeorgiaBoys.png
END:VEVENT
BEGIN:VEVENT
DTSTART;TZID=America/Denver:20220305T170000
DTEND;TZID=America/Denver:20220305T200000
DTSTAMP:20260421T173922
CREATED:20190731T212720Z
LAST-MODIFIED:20191014T194901Z
UID:10001158-1646499600-1646510400@citystarbrewing.com
SUMMARY:Summit Tacos
DESCRIPTION:Summit Tacos proudly serves authentic Mexican food and they love to share our passion for our food and our culture. Visit at 237 Collyer Street in Longmont and select food truck pop-ups. \nhttps://eatsummittacos.com
URL:https://citystarbrewing.com/event/summit-tacos/2022-03-05/
LOCATION:321 Mountain Avenue\, Berthoud\, CO\, 80513\, United States
CATEGORIES:Events,Food Trucks
ATTACH;FMTTYPE=image/png:https://citystarbrewing.com/wp-content/uploads/2017/05/summittacos.png
END:VEVENT
BEGIN:VEVENT
DTSTART;TZID=America/Denver:20220306T170000
DTEND;TZID=America/Denver:20220306T200000
DTSTAMP:20260421T173922
CREATED:20190731T212720Z
LAST-MODIFIED:20191014T194901Z
UID:10001159-1646586000-1646596800@citystarbrewing.com
SUMMARY:Summit Tacos
DESCRIPTION:Summit Tacos proudly serves authentic Mexican food and they love to share our passion for our food and our culture. Visit at 237 Collyer Street in Longmont and select food truck pop-ups. \nhttps://eatsummittacos.com
URL:https://citystarbrewing.com/event/summit-tacos/2022-03-06/
LOCATION:321 Mountain Avenue\, Berthoud\, CO\, 80513\, United States
CATEGORIES:Events,Food Trucks
ATTACH;FMTTYPE=image/png:https://citystarbrewing.com/wp-content/uploads/2017/05/summittacos.png
END:VEVENT
BEGIN:VEVENT
DTSTART;TZID=America/Denver:20220307T170000
DTEND;TZID=America/Denver:20220307T200000
DTSTAMP:20260421T173922
CREATED:20190731T212720Z
LAST-MODIFIED:20191014T194901Z
UID:10001160-1646672400-1646683200@citystarbrewing.com
SUMMARY:Summit Tacos
DESCRIPTION:Summit Tacos proudly serves authentic Mexican food and they love to share our passion for our food and our culture. Visit at 237 Collyer Street in Longmont and select food truck pop-ups. \nhttps://eatsummittacos.com
URL:https://citystarbrewing.com/event/summit-tacos/2022-03-07/
LOCATION:321 Mountain Avenue\, Berthoud\, CO\, 80513\, United States
CATEGORIES:Events,Food Trucks
ATTACH;FMTTYPE=image/png:https://citystarbrewing.com/wp-content/uploads/2017/05/summittacos.png
END:VEVENT
BEGIN:VEVENT
DTSTART;TZID=America/Denver:20220308T160000
DTEND;TZID=America/Denver:20220308T200000
DTSTAMP:20260421T173922
CREATED:20200711T213851Z
LAST-MODIFIED:20230123T152358Z
UID:10001469-1646755200-1646769600@citystarbrewing.com
SUMMARY:Dill's Maine Lobster Shack
DESCRIPTION:Maine native Ryan Dill and wife Liz bring you: Dill’s Maine Lobster Shack\, a Food Trailer in Northern Colorado focusing on authentic Maine Lobster & Crab Rolls. Looking forward to bringing a bit of New England to Colorado. \nAll seafood is flown in overnight\, fresh from the coast of Maine! Wicked Good!!!! \nMENU \n$20 Full Lobster Roll Plate – 4oz Lobster Roll\, Coleslaw\, Pickle Spear\, Chips \n$16 1/2 Lobster Roll Plate – 2oz Lobster Roll\, Coleslaw\, Pickle Spear\, Chips \n$20 Crab Plate Roll – 4oz Crab Roll\, Coleslaw\, Pickle Spear\, Chips \n$5 Hot Dog Plate – Hot Dog\, Pickle Spear\, Chips
URL:https://citystarbrewing.com/event/dills-maine-lobster-shack/2022-03-08/
LOCATION:CO
CATEGORIES:Events,Food Trucks
ATTACH;FMTTYPE=image/jpeg:https://citystarbrewing.com/wp-content/uploads/2020/07/dills-maine-1.jpg
END:VEVENT
BEGIN:VEVENT
DTSTART;TZID=America/Denver:20220308T170000
DTEND;TZID=America/Denver:20220308T200000
DTSTAMP:20260421T173922
CREATED:20190731T212720Z
LAST-MODIFIED:20191014T194901Z
UID:10001161-1646758800-1646769600@citystarbrewing.com
SUMMARY:Summit Tacos
DESCRIPTION:Summit Tacos proudly serves authentic Mexican food and they love to share our passion for our food and our culture. Visit at 237 Collyer Street in Longmont and select food truck pop-ups. \nhttps://eatsummittacos.com
URL:https://citystarbrewing.com/event/summit-tacos/2022-03-08/
LOCATION:321 Mountain Avenue\, Berthoud\, CO\, 80513\, United States
CATEGORIES:Events,Food Trucks
ATTACH;FMTTYPE=image/png:https://citystarbrewing.com/wp-content/uploads/2017/05/summittacos.png
END:VEVENT
BEGIN:VEVENT
DTSTART;TZID=America/Denver:20220309T170000
DTEND;TZID=America/Denver:20220309T200000
DTSTAMP:20260421T173922
CREATED:20190731T212720Z
LAST-MODIFIED:20191014T194901Z
UID:10001162-1646845200-1646856000@citystarbrewing.com
SUMMARY:Summit Tacos
DESCRIPTION:Summit Tacos proudly serves authentic Mexican food and they love to share our passion for our food and our culture. Visit at 237 Collyer Street in Longmont and select food truck pop-ups. \nhttps://eatsummittacos.com
URL:https://citystarbrewing.com/event/summit-tacos/2022-03-09/
LOCATION:321 Mountain Avenue\, Berthoud\, CO\, 80513\, United States
CATEGORIES:Events,Food Trucks
ATTACH;FMTTYPE=image/png:https://citystarbrewing.com/wp-content/uploads/2017/05/summittacos.png
END:VEVENT
BEGIN:VEVENT
DTSTART;TZID=America/Denver:20220310T170000
DTEND;TZID=America/Denver:20220310T200000
DTSTAMP:20260421T173922
CREATED:20190731T212720Z
LAST-MODIFIED:20191014T194901Z
UID:10001163-1646931600-1646942400@citystarbrewing.com
SUMMARY:Summit Tacos
DESCRIPTION:Summit Tacos proudly serves authentic Mexican food and they love to share our passion for our food and our culture. Visit at 237 Collyer Street in Longmont and select food truck pop-ups. \nhttps://eatsummittacos.com
URL:https://citystarbrewing.com/event/summit-tacos/2022-03-10/
LOCATION:321 Mountain Avenue\, Berthoud\, CO\, 80513\, United States
CATEGORIES:Events,Food Trucks
ATTACH;FMTTYPE=image/png:https://citystarbrewing.com/wp-content/uploads/2017/05/summittacos.png
END:VEVENT
BEGIN:VEVENT
DTSTART;TZID=America/Denver:20220311T170000
DTEND;TZID=America/Denver:20220311T200000
DTSTAMP:20260421T173922
CREATED:20190731T212720Z
LAST-MODIFIED:20191014T194901Z
UID:10001164-1647018000-1647028800@citystarbrewing.com
SUMMARY:Summit Tacos
DESCRIPTION:Summit Tacos proudly serves authentic Mexican food and they love to share our passion for our food and our culture. Visit at 237 Collyer Street in Longmont and select food truck pop-ups. \nhttps://eatsummittacos.com
URL:https://citystarbrewing.com/event/summit-tacos/2022-03-11/
LOCATION:321 Mountain Avenue\, Berthoud\, CO\, 80513\, United States
CATEGORIES:Events,Food Trucks
ATTACH;FMTTYPE=image/png:https://citystarbrewing.com/wp-content/uploads/2017/05/summittacos.png
END:VEVENT
BEGIN:VEVENT
DTSTART;TZID=America/Denver:20220313T170000
DTEND;TZID=America/Denver:20220313T200000
DTSTAMP:20260421T173922
CREATED:20190731T212720Z
LAST-MODIFIED:20191014T194901Z
UID:10001165-1647190800-1647201600@citystarbrewing.com
SUMMARY:Summit Tacos
DESCRIPTION:Summit Tacos proudly serves authentic Mexican food and they love to share our passion for our food and our culture. Visit at 237 Collyer Street in Longmont and select food truck pop-ups. \nhttps://eatsummittacos.com
URL:https://citystarbrewing.com/event/summit-tacos/2022-03-13/
LOCATION:321 Mountain Avenue\, Berthoud\, CO\, 80513\, United States
CATEGORIES:Events,Food Trucks
ATTACH;FMTTYPE=image/png:https://citystarbrewing.com/wp-content/uploads/2017/05/summittacos.png
END:VEVENT
BEGIN:VEVENT
DTSTART;TZID=America/Denver:20220314T170000
DTEND;TZID=America/Denver:20220314T200000
DTSTAMP:20260421T173922
CREATED:20190731T212720Z
LAST-MODIFIED:20191014T194901Z
UID:10001166-1647277200-1647288000@citystarbrewing.com
SUMMARY:Summit Tacos
DESCRIPTION:Summit Tacos proudly serves authentic Mexican food and they love to share our passion for our food and our culture. Visit at 237 Collyer Street in Longmont and select food truck pop-ups. \nhttps://eatsummittacos.com
URL:https://citystarbrewing.com/event/summit-tacos/2022-03-14/
LOCATION:321 Mountain Avenue\, Berthoud\, CO\, 80513\, United States
CATEGORIES:Events,Food Trucks
ATTACH;FMTTYPE=image/png:https://citystarbrewing.com/wp-content/uploads/2017/05/summittacos.png
END:VEVENT
BEGIN:VEVENT
DTSTART;TZID=America/Denver:20220315T170000
DTEND;TZID=America/Denver:20220315T200000
DTSTAMP:20260421T173922
CREATED:20190731T212720Z
LAST-MODIFIED:20191014T194901Z
UID:10001167-1647363600-1647374400@citystarbrewing.com
SUMMARY:Summit Tacos
DESCRIPTION:Summit Tacos proudly serves authentic Mexican food and they love to share our passion for our food and our culture. Visit at 237 Collyer Street in Longmont and select food truck pop-ups. \nhttps://eatsummittacos.com
URL:https://citystarbrewing.com/event/summit-tacos/2022-03-15/
LOCATION:321 Mountain Avenue\, Berthoud\, CO\, 80513\, United States
CATEGORIES:Events,Food Trucks
ATTACH;FMTTYPE=image/png:https://citystarbrewing.com/wp-content/uploads/2017/05/summittacos.png
END:VEVENT
BEGIN:VEVENT
DTSTART;TZID=America/Denver:20220316T170000
DTEND;TZID=America/Denver:20220316T200000
DTSTAMP:20260421T173922
CREATED:20190731T212720Z
LAST-MODIFIED:20191014T194901Z
UID:10001168-1647450000-1647460800@citystarbrewing.com
SUMMARY:Summit Tacos
DESCRIPTION:Summit Tacos proudly serves authentic Mexican food and they love to share our passion for our food and our culture. Visit at 237 Collyer Street in Longmont and select food truck pop-ups. \nhttps://eatsummittacos.com
URL:https://citystarbrewing.com/event/summit-tacos/2022-03-16/
LOCATION:321 Mountain Avenue\, Berthoud\, CO\, 80513\, United States
CATEGORIES:Events,Food Trucks
ATTACH;FMTTYPE=image/png:https://citystarbrewing.com/wp-content/uploads/2017/05/summittacos.png
END:VEVENT
BEGIN:VEVENT
DTSTART;TZID=America/Denver:20220317T160000
DTEND;TZID=America/Denver:20220317T200000
DTSTAMP:20260421T173922
CREATED:20200813T162516Z
LAST-MODIFIED:20220522T171440Z
UID:10001497-1647532800-1647547200@citystarbrewing.com
SUMMARY:Georgia Boys BBQ
DESCRIPTION:Come get some true Southern BBQ from our Georgia Boys BBQ Outpost food truck! We’re slingin’ our homemade grub all over Northern Colorado…get here early while the gettin’s good\, as we do sell out.
URL:https://citystarbrewing.com/event/georgia-boys-bbq/2022-03-17/
LOCATION:CO
CATEGORIES:Events,Food Trucks
ATTACH;FMTTYPE=image/png:https://citystarbrewing.com/wp-content/uploads/2020/08/GeorgiaBoys.png
END:VEVENT
BEGIN:VEVENT
DTSTART;TZID=America/Denver:20220317T170000
DTEND;TZID=America/Denver:20220317T200000
DTSTAMP:20260421T173922
CREATED:20190731T212720Z
LAST-MODIFIED:20191014T194901Z
UID:10001169-1647536400-1647547200@citystarbrewing.com
SUMMARY:Summit Tacos
DESCRIPTION:Summit Tacos proudly serves authentic Mexican food and they love to share our passion for our food and our culture. Visit at 237 Collyer Street in Longmont and select food truck pop-ups. \nhttps://eatsummittacos.com
URL:https://citystarbrewing.com/event/summit-tacos/2022-03-17/
LOCATION:321 Mountain Avenue\, Berthoud\, CO\, 80513\, United States
CATEGORIES:Events,Food Trucks
ATTACH;FMTTYPE=image/png:https://citystarbrewing.com/wp-content/uploads/2017/05/summittacos.png
END:VEVENT
BEGIN:VEVENT
DTSTART;TZID=America/Denver:20220318T170000
DTEND;TZID=America/Denver:20220318T200000
DTSTAMP:20260421T173922
CREATED:20190731T212720Z
LAST-MODIFIED:20191014T194901Z
UID:10001170-1647622800-1647633600@citystarbrewing.com
SUMMARY:Summit Tacos
DESCRIPTION:Summit Tacos proudly serves authentic Mexican food and they love to share our passion for our food and our culture. Visit at 237 Collyer Street in Longmont and select food truck pop-ups. \nhttps://eatsummittacos.com
URL:https://citystarbrewing.com/event/summit-tacos/2022-03-18/
LOCATION:321 Mountain Avenue\, Berthoud\, CO\, 80513\, United States
CATEGORIES:Events,Food Trucks
ATTACH;FMTTYPE=image/png:https://citystarbrewing.com/wp-content/uploads/2017/05/summittacos.png
END:VEVENT
BEGIN:VEVENT
DTSTART;TZID=America/Denver:20220319T170000
DTEND;TZID=America/Denver:20220319T200000
DTSTAMP:20260421T173922
CREATED:20190731T212720Z
LAST-MODIFIED:20191014T194901Z
UID:10001171-1647709200-1647720000@citystarbrewing.com
SUMMARY:Summit Tacos
DESCRIPTION:Summit Tacos proudly serves authentic Mexican food and they love to share our passion for our food and our culture. Visit at 237 Collyer Street in Longmont and select food truck pop-ups. \nhttps://eatsummittacos.com
URL:https://citystarbrewing.com/event/summit-tacos/2022-03-19/
LOCATION:321 Mountain Avenue\, Berthoud\, CO\, 80513\, United States
CATEGORIES:Events,Food Trucks
ATTACH;FMTTYPE=image/png:https://citystarbrewing.com/wp-content/uploads/2017/05/summittacos.png
END:VEVENT
BEGIN:VEVENT
DTSTART;TZID=America/Denver:20220319T180000
DTEND;TZID=America/Denver:20220319T203000
DTSTAMP:20260421T173922
CREATED:20190819T183922Z
LAST-MODIFIED:20220226T004631Z
UID:10001354-1647712800-1647721800@citystarbrewing.com
SUMMARY:Dark and Stormy
DESCRIPTION:Joe Kuckla and Ms. Amy bring an energetic mix of outlaw country\, singer-songwriter originals\, and folk-rock that will take your soul for a ride\, bring a tear to your eye\, and make your dancing feet slide.
URL:https://citystarbrewing.com/event/joe-kuckla/
LOCATION:CO
CATEGORIES:Events,Live Music
ATTACH;FMTTYPE=image/jpeg:https://citystarbrewing.com/wp-content/uploads/2019/08/joekuckla.jpg
END:VEVENT
BEGIN:VEVENT
DTSTART;TZID=America/Denver:20220320T170000
DTEND;TZID=America/Denver:20220320T200000
DTSTAMP:20260421T173922
CREATED:20190731T212720Z
LAST-MODIFIED:20191014T194901Z
UID:10001172-1647795600-1647806400@citystarbrewing.com
SUMMARY:Summit Tacos
DESCRIPTION:Summit Tacos proudly serves authentic Mexican food and they love to share our passion for our food and our culture. Visit at 237 Collyer Street in Longmont and select food truck pop-ups. \nhttps://eatsummittacos.com
URL:https://citystarbrewing.com/event/summit-tacos/2022-03-20/
LOCATION:321 Mountain Avenue\, Berthoud\, CO\, 80513\, United States
CATEGORIES:Events,Food Trucks
ATTACH;FMTTYPE=image/png:https://citystarbrewing.com/wp-content/uploads/2017/05/summittacos.png
END:VEVENT
BEGIN:VEVENT
DTSTART;TZID=America/Denver:20220321T170000
DTEND;TZID=America/Denver:20220321T200000
DTSTAMP:20260421T173922
CREATED:20190731T212720Z
LAST-MODIFIED:20191014T194901Z
UID:10001173-1647882000-1647892800@citystarbrewing.com
SUMMARY:Summit Tacos
DESCRIPTION:Summit Tacos proudly serves authentic Mexican food and they love to share our passion for our food and our culture. Visit at 237 Collyer Street in Longmont and select food truck pop-ups. \nhttps://eatsummittacos.com
URL:https://citystarbrewing.com/event/summit-tacos/2022-03-21/
LOCATION:321 Mountain Avenue\, Berthoud\, CO\, 80513\, United States
CATEGORIES:Events,Food Trucks
ATTACH;FMTTYPE=image/png:https://citystarbrewing.com/wp-content/uploads/2017/05/summittacos.png
END:VEVENT
BEGIN:VEVENT
DTSTART;TZID=America/Denver:20220322T160000
DTEND;TZID=America/Denver:20220322T200000
DTSTAMP:20260421T173922
CREATED:20200711T213851Z
LAST-MODIFIED:20230123T152358Z
UID:10001470-1647964800-1647979200@citystarbrewing.com
SUMMARY:Dill's Maine Lobster Shack
DESCRIPTION:Maine native Ryan Dill and wife Liz bring you: Dill’s Maine Lobster Shack\, a Food Trailer in Northern Colorado focusing on authentic Maine Lobster & Crab Rolls. Looking forward to bringing a bit of New England to Colorado. \nAll seafood is flown in overnight\, fresh from the coast of Maine! Wicked Good!!!! \nMENU \n$20 Full Lobster Roll Plate – 4oz Lobster Roll\, Coleslaw\, Pickle Spear\, Chips \n$16 1/2 Lobster Roll Plate – 2oz Lobster Roll\, Coleslaw\, Pickle Spear\, Chips \n$20 Crab Plate Roll – 4oz Crab Roll\, Coleslaw\, Pickle Spear\, Chips \n$5 Hot Dog Plate – Hot Dog\, Pickle Spear\, Chips
URL:https://citystarbrewing.com/event/dills-maine-lobster-shack/2022-03-22/
LOCATION:CO
CATEGORIES:Events,Food Trucks
ATTACH;FMTTYPE=image/jpeg:https://citystarbrewing.com/wp-content/uploads/2020/07/dills-maine-1.jpg
END:VEVENT
BEGIN:VEVENT
DTSTART;TZID=America/Denver:20220322T170000
DTEND;TZID=America/Denver:20220322T200000
DTSTAMP:20260421T173922
CREATED:20190731T212720Z
LAST-MODIFIED:20191014T194901Z
UID:10001174-1647968400-1647979200@citystarbrewing.com
SUMMARY:Summit Tacos
DESCRIPTION:Summit Tacos proudly serves authentic Mexican food and they love to share our passion for our food and our culture. Visit at 237 Collyer Street in Longmont and select food truck pop-ups. \nhttps://eatsummittacos.com
URL:https://citystarbrewing.com/event/summit-tacos/2022-03-22/
LOCATION:321 Mountain Avenue\, Berthoud\, CO\, 80513\, United States
CATEGORIES:Events,Food Trucks
ATTACH;FMTTYPE=image/png:https://citystarbrewing.com/wp-content/uploads/2017/05/summittacos.png
END:VEVENT
BEGIN:VEVENT
DTSTART;TZID=America/Denver:20220323T170000
DTEND;TZID=America/Denver:20220323T200000
DTSTAMP:20260421T173922
CREATED:20190731T212720Z
LAST-MODIFIED:20191014T194901Z
UID:10001175-1648054800-1648065600@citystarbrewing.com
SUMMARY:Summit Tacos
DESCRIPTION:Summit Tacos proudly serves authentic Mexican food and they love to share our passion for our food and our culture. Visit at 237 Collyer Street in Longmont and select food truck pop-ups. \nhttps://eatsummittacos.com
URL:https://citystarbrewing.com/event/summit-tacos/2022-03-23/
LOCATION:321 Mountain Avenue\, Berthoud\, CO\, 80513\, United States
CATEGORIES:Events,Food Trucks
ATTACH;FMTTYPE=image/png:https://citystarbrewing.com/wp-content/uploads/2017/05/summittacos.png
END:VEVENT
BEGIN:VEVENT
DTSTART;TZID=America/Denver:20220324T170000
DTEND;TZID=America/Denver:20220324T200000
DTSTAMP:20260421T173922
CREATED:20190731T212720Z
LAST-MODIFIED:20191014T194901Z
UID:10001176-1648141200-1648152000@citystarbrewing.com
SUMMARY:Summit Tacos
DESCRIPTION:Summit Tacos proudly serves authentic Mexican food and they love to share our passion for our food and our culture. Visit at 237 Collyer Street in Longmont and select food truck pop-ups. \nhttps://eatsummittacos.com
URL:https://citystarbrewing.com/event/summit-tacos/2022-03-24/
LOCATION:321 Mountain Avenue\, Berthoud\, CO\, 80513\, United States
CATEGORIES:Events,Food Trucks
ATTACH;FMTTYPE=image/png:https://citystarbrewing.com/wp-content/uploads/2017/05/summittacos.png
END:VEVENT
END:VCALENDAR