BEGIN:VCALENDAR
VERSION:2.0
PRODID:-//City Star Brewing - ECPv6.15.20//NONSGML v1.0//EN
CALSCALE:GREGORIAN
METHOD:PUBLISH
X-WR-CALNAME:City Star Brewing
X-ORIGINAL-URL:https://citystarbrewing.com
X-WR-CALDESC:Events for City Star Brewing
REFRESH-INTERVAL;VALUE=DURATION:PT1H
X-Robots-Tag:noindex
X-PUBLISHED-TTL:PT1H
BEGIN:VTIMEZONE
TZID:America/Denver
BEGIN:DAYLIGHT
TZOFFSETFROM:-0700
TZOFFSETTO:-0600
TZNAME:MDT
DTSTART:20200308T090000
END:DAYLIGHT
BEGIN:STANDARD
TZOFFSETFROM:-0600
TZOFFSETTO:-0700
TZNAME:MST
DTSTART:20201101T080000
END:STANDARD
BEGIN:DAYLIGHT
TZOFFSETFROM:-0700
TZOFFSETTO:-0600
TZNAME:MDT
DTSTART:20210314T090000
END:DAYLIGHT
BEGIN:STANDARD
TZOFFSETFROM:-0600
TZOFFSETTO:-0700
TZNAME:MST
DTSTART:20211107T080000
END:STANDARD
BEGIN:DAYLIGHT
TZOFFSETFROM:-0700
TZOFFSETTO:-0600
TZNAME:MDT
DTSTART:20220313T090000
END:DAYLIGHT
BEGIN:STANDARD
TZOFFSETFROM:-0600
TZOFFSETTO:-0700
TZNAME:MST
DTSTART:20221106T080000
END:STANDARD
END:VTIMEZONE
BEGIN:VEVENT
DTSTART;TZID=America/Denver:20211201T160000
DTEND;TZID=America/Denver:20211201T200000
DTSTAMP:20260421T231816
CREATED:20210709T161544Z
LAST-MODIFIED:20220207T224100Z
UID:10001700-1638374400-1638388800@citystarbrewing.com
SUMMARY:Temaki Tornado
DESCRIPTION:Mobile food truck operated by sushi pirates. \nSUSHI HAND ROLLS: https://www.temakitornado.com
URL:https://citystarbrewing.com/event/temaki-tornado/2021-12-01/
LOCATION:CO
CATEGORIES:Events,Food Trucks
ATTACH;FMTTYPE=image/jpeg:https://citystarbrewing.com/wp-content/uploads/2021/07/temakitornado-e1625847278676.jpg
END:VEVENT
BEGIN:VEVENT
DTSTART;TZID=America/Denver:20211201T170000
DTEND;TZID=America/Denver:20211201T200000
DTSTAMP:20260421T231816
CREATED:20190731T212720Z
LAST-MODIFIED:20191014T194901Z
UID:10001064-1638378000-1638388800@citystarbrewing.com
SUMMARY:Summit Tacos
DESCRIPTION:Summit Tacos proudly serves authentic Mexican food and they love to share our passion for our food and our culture. Visit at 237 Collyer Street in Longmont and select food truck pop-ups. \nhttps://eatsummittacos.com
URL:https://citystarbrewing.com/event/summit-tacos/2021-12-01/
LOCATION:321 Mountain Avenue\, Berthoud\, CO\, 80513\, United States
CATEGORIES:Events,Food Trucks
ATTACH;FMTTYPE=image/png:https://citystarbrewing.com/wp-content/uploads/2017/05/summittacos.png
END:VEVENT
BEGIN:VEVENT
DTSTART;TZID=America/Denver:20211202T160000
DTEND;TZID=America/Denver:20211202T200000
DTSTAMP:20260421T231816
CREATED:20210630T172536Z
LAST-MODIFIED:20210926T204733Z
UID:10001698-1638460800-1638475200@citystarbrewing.com
SUMMARY:Chase 'N' Smoke BBQ
DESCRIPTION:​Chase’N’Smoke BBQ was first started as a competition cooking team in 2017\, named after their son Chase.  Veteran owned and operated out of Firestone Colorado by Dan & Jacque Milam\, they are looking to bring their passion for BBQ to you.  Seven years ago Jacque took Dan to his first BBQ competition in Frisco\, CO as a spectator.  They were immediately hooked!  Since then\, they have grown this hobby into a business they love!   \nWe love BBQ.  Not just the flavor\, but the experience.  We have created many lifetime memories with our families and friends around campfires\, grills and smokers.  When we BBQ…it just feels good.  We want to be a part of creating memorable experiences for you through our interpretation of BBQ.   We pair the right flavor of smoke with the right foods\, and our rubs are packed with flavor.  We select only quality proteins and ingredients and apply competition level techniques.  The results… uncompromised quality and a unique menu.  \nOur mission:  To serve food that is familiar but new\, comforting yet exciting\, delicious and hopefully addicting!  \nhttps://www.cnsbbq.com
URL:https://citystarbrewing.com/event/chase-n-smoke-bbq/2021-12-02/
LOCATION:CO
CATEGORIES:Events,Food Trucks
END:VEVENT
BEGIN:VEVENT
DTSTART;TZID=America/Denver:20211202T170000
DTEND;TZID=America/Denver:20211202T200000
DTSTAMP:20260421T231816
CREATED:20190731T212720Z
LAST-MODIFIED:20191014T194901Z
UID:10001065-1638464400-1638475200@citystarbrewing.com
SUMMARY:Summit Tacos
DESCRIPTION:Summit Tacos proudly serves authentic Mexican food and they love to share our passion for our food and our culture. Visit at 237 Collyer Street in Longmont and select food truck pop-ups. \nhttps://eatsummittacos.com
URL:https://citystarbrewing.com/event/summit-tacos/2021-12-02/
LOCATION:321 Mountain Avenue\, Berthoud\, CO\, 80513\, United States
CATEGORIES:Events,Food Trucks
ATTACH;FMTTYPE=image/png:https://citystarbrewing.com/wp-content/uploads/2017/05/summittacos.png
END:VEVENT
BEGIN:VEVENT
DTSTART;TZID=America/Denver:20211203T170000
DTEND;TZID=America/Denver:20211203T200000
DTSTAMP:20260421T231816
CREATED:20190731T212720Z
LAST-MODIFIED:20191014T194901Z
UID:10001066-1638550800-1638561600@citystarbrewing.com
SUMMARY:Summit Tacos
DESCRIPTION:Summit Tacos proudly serves authentic Mexican food and they love to share our passion for our food and our culture. Visit at 237 Collyer Street in Longmont and select food truck pop-ups. \nhttps://eatsummittacos.com
URL:https://citystarbrewing.com/event/summit-tacos/2021-12-03/
LOCATION:321 Mountain Avenue\, Berthoud\, CO\, 80513\, United States
CATEGORIES:Events,Food Trucks
ATTACH;FMTTYPE=image/png:https://citystarbrewing.com/wp-content/uploads/2017/05/summittacos.png
END:VEVENT
BEGIN:VEVENT
DTSTART;TZID=America/Denver:20211204T120000
DTEND;TZID=America/Denver:20211204T210000
DTSTAMP:20260421T231816
CREATED:20200517T131826Z
LAST-MODIFIED:20211119T001931Z
UID:10001408-1638619200-1638651600@citystarbrewing.com
SUMMARY:Taproom Release: Mule Kick Release
DESCRIPTION:Mule Kick is an American Strong Ale brewed with Wildflower Honey and aged 18 months in Deerhammer whiskey barrels. \nGrab your 22oz. bottles to-go
URL:https://citystarbrewing.com/event/mule-kick-release/
LOCATION:CO
CATEGORIES:Beer Releases,Events
ATTACH;FMTTYPE=image/png:https://citystarbrewing.com/wp-content/uploads/2020/05/Screen-Shot-2021-11-18-at-5.13.00-PM.png
END:VEVENT
BEGIN:VEVENT
DTSTART;TZID=America/Denver:20211204T170000
DTEND;TZID=America/Denver:20211204T200000
DTSTAMP:20260421T231816
CREATED:20190731T212720Z
LAST-MODIFIED:20191014T194901Z
UID:10001067-1638637200-1638648000@citystarbrewing.com
SUMMARY:Summit Tacos
DESCRIPTION:Summit Tacos proudly serves authentic Mexican food and they love to share our passion for our food and our culture. Visit at 237 Collyer Street in Longmont and select food truck pop-ups. \nhttps://eatsummittacos.com
URL:https://citystarbrewing.com/event/summit-tacos/2021-12-04/
LOCATION:321 Mountain Avenue\, Berthoud\, CO\, 80513\, United States
CATEGORIES:Events,Food Trucks
ATTACH;FMTTYPE=image/png:https://citystarbrewing.com/wp-content/uploads/2017/05/summittacos.png
END:VEVENT
BEGIN:VEVENT
DTSTART;TZID=America/Denver:20211205T170000
DTEND;TZID=America/Denver:20211205T200000
DTSTAMP:20260421T231816
CREATED:20190731T212720Z
LAST-MODIFIED:20191014T194901Z
UID:10001068-1638723600-1638734400@citystarbrewing.com
SUMMARY:Summit Tacos
DESCRIPTION:Summit Tacos proudly serves authentic Mexican food and they love to share our passion for our food and our culture. Visit at 237 Collyer Street in Longmont and select food truck pop-ups. \nhttps://eatsummittacos.com
URL:https://citystarbrewing.com/event/summit-tacos/2021-12-05/
LOCATION:321 Mountain Avenue\, Berthoud\, CO\, 80513\, United States
CATEGORIES:Events,Food Trucks
ATTACH;FMTTYPE=image/png:https://citystarbrewing.com/wp-content/uploads/2017/05/summittacos.png
END:VEVENT
BEGIN:VEVENT
DTSTART;TZID=America/Denver:20211206T170000
DTEND;TZID=America/Denver:20211206T200000
DTSTAMP:20260421T231816
CREATED:20190731T212720Z
LAST-MODIFIED:20191014T194901Z
UID:10001069-1638810000-1638820800@citystarbrewing.com
SUMMARY:Summit Tacos
DESCRIPTION:Summit Tacos proudly serves authentic Mexican food and they love to share our passion for our food and our culture. Visit at 237 Collyer Street in Longmont and select food truck pop-ups. \nhttps://eatsummittacos.com
URL:https://citystarbrewing.com/event/summit-tacos/2021-12-06/
LOCATION:321 Mountain Avenue\, Berthoud\, CO\, 80513\, United States
CATEGORIES:Events,Food Trucks
ATTACH;FMTTYPE=image/png:https://citystarbrewing.com/wp-content/uploads/2017/05/summittacos.png
END:VEVENT
BEGIN:VEVENT
DTSTART;TZID=America/Denver:20211207T170000
DTEND;TZID=America/Denver:20211207T200000
DTSTAMP:20260421T231816
CREATED:20190731T212720Z
LAST-MODIFIED:20191014T194901Z
UID:10001070-1638896400-1638907200@citystarbrewing.com
SUMMARY:Summit Tacos
DESCRIPTION:Summit Tacos proudly serves authentic Mexican food and they love to share our passion for our food and our culture. Visit at 237 Collyer Street in Longmont and select food truck pop-ups. \nhttps://eatsummittacos.com
URL:https://citystarbrewing.com/event/summit-tacos/2021-12-07/
LOCATION:321 Mountain Avenue\, Berthoud\, CO\, 80513\, United States
CATEGORIES:Events,Food Trucks
ATTACH;FMTTYPE=image/png:https://citystarbrewing.com/wp-content/uploads/2017/05/summittacos.png
END:VEVENT
BEGIN:VEVENT
DTSTART;TZID=America/Denver:20211208T170000
DTEND;TZID=America/Denver:20211208T200000
DTSTAMP:20260421T231816
CREATED:20190731T212720Z
LAST-MODIFIED:20191014T194901Z
UID:10001071-1638982800-1638993600@citystarbrewing.com
SUMMARY:Summit Tacos
DESCRIPTION:Summit Tacos proudly serves authentic Mexican food and they love to share our passion for our food and our culture. Visit at 237 Collyer Street in Longmont and select food truck pop-ups. \nhttps://eatsummittacos.com
URL:https://citystarbrewing.com/event/summit-tacos/2021-12-08/
LOCATION:321 Mountain Avenue\, Berthoud\, CO\, 80513\, United States
CATEGORIES:Events,Food Trucks
ATTACH;FMTTYPE=image/png:https://citystarbrewing.com/wp-content/uploads/2017/05/summittacos.png
END:VEVENT
BEGIN:VEVENT
DTSTART;TZID=America/Denver:20211209T170000
DTEND;TZID=America/Denver:20211209T200000
DTSTAMP:20260421T231816
CREATED:20190731T212720Z
LAST-MODIFIED:20191014T194901Z
UID:10001072-1639069200-1639080000@citystarbrewing.com
SUMMARY:Summit Tacos
DESCRIPTION:Summit Tacos proudly serves authentic Mexican food and they love to share our passion for our food and our culture. Visit at 237 Collyer Street in Longmont and select food truck pop-ups. \nhttps://eatsummittacos.com
URL:https://citystarbrewing.com/event/summit-tacos/2021-12-09/
LOCATION:321 Mountain Avenue\, Berthoud\, CO\, 80513\, United States
CATEGORIES:Events,Food Trucks
ATTACH;FMTTYPE=image/png:https://citystarbrewing.com/wp-content/uploads/2017/05/summittacos.png
END:VEVENT
BEGIN:VEVENT
DTSTART;TZID=America/Denver:20211210T170000
DTEND;TZID=America/Denver:20211210T200000
DTSTAMP:20260421T231816
CREATED:20190731T212720Z
LAST-MODIFIED:20191014T194901Z
UID:10001073-1639155600-1639166400@citystarbrewing.com
SUMMARY:Summit Tacos
DESCRIPTION:Summit Tacos proudly serves authentic Mexican food and they love to share our passion for our food and our culture. Visit at 237 Collyer Street in Longmont and select food truck pop-ups. \nhttps://eatsummittacos.com
URL:https://citystarbrewing.com/event/summit-tacos/2021-12-10/
LOCATION:321 Mountain Avenue\, Berthoud\, CO\, 80513\, United States
CATEGORIES:Events,Food Trucks
ATTACH;FMTTYPE=image/png:https://citystarbrewing.com/wp-content/uploads/2017/05/summittacos.png
END:VEVENT
BEGIN:VEVENT
DTSTART;TZID=America/Denver:20211211T170000
DTEND;TZID=America/Denver:20211211T200000
DTSTAMP:20260421T231816
CREATED:20190731T212720Z
LAST-MODIFIED:20191014T194901Z
UID:10001074-1639242000-1639252800@citystarbrewing.com
SUMMARY:Summit Tacos
DESCRIPTION:Summit Tacos proudly serves authentic Mexican food and they love to share our passion for our food and our culture. Visit at 237 Collyer Street in Longmont and select food truck pop-ups. \nhttps://eatsummittacos.com
URL:https://citystarbrewing.com/event/summit-tacos/2021-12-11/
LOCATION:321 Mountain Avenue\, Berthoud\, CO\, 80513\, United States
CATEGORIES:Events,Food Trucks
ATTACH;FMTTYPE=image/png:https://citystarbrewing.com/wp-content/uploads/2017/05/summittacos.png
END:VEVENT
BEGIN:VEVENT
DTSTART;TZID=America/Denver:20211212T170000
DTEND;TZID=America/Denver:20211212T200000
DTSTAMP:20260421T231816
CREATED:20190731T212720Z
LAST-MODIFIED:20191014T194901Z
UID:10001075-1639328400-1639339200@citystarbrewing.com
SUMMARY:Summit Tacos
DESCRIPTION:Summit Tacos proudly serves authentic Mexican food and they love to share our passion for our food and our culture. Visit at 237 Collyer Street in Longmont and select food truck pop-ups. \nhttps://eatsummittacos.com
URL:https://citystarbrewing.com/event/summit-tacos/2021-12-12/
LOCATION:321 Mountain Avenue\, Berthoud\, CO\, 80513\, United States
CATEGORIES:Events,Food Trucks
ATTACH;FMTTYPE=image/png:https://citystarbrewing.com/wp-content/uploads/2017/05/summittacos.png
END:VEVENT
BEGIN:VEVENT
DTSTART;TZID=America/Denver:20211213T170000
DTEND;TZID=America/Denver:20211213T200000
DTSTAMP:20260421T231816
CREATED:20190731T212720Z
LAST-MODIFIED:20191014T194901Z
UID:10001076-1639414800-1639425600@citystarbrewing.com
SUMMARY:Summit Tacos
DESCRIPTION:Summit Tacos proudly serves authentic Mexican food and they love to share our passion for our food and our culture. Visit at 237 Collyer Street in Longmont and select food truck pop-ups. \nhttps://eatsummittacos.com
URL:https://citystarbrewing.com/event/summit-tacos/2021-12-13/
LOCATION:321 Mountain Avenue\, Berthoud\, CO\, 80513\, United States
CATEGORIES:Events,Food Trucks
ATTACH;FMTTYPE=image/png:https://citystarbrewing.com/wp-content/uploads/2017/05/summittacos.png
END:VEVENT
BEGIN:VEVENT
DTSTART;VALUE=DATE:20211214
DTEND;VALUE=DATE:20211215
DTSTAMP:20260421T231816
CREATED:20211115T181100Z
LAST-MODIFIED:20211123T210928Z
UID:10001774-1639440000-1639526399@citystarbrewing.com
SUMMARY:Taproom Closed
DESCRIPTION:The taproom will be closed today for a private event.
URL:https://citystarbrewing.com/event/taproom-closed-8/2021-12-14/
LOCATION:CO
CATEGORIES:Events,Taproom Events
ATTACH;FMTTYPE=image/jpeg:https://citystarbrewing.com/wp-content/uploads/2021/11/TaproomClosed-e1636999828256.jpg
END:VEVENT
BEGIN:VEVENT
DTSTART;TZID=America/Denver:20211214T160000
DTEND;TZID=America/Denver:20211214T200000
DTSTAMP:20260421T231816
CREATED:20200711T213851Z
LAST-MODIFIED:20230123T152358Z
UID:10001463-1639497600-1639512000@citystarbrewing.com
SUMMARY:Dill's Maine Lobster Shack
DESCRIPTION:Maine native Ryan Dill and wife Liz bring you: Dill’s Maine Lobster Shack\, a Food Trailer in Northern Colorado focusing on authentic Maine Lobster & Crab Rolls. Looking forward to bringing a bit of New England to Colorado. \nAll seafood is flown in overnight\, fresh from the coast of Maine! Wicked Good!!!! \nMENU \n$20 Full Lobster Roll Plate – 4oz Lobster Roll\, Coleslaw\, Pickle Spear\, Chips \n$16 1/2 Lobster Roll Plate – 2oz Lobster Roll\, Coleslaw\, Pickle Spear\, Chips \n$20 Crab Plate Roll – 4oz Crab Roll\, Coleslaw\, Pickle Spear\, Chips \n$5 Hot Dog Plate – Hot Dog\, Pickle Spear\, Chips
URL:https://citystarbrewing.com/event/dills-maine-lobster-shack/2021-12-14/
LOCATION:CO
CATEGORIES:Events,Food Trucks
ATTACH;FMTTYPE=image/jpeg:https://citystarbrewing.com/wp-content/uploads/2020/07/dills-maine-1.jpg
END:VEVENT
BEGIN:VEVENT
DTSTART;TZID=America/Denver:20211214T170000
DTEND;TZID=America/Denver:20211214T200000
DTSTAMP:20260421T231816
CREATED:20190731T212720Z
LAST-MODIFIED:20191014T194901Z
UID:10001077-1639501200-1639512000@citystarbrewing.com
SUMMARY:Summit Tacos
DESCRIPTION:Summit Tacos proudly serves authentic Mexican food and they love to share our passion for our food and our culture. Visit at 237 Collyer Street in Longmont and select food truck pop-ups. \nhttps://eatsummittacos.com
URL:https://citystarbrewing.com/event/summit-tacos/2021-12-14/
LOCATION:321 Mountain Avenue\, Berthoud\, CO\, 80513\, United States
CATEGORIES:Events,Food Trucks
ATTACH;FMTTYPE=image/png:https://citystarbrewing.com/wp-content/uploads/2017/05/summittacos.png
END:VEVENT
BEGIN:VEVENT
DTSTART;TZID=America/Denver:20211215T170000
DTEND;TZID=America/Denver:20211215T200000
DTSTAMP:20260421T231816
CREATED:20190731T212720Z
LAST-MODIFIED:20191014T194901Z
UID:10001078-1639587600-1639598400@citystarbrewing.com
SUMMARY:Summit Tacos
DESCRIPTION:Summit Tacos proudly serves authentic Mexican food and they love to share our passion for our food and our culture. Visit at 237 Collyer Street in Longmont and select food truck pop-ups. \nhttps://eatsummittacos.com
URL:https://citystarbrewing.com/event/summit-tacos/2021-12-15/
LOCATION:321 Mountain Avenue\, Berthoud\, CO\, 80513\, United States
CATEGORIES:Events,Food Trucks
ATTACH;FMTTYPE=image/png:https://citystarbrewing.com/wp-content/uploads/2017/05/summittacos.png
END:VEVENT
BEGIN:VEVENT
DTSTART;TZID=America/Denver:20211216T170000
DTEND;TZID=America/Denver:20211216T200000
DTSTAMP:20260421T231816
CREATED:20190731T212720Z
LAST-MODIFIED:20191014T194901Z
UID:10001079-1639674000-1639684800@citystarbrewing.com
SUMMARY:Summit Tacos
DESCRIPTION:Summit Tacos proudly serves authentic Mexican food and they love to share our passion for our food and our culture. Visit at 237 Collyer Street in Longmont and select food truck pop-ups. \nhttps://eatsummittacos.com
URL:https://citystarbrewing.com/event/summit-tacos/2021-12-16/
LOCATION:321 Mountain Avenue\, Berthoud\, CO\, 80513\, United States
CATEGORIES:Events,Food Trucks
ATTACH;FMTTYPE=image/png:https://citystarbrewing.com/wp-content/uploads/2017/05/summittacos.png
END:VEVENT
BEGIN:VEVENT
DTSTART;TZID=America/Denver:20211217T170000
DTEND;TZID=America/Denver:20211217T200000
DTSTAMP:20260421T231816
CREATED:20190731T212720Z
LAST-MODIFIED:20191014T194901Z
UID:10001080-1639760400-1639771200@citystarbrewing.com
SUMMARY:Summit Tacos
DESCRIPTION:Summit Tacos proudly serves authentic Mexican food and they love to share our passion for our food and our culture. Visit at 237 Collyer Street in Longmont and select food truck pop-ups. \nhttps://eatsummittacos.com
URL:https://citystarbrewing.com/event/summit-tacos/2021-12-17/
LOCATION:321 Mountain Avenue\, Berthoud\, CO\, 80513\, United States
CATEGORIES:Events,Food Trucks
ATTACH;FMTTYPE=image/png:https://citystarbrewing.com/wp-content/uploads/2017/05/summittacos.png
END:VEVENT
BEGIN:VEVENT
DTSTART;TZID=America/Denver:20211218T120000
DTEND;TZID=America/Denver:20211218T210000
DTSTAMP:20260421T231816
CREATED:20211205T202249Z
LAST-MODIFIED:20211205T202249Z
UID:10001777-1639828800-1639861200@citystarbrewing.com
SUMMARY:Blueberry Pale Ale
DESCRIPTION:Pale ale brewed with Norwegian farmhouse kveik yeast and dry hopped with mosaic hops and blueberries. 5.7% ABV. \nFood Truck: Sweaty Moose\nMusic: Wolf Loescher
URL:https://citystarbrewing.com/event/blueberry-pale-ale/
LOCATION:CO
CATEGORIES:Beer Releases,Events
ATTACH;FMTTYPE=image/png:https://citystarbrewing.com/wp-content/uploads/2021/12/Screen-Shot-2021-12-05-at-1.18.34-PM.png
END:VEVENT
BEGIN:VEVENT
DTSTART;TZID=America/Denver:20211218T170000
DTEND;TZID=America/Denver:20211218T200000
DTSTAMP:20260421T231816
CREATED:20190731T212720Z
LAST-MODIFIED:20191014T194901Z
UID:10001081-1639846800-1639857600@citystarbrewing.com
SUMMARY:Summit Tacos
DESCRIPTION:Summit Tacos proudly serves authentic Mexican food and they love to share our passion for our food and our culture. Visit at 237 Collyer Street in Longmont and select food truck pop-ups. \nhttps://eatsummittacos.com
URL:https://citystarbrewing.com/event/summit-tacos/2021-12-18/
LOCATION:321 Mountain Avenue\, Berthoud\, CO\, 80513\, United States
CATEGORIES:Events,Food Trucks
ATTACH;FMTTYPE=image/png:https://citystarbrewing.com/wp-content/uploads/2017/05/summittacos.png
END:VEVENT
BEGIN:VEVENT
DTSTART;TZID=America/Denver:20211219T170000
DTEND;TZID=America/Denver:20211219T200000
DTSTAMP:20260421T231816
CREATED:20190731T212720Z
LAST-MODIFIED:20191014T194901Z
UID:10001082-1639933200-1639944000@citystarbrewing.com
SUMMARY:Summit Tacos
DESCRIPTION:Summit Tacos proudly serves authentic Mexican food and they love to share our passion for our food and our culture. Visit at 237 Collyer Street in Longmont and select food truck pop-ups. \nhttps://eatsummittacos.com
URL:https://citystarbrewing.com/event/summit-tacos/2021-12-19/
LOCATION:321 Mountain Avenue\, Berthoud\, CO\, 80513\, United States
CATEGORIES:Events,Food Trucks
ATTACH;FMTTYPE=image/png:https://citystarbrewing.com/wp-content/uploads/2017/05/summittacos.png
END:VEVENT
BEGIN:VEVENT
DTSTART;TZID=America/Denver:20211220T170000
DTEND;TZID=America/Denver:20211220T200000
DTSTAMP:20260421T231816
CREATED:20190731T212720Z
LAST-MODIFIED:20191014T194901Z
UID:10001083-1640019600-1640030400@citystarbrewing.com
SUMMARY:Summit Tacos
DESCRIPTION:Summit Tacos proudly serves authentic Mexican food and they love to share our passion for our food and our culture. Visit at 237 Collyer Street in Longmont and select food truck pop-ups. \nhttps://eatsummittacos.com
URL:https://citystarbrewing.com/event/summit-tacos/2021-12-20/
LOCATION:321 Mountain Avenue\, Berthoud\, CO\, 80513\, United States
CATEGORIES:Events,Food Trucks
ATTACH;FMTTYPE=image/png:https://citystarbrewing.com/wp-content/uploads/2017/05/summittacos.png
END:VEVENT
BEGIN:VEVENT
DTSTART;TZID=America/Denver:20211221T170000
DTEND;TZID=America/Denver:20211221T200000
DTSTAMP:20260421T231816
CREATED:20190731T212720Z
LAST-MODIFIED:20191014T194901Z
UID:10001084-1640106000-1640116800@citystarbrewing.com
SUMMARY:Summit Tacos
DESCRIPTION:Summit Tacos proudly serves authentic Mexican food and they love to share our passion for our food and our culture. Visit at 237 Collyer Street in Longmont and select food truck pop-ups. \nhttps://eatsummittacos.com
URL:https://citystarbrewing.com/event/summit-tacos/2021-12-21/
LOCATION:321 Mountain Avenue\, Berthoud\, CO\, 80513\, United States
CATEGORIES:Events,Food Trucks
ATTACH;FMTTYPE=image/png:https://citystarbrewing.com/wp-content/uploads/2017/05/summittacos.png
END:VEVENT
BEGIN:VEVENT
DTSTART;TZID=America/Denver:20211222T170000
DTEND;TZID=America/Denver:20211222T200000
DTSTAMP:20260421T231816
CREATED:20190731T212720Z
LAST-MODIFIED:20191014T194901Z
UID:10001085-1640192400-1640203200@citystarbrewing.com
SUMMARY:Summit Tacos
DESCRIPTION:Summit Tacos proudly serves authentic Mexican food and they love to share our passion for our food and our culture. Visit at 237 Collyer Street in Longmont and select food truck pop-ups. \nhttps://eatsummittacos.com
URL:https://citystarbrewing.com/event/summit-tacos/2021-12-22/
LOCATION:321 Mountain Avenue\, Berthoud\, CO\, 80513\, United States
CATEGORIES:Events,Food Trucks
ATTACH;FMTTYPE=image/png:https://citystarbrewing.com/wp-content/uploads/2017/05/summittacos.png
END:VEVENT
BEGIN:VEVENT
DTSTART;TZID=America/Denver:20211223T170000
DTEND;TZID=America/Denver:20211223T200000
DTSTAMP:20260421T231816
CREATED:20190731T212720Z
LAST-MODIFIED:20191014T194901Z
UID:10001086-1640278800-1640289600@citystarbrewing.com
SUMMARY:Summit Tacos
DESCRIPTION:Summit Tacos proudly serves authentic Mexican food and they love to share our passion for our food and our culture. Visit at 237 Collyer Street in Longmont and select food truck pop-ups. \nhttps://eatsummittacos.com
URL:https://citystarbrewing.com/event/summit-tacos/2021-12-23/
LOCATION:321 Mountain Avenue\, Berthoud\, CO\, 80513\, United States
CATEGORIES:Events,Food Trucks
ATTACH;FMTTYPE=image/png:https://citystarbrewing.com/wp-content/uploads/2017/05/summittacos.png
END:VEVENT
BEGIN:VEVENT
DTSTART;TZID=America/Denver:20211224T170000
DTEND;TZID=America/Denver:20211224T200000
DTSTAMP:20260421T231816
CREATED:20190731T212720Z
LAST-MODIFIED:20191014T194901Z
UID:10001087-1640365200-1640376000@citystarbrewing.com
SUMMARY:Summit Tacos
DESCRIPTION:Summit Tacos proudly serves authentic Mexican food and they love to share our passion for our food and our culture. Visit at 237 Collyer Street in Longmont and select food truck pop-ups. \nhttps://eatsummittacos.com
URL:https://citystarbrewing.com/event/summit-tacos/2021-12-24/
LOCATION:321 Mountain Avenue\, Berthoud\, CO\, 80513\, United States
CATEGORIES:Events,Food Trucks
ATTACH;FMTTYPE=image/png:https://citystarbrewing.com/wp-content/uploads/2017/05/summittacos.png
END:VEVENT
END:VCALENDAR