BEGIN:VCALENDAR
VERSION:2.0
PRODID:-//City Star Brewing - ECPv6.15.20//NONSGML v1.0//EN
CALSCALE:GREGORIAN
METHOD:PUBLISH
X-ORIGINAL-URL:https://citystarbrewing.com
X-WR-CALDESC:Events for City Star Brewing
REFRESH-INTERVAL;VALUE=DURATION:PT1H
X-Robots-Tag:noindex
X-PUBLISHED-TTL:PT1H
BEGIN:VTIMEZONE
TZID:America/Denver
BEGIN:DAYLIGHT
TZOFFSETFROM:-0700
TZOFFSETTO:-0600
TZNAME:MDT
DTSTART:20200308T090000
END:DAYLIGHT
BEGIN:STANDARD
TZOFFSETFROM:-0600
TZOFFSETTO:-0700
TZNAME:MST
DTSTART:20201101T080000
END:STANDARD
BEGIN:DAYLIGHT
TZOFFSETFROM:-0700
TZOFFSETTO:-0600
TZNAME:MDT
DTSTART:20210314T090000
END:DAYLIGHT
BEGIN:STANDARD
TZOFFSETFROM:-0600
TZOFFSETTO:-0700
TZNAME:MST
DTSTART:20211107T080000
END:STANDARD
BEGIN:DAYLIGHT
TZOFFSETFROM:-0700
TZOFFSETTO:-0600
TZNAME:MDT
DTSTART:20220313T090000
END:DAYLIGHT
BEGIN:STANDARD
TZOFFSETFROM:-0600
TZOFFSETTO:-0700
TZNAME:MST
DTSTART:20221106T080000
END:STANDARD
END:VTIMEZONE
BEGIN:VEVENT
DTSTART;TZID=America/Denver:20211101T170000
DTEND;TZID=America/Denver:20211101T200000
DTSTAMP:20260422T011039
CREATED:20190731T212720Z
LAST-MODIFIED:20191014T194901Z
UID:10001034-1635786000-1635796800@citystarbrewing.com
SUMMARY:Summit Tacos
DESCRIPTION:Summit Tacos proudly serves authentic Mexican food and they love to share our passion for our food and our culture. Visit at 237 Collyer Street in Longmont and select food truck pop-ups. \nhttps://eatsummittacos.com
URL:https://citystarbrewing.com/event/summit-tacos/2021-11-01/
LOCATION:321 Mountain Avenue\, Berthoud\, CO\, 80513\, United States
CATEGORIES:Events,Food Trucks
ATTACH;FMTTYPE=image/png:https://citystarbrewing.com/wp-content/uploads/2017/05/summittacos.png
END:VEVENT
BEGIN:VEVENT
DTSTART;TZID=America/Denver:20211102T170000
DTEND;TZID=America/Denver:20211102T200000
DTSTAMP:20260422T011039
CREATED:20190731T212720Z
LAST-MODIFIED:20191014T194901Z
UID:10001035-1635872400-1635883200@citystarbrewing.com
SUMMARY:Summit Tacos
DESCRIPTION:Summit Tacos proudly serves authentic Mexican food and they love to share our passion for our food and our culture. Visit at 237 Collyer Street in Longmont and select food truck pop-ups. \nhttps://eatsummittacos.com
URL:https://citystarbrewing.com/event/summit-tacos/2021-11-02/
LOCATION:321 Mountain Avenue\, Berthoud\, CO\, 80513\, United States
CATEGORIES:Events,Food Trucks
ATTACH;FMTTYPE=image/png:https://citystarbrewing.com/wp-content/uploads/2017/05/summittacos.png
END:VEVENT
BEGIN:VEVENT
DTSTART;TZID=America/Denver:20211103T160000
DTEND;TZID=America/Denver:20211103T200000
DTSTAMP:20260422T011039
CREATED:20200904T171736Z
LAST-MODIFIED:20260102T231616Z
UID:10001510-1635955200-1635969600@citystarbrewing.com
SUMMARY:Radical Sasquatch Dumplings
DESCRIPTION:Radical Sasquatch Dumpling Company Food Truck services the Denver metro area specializing in the world wide culinary phenomena known as the dumpling. \nDumplings are found throughout the world in various shapes\, sizes and textures and combines a delightful flavor profile into a few bites. They range from sweet to savory\, steamed to fried\, chewy to crunchy and everything in between. Countless cultures have developed their own styles of these brilliant and satisfying pockets of filled dough. \nMatt Faurot and Lucas Doverspike started Radical Sasquatch Dumpling Company in 2017 to show people how versatile and wide ranging the dumpling can be. With so many different cultural styles and flavors to play around with\, it is fun and easy to get creative with new and delicious combinations of fillings\, dough and cooking methods. We hope you love and devour these amazing creations as much much as we do and remember to always\, STAY RADICAL! \nView schedule\, menu\, PRE-ORDER options (awesome!) and more: https://www.radicalsasquatch.com \nMENU\nDUMPLINGS \nPORK GYOZA\nJapanese style “pot stickers” soft and chewy\, golden and crispy all in the same bite.\nSm (3pcs) 7.00 / Lg (6pcs) 12.00 \nPOTATO KIELBASA AND SAUERKRAUT PIEROGIES\nThis Polish dumpling is pan fried in butter then topped with caramelized onions\, sour cream and chives.\nSm (3pcs) 7.50 / Lg (6pcs) 12.75 \nPHILLY MAC BUNS\nThese delicious concoctions combine two American favorites. Philly cheese steak and Mac N’ Cheese wrapped in a steamed bun that is pan fried on each side and served with a side of green chile cream sauce.\nSm (1pc) 6.75 / Lg (2pcs) 11.25 \nBUFFALO CHICKEN DUMPLINGS\nFilled with dark meat chicken\, smoked paprika onions\, blue cheese crumbles and cream cheese. Deep fried and tossed in buffalo sauce to coat then sprinkled with blue cheese crumbles and chives. Served with a side of ranch.\nSm (3pcs) 7.75 / Lg (6pcs) 13.25 \nGARLIC PARMESAN CHICKEN DUMPLINGS\nDark meat chicken\, roasted garlic\, sauteed onions\, parmesan and cream cheese on the inside. Deep fried and coated in garlic sage butter and topped with parmesan cheese.\nSm (3pcs) 7.75 / Lg (6pcs) 13.25 \nJERK CHICKEN DUMPLINGS\nInspired by Caribbean flavors\, this dumpling is filled with dark meat chicken\, roasted poblano peppers\, smoked paprika onions and cream cheese then deep fried and tossed in our house made sweet and spicy jerk sauce.\nSm (3pcs) 7.75 / Lg (6pcs) 13.25 \nCHEDDAR AND POTATO PIEROGIES\nCheddar cheese and golden potatoes fill this delicious pierogi that is deep fried and topped with sour cream and chives. Vegetarian\nSm (3pcs) 7.00 / Lg (6pcs) 12.00 \nSIDES \nPARMESAN GARLIC SAGE FRIES\nGarlic sage butter and parmesan cheese cover crispy golden fries.\n4.75 \nBUFFALO FRIES\nShoestring fries drizzled with buffalo sauce and sprinkled with blue cheese crumbles.\n4.50 \nBEAST FRIES!\nThe incredible combination of our Parmesan Garlic Sage Fries and our Buffalo Fries. Garlic sage butter and buffalo sauce with parmesan and blue cheese crumbles.\n6.00 \nDESSERT \nCHEESECAKE FRIED BUN\nRich cheesecake filling inside a bun that is deep fried and topped with your choice of caramel sauce\, mixed berry sauce\, cinnamon sugar\, whipped cream or powdered sugar.\n5.00 \n*menu may vary depending on location\, event and availability
URL:https://citystarbrewing.com/event/radical-sasquatch-dumpling-co/2021-11-03/
CATEGORIES:Events,Food Trucks
ATTACH;FMTTYPE=image/jpeg:https://citystarbrewing.com/wp-content/uploads/2020/09/radicalsasquatch-1.jpg
END:VEVENT
BEGIN:VEVENT
DTSTART;TZID=America/Denver:20211103T170000
DTEND;TZID=America/Denver:20211103T200000
DTSTAMP:20260422T011039
CREATED:20190731T212720Z
LAST-MODIFIED:20191014T194901Z
UID:10001036-1635958800-1635969600@citystarbrewing.com
SUMMARY:Summit Tacos
DESCRIPTION:Summit Tacos proudly serves authentic Mexican food and they love to share our passion for our food and our culture. Visit at 237 Collyer Street in Longmont and select food truck pop-ups. \nhttps://eatsummittacos.com
URL:https://citystarbrewing.com/event/summit-tacos/2021-11-03/
LOCATION:321 Mountain Avenue\, Berthoud\, CO\, 80513\, United States
CATEGORIES:Events,Food Trucks
ATTACH;FMTTYPE=image/png:https://citystarbrewing.com/wp-content/uploads/2017/05/summittacos.png
END:VEVENT
BEGIN:VEVENT
DTSTART;TZID=America/Denver:20211104T170000
DTEND;TZID=America/Denver:20211104T200000
DTSTAMP:20260422T011039
CREATED:20190731T212720Z
LAST-MODIFIED:20191014T194901Z
UID:10001037-1636045200-1636056000@citystarbrewing.com
SUMMARY:Summit Tacos
DESCRIPTION:Summit Tacos proudly serves authentic Mexican food and they love to share our passion for our food and our culture. Visit at 237 Collyer Street in Longmont and select food truck pop-ups. \nhttps://eatsummittacos.com
URL:https://citystarbrewing.com/event/summit-tacos/2021-11-04/
LOCATION:321 Mountain Avenue\, Berthoud\, CO\, 80513\, United States
CATEGORIES:Events,Food Trucks
ATTACH;FMTTYPE=image/png:https://citystarbrewing.com/wp-content/uploads/2017/05/summittacos.png
END:VEVENT
BEGIN:VEVENT
DTSTART;TZID=America/Denver:20211105T170000
DTEND;TZID=America/Denver:20211105T200000
DTSTAMP:20260422T011039
CREATED:20190731T212720Z
LAST-MODIFIED:20191014T194901Z
UID:10001038-1636131600-1636142400@citystarbrewing.com
SUMMARY:Summit Tacos
DESCRIPTION:Summit Tacos proudly serves authentic Mexican food and they love to share our passion for our food and our culture. Visit at 237 Collyer Street in Longmont and select food truck pop-ups. \nhttps://eatsummittacos.com
URL:https://citystarbrewing.com/event/summit-tacos/2021-11-05/
LOCATION:321 Mountain Avenue\, Berthoud\, CO\, 80513\, United States
CATEGORIES:Events,Food Trucks
ATTACH;FMTTYPE=image/png:https://citystarbrewing.com/wp-content/uploads/2017/05/summittacos.png
END:VEVENT
BEGIN:VEVENT
DTSTART;TZID=America/Denver:20211106T170000
DTEND;TZID=America/Denver:20211106T200000
DTSTAMP:20260422T011039
CREATED:20190731T212720Z
LAST-MODIFIED:20191014T194901Z
UID:10001039-1636218000-1636228800@citystarbrewing.com
SUMMARY:Summit Tacos
DESCRIPTION:Summit Tacos proudly serves authentic Mexican food and they love to share our passion for our food and our culture. Visit at 237 Collyer Street in Longmont and select food truck pop-ups. \nhttps://eatsummittacos.com
URL:https://citystarbrewing.com/event/summit-tacos/2021-11-06/
LOCATION:321 Mountain Avenue\, Berthoud\, CO\, 80513\, United States
CATEGORIES:Events,Food Trucks
ATTACH;FMTTYPE=image/png:https://citystarbrewing.com/wp-content/uploads/2017/05/summittacos.png
END:VEVENT
BEGIN:VEVENT
DTSTART;TZID=America/Denver:20211107T170000
DTEND;TZID=America/Denver:20211107T200000
DTSTAMP:20260422T011039
CREATED:20190731T212720Z
LAST-MODIFIED:20191014T194901Z
UID:10001040-1636304400-1636315200@citystarbrewing.com
SUMMARY:Summit Tacos
DESCRIPTION:Summit Tacos proudly serves authentic Mexican food and they love to share our passion for our food and our culture. Visit at 237 Collyer Street in Longmont and select food truck pop-ups. \nhttps://eatsummittacos.com
URL:https://citystarbrewing.com/event/summit-tacos/2021-11-07/
LOCATION:321 Mountain Avenue\, Berthoud\, CO\, 80513\, United States
CATEGORIES:Events,Food Trucks
ATTACH;FMTTYPE=image/png:https://citystarbrewing.com/wp-content/uploads/2017/05/summittacos.png
END:VEVENT
BEGIN:VEVENT
DTSTART;TZID=America/Denver:20211108T170000
DTEND;TZID=America/Denver:20211108T200000
DTSTAMP:20260422T011039
CREATED:20190731T212720Z
LAST-MODIFIED:20191014T194901Z
UID:10001041-1636390800-1636401600@citystarbrewing.com
SUMMARY:Summit Tacos
DESCRIPTION:Summit Tacos proudly serves authentic Mexican food and they love to share our passion for our food and our culture. Visit at 237 Collyer Street in Longmont and select food truck pop-ups. \nhttps://eatsummittacos.com
URL:https://citystarbrewing.com/event/summit-tacos/2021-11-08/
LOCATION:321 Mountain Avenue\, Berthoud\, CO\, 80513\, United States
CATEGORIES:Events,Food Trucks
ATTACH;FMTTYPE=image/png:https://citystarbrewing.com/wp-content/uploads/2017/05/summittacos.png
END:VEVENT
BEGIN:VEVENT
DTSTART;TZID=America/Denver:20211109T170000
DTEND;TZID=America/Denver:20211109T200000
DTSTAMP:20260422T011039
CREATED:20190731T212720Z
LAST-MODIFIED:20191014T194901Z
UID:10001042-1636477200-1636488000@citystarbrewing.com
SUMMARY:Summit Tacos
DESCRIPTION:Summit Tacos proudly serves authentic Mexican food and they love to share our passion for our food and our culture. Visit at 237 Collyer Street in Longmont and select food truck pop-ups. \nhttps://eatsummittacos.com
URL:https://citystarbrewing.com/event/summit-tacos/2021-11-09/
LOCATION:321 Mountain Avenue\, Berthoud\, CO\, 80513\, United States
CATEGORIES:Events,Food Trucks
ATTACH;FMTTYPE=image/png:https://citystarbrewing.com/wp-content/uploads/2017/05/summittacos.png
END:VEVENT
BEGIN:VEVENT
DTSTART;TZID=America/Denver:20211110T160000
DTEND;TZID=America/Denver:20211110T200000
DTSTAMP:20260422T011039
CREATED:20210630T172536Z
LAST-MODIFIED:20210926T204733Z
UID:10001697-1636560000-1636574400@citystarbrewing.com
SUMMARY:Chase 'N' Smoke BBQ
DESCRIPTION:​Chase’N’Smoke BBQ was first started as a competition cooking team in 2017\, named after their son Chase.  Veteran owned and operated out of Firestone Colorado by Dan & Jacque Milam\, they are looking to bring their passion for BBQ to you.  Seven years ago Jacque took Dan to his first BBQ competition in Frisco\, CO as a spectator.  They were immediately hooked!  Since then\, they have grown this hobby into a business they love!   \nWe love BBQ.  Not just the flavor\, but the experience.  We have created many lifetime memories with our families and friends around campfires\, grills and smokers.  When we BBQ…it just feels good.  We want to be a part of creating memorable experiences for you through our interpretation of BBQ.   We pair the right flavor of smoke with the right foods\, and our rubs are packed with flavor.  We select only quality proteins and ingredients and apply competition level techniques.  The results… uncompromised quality and a unique menu.  \nOur mission:  To serve food that is familiar but new\, comforting yet exciting\, delicious and hopefully addicting!  \nhttps://www.cnsbbq.com
URL:https://citystarbrewing.com/event/chase-n-smoke-bbq/2021-11-10/
LOCATION:CO
CATEGORIES:Events,Food Trucks
END:VEVENT
BEGIN:VEVENT
DTSTART;TZID=America/Denver:20211110T170000
DTEND;TZID=America/Denver:20211110T200000
DTSTAMP:20260422T011039
CREATED:20190731T212720Z
LAST-MODIFIED:20191014T194901Z
UID:10001043-1636563600-1636574400@citystarbrewing.com
SUMMARY:Summit Tacos
DESCRIPTION:Summit Tacos proudly serves authentic Mexican food and they love to share our passion for our food and our culture. Visit at 237 Collyer Street in Longmont and select food truck pop-ups. \nhttps://eatsummittacos.com
URL:https://citystarbrewing.com/event/summit-tacos/2021-11-10/
LOCATION:321 Mountain Avenue\, Berthoud\, CO\, 80513\, United States
CATEGORIES:Events,Food Trucks
ATTACH;FMTTYPE=image/png:https://citystarbrewing.com/wp-content/uploads/2017/05/summittacos.png
END:VEVENT
BEGIN:VEVENT
DTSTART;TZID=America/Denver:20211111T170000
DTEND;TZID=America/Denver:20211111T200000
DTSTAMP:20260422T011039
CREATED:20190731T212720Z
LAST-MODIFIED:20191014T194901Z
UID:10001044-1636650000-1636660800@citystarbrewing.com
SUMMARY:Summit Tacos
DESCRIPTION:Summit Tacos proudly serves authentic Mexican food and they love to share our passion for our food and our culture. Visit at 237 Collyer Street in Longmont and select food truck pop-ups. \nhttps://eatsummittacos.com
URL:https://citystarbrewing.com/event/summit-tacos/2021-11-11/
LOCATION:321 Mountain Avenue\, Berthoud\, CO\, 80513\, United States
CATEGORIES:Events,Food Trucks
ATTACH;FMTTYPE=image/png:https://citystarbrewing.com/wp-content/uploads/2017/05/summittacos.png
END:VEVENT
BEGIN:VEVENT
DTSTART;TZID=America/Denver:20211112T170000
DTEND;TZID=America/Denver:20211112T200000
DTSTAMP:20260422T011039
CREATED:20190731T212720Z
LAST-MODIFIED:20191014T194901Z
UID:10001045-1636736400-1636747200@citystarbrewing.com
SUMMARY:Summit Tacos
DESCRIPTION:Summit Tacos proudly serves authentic Mexican food and they love to share our passion for our food and our culture. Visit at 237 Collyer Street in Longmont and select food truck pop-ups. \nhttps://eatsummittacos.com
URL:https://citystarbrewing.com/event/summit-tacos/2021-11-12/
LOCATION:321 Mountain Avenue\, Berthoud\, CO\, 80513\, United States
CATEGORIES:Events,Food Trucks
ATTACH;FMTTYPE=image/png:https://citystarbrewing.com/wp-content/uploads/2017/05/summittacos.png
END:VEVENT
BEGIN:VEVENT
DTSTART;TZID=America/Denver:20211113T120000
DTEND;TZID=America/Denver:20211113T210000
DTSTAMP:20260422T011039
CREATED:20200611T214212Z
LAST-MODIFIED:20211108T153601Z
UID:10001457-1636804800-1636837200@citystarbrewing.com
SUMMARY:Beer Release: Hazy Cashmere
DESCRIPTION:Hazy IPA double dry hopped with cashmere hops\, lending a flavor and aroma profile of stone fruit and tropical fruit. 6.5% ABV \nOrder cans to-go at citystarpickup.com
URL:https://citystarbrewing.com/event/beer-release-hazy-cashmere/2021-11-13/
LOCATION:CO
CATEGORIES:Beer Releases,Events
ATTACH;FMTTYPE=image/png:https://citystarbrewing.com/wp-content/uploads/2020/06/Screen-Shot-2021-11-04-at-3.44.22-PM.png
END:VEVENT
BEGIN:VEVENT
DTSTART;TZID=America/Denver:20211113T170000
DTEND;TZID=America/Denver:20211113T200000
DTSTAMP:20260422T011039
CREATED:20190731T212720Z
LAST-MODIFIED:20191014T194901Z
UID:10001046-1636822800-1636833600@citystarbrewing.com
SUMMARY:Summit Tacos
DESCRIPTION:Summit Tacos proudly serves authentic Mexican food and they love to share our passion for our food and our culture. Visit at 237 Collyer Street in Longmont and select food truck pop-ups. \nhttps://eatsummittacos.com
URL:https://citystarbrewing.com/event/summit-tacos/2021-11-13/
LOCATION:321 Mountain Avenue\, Berthoud\, CO\, 80513\, United States
CATEGORIES:Events,Food Trucks
ATTACH;FMTTYPE=image/png:https://citystarbrewing.com/wp-content/uploads/2017/05/summittacos.png
END:VEVENT
BEGIN:VEVENT
DTSTART;TZID=America/Denver:20211114T170000
DTEND;TZID=America/Denver:20211114T200000
DTSTAMP:20260422T011039
CREATED:20190731T212720Z
LAST-MODIFIED:20191014T194901Z
UID:10001047-1636909200-1636920000@citystarbrewing.com
SUMMARY:Summit Tacos
DESCRIPTION:Summit Tacos proudly serves authentic Mexican food and they love to share our passion for our food and our culture. Visit at 237 Collyer Street in Longmont and select food truck pop-ups. \nhttps://eatsummittacos.com
URL:https://citystarbrewing.com/event/summit-tacos/2021-11-14/
LOCATION:321 Mountain Avenue\, Berthoud\, CO\, 80513\, United States
CATEGORIES:Events,Food Trucks
ATTACH;FMTTYPE=image/png:https://citystarbrewing.com/wp-content/uploads/2017/05/summittacos.png
END:VEVENT
BEGIN:VEVENT
DTSTART;TZID=America/Denver:20211115T170000
DTEND;TZID=America/Denver:20211115T200000
DTSTAMP:20260422T011039
CREATED:20190731T212720Z
LAST-MODIFIED:20191014T194901Z
UID:10001048-1636995600-1637006400@citystarbrewing.com
SUMMARY:Summit Tacos
DESCRIPTION:Summit Tacos proudly serves authentic Mexican food and they love to share our passion for our food and our culture. Visit at 237 Collyer Street in Longmont and select food truck pop-ups. \nhttps://eatsummittacos.com
URL:https://citystarbrewing.com/event/summit-tacos/2021-11-15/
LOCATION:321 Mountain Avenue\, Berthoud\, CO\, 80513\, United States
CATEGORIES:Events,Food Trucks
ATTACH;FMTTYPE=image/png:https://citystarbrewing.com/wp-content/uploads/2017/05/summittacos.png
END:VEVENT
BEGIN:VEVENT
DTSTART;TZID=America/Denver:20211116T170000
DTEND;TZID=America/Denver:20211116T200000
DTSTAMP:20260422T011039
CREATED:20190731T212720Z
LAST-MODIFIED:20191014T194901Z
UID:10001049-1637082000-1637092800@citystarbrewing.com
SUMMARY:Summit Tacos
DESCRIPTION:Summit Tacos proudly serves authentic Mexican food and they love to share our passion for our food and our culture. Visit at 237 Collyer Street in Longmont and select food truck pop-ups. \nhttps://eatsummittacos.com
URL:https://citystarbrewing.com/event/summit-tacos/2021-11-16/
LOCATION:321 Mountain Avenue\, Berthoud\, CO\, 80513\, United States
CATEGORIES:Events,Food Trucks
ATTACH;FMTTYPE=image/png:https://citystarbrewing.com/wp-content/uploads/2017/05/summittacos.png
END:VEVENT
BEGIN:VEVENT
DTSTART;TZID=America/Denver:20211117T170000
DTEND;TZID=America/Denver:20211117T200000
DTSTAMP:20260422T011039
CREATED:20190731T212720Z
LAST-MODIFIED:20191014T194901Z
UID:10001050-1637168400-1637179200@citystarbrewing.com
SUMMARY:Summit Tacos
DESCRIPTION:Summit Tacos proudly serves authentic Mexican food and they love to share our passion for our food and our culture. Visit at 237 Collyer Street in Longmont and select food truck pop-ups. \nhttps://eatsummittacos.com
URL:https://citystarbrewing.com/event/summit-tacos/2021-11-17/
LOCATION:321 Mountain Avenue\, Berthoud\, CO\, 80513\, United States
CATEGORIES:Events,Food Trucks
ATTACH;FMTTYPE=image/png:https://citystarbrewing.com/wp-content/uploads/2017/05/summittacos.png
END:VEVENT
BEGIN:VEVENT
DTSTART;TZID=America/Denver:20211118T170000
DTEND;TZID=America/Denver:20211118T200000
DTSTAMP:20260422T011039
CREATED:20190731T212720Z
LAST-MODIFIED:20191014T194901Z
UID:10001051-1637254800-1637265600@citystarbrewing.com
SUMMARY:Summit Tacos
DESCRIPTION:Summit Tacos proudly serves authentic Mexican food and they love to share our passion for our food and our culture. Visit at 237 Collyer Street in Longmont and select food truck pop-ups. \nhttps://eatsummittacos.com
URL:https://citystarbrewing.com/event/summit-tacos/2021-11-18/
LOCATION:321 Mountain Avenue\, Berthoud\, CO\, 80513\, United States
CATEGORIES:Events,Food Trucks
ATTACH;FMTTYPE=image/png:https://citystarbrewing.com/wp-content/uploads/2017/05/summittacos.png
END:VEVENT
BEGIN:VEVENT
DTSTART;TZID=America/Denver:20211119T170000
DTEND;TZID=America/Denver:20211119T200000
DTSTAMP:20260422T011039
CREATED:20190731T212720Z
LAST-MODIFIED:20191014T194901Z
UID:10001052-1637341200-1637352000@citystarbrewing.com
SUMMARY:Summit Tacos
DESCRIPTION:Summit Tacos proudly serves authentic Mexican food and they love to share our passion for our food and our culture. Visit at 237 Collyer Street in Longmont and select food truck pop-ups. \nhttps://eatsummittacos.com
URL:https://citystarbrewing.com/event/summit-tacos/2021-11-19/
LOCATION:321 Mountain Avenue\, Berthoud\, CO\, 80513\, United States
CATEGORIES:Events,Food Trucks
ATTACH;FMTTYPE=image/png:https://citystarbrewing.com/wp-content/uploads/2017/05/summittacos.png
END:VEVENT
BEGIN:VEVENT
DTSTART;TZID=America/Denver:20211120T170000
DTEND;TZID=America/Denver:20211120T200000
DTSTAMP:20260422T011039
CREATED:20190731T212720Z
LAST-MODIFIED:20191014T194901Z
UID:10001053-1637427600-1637438400@citystarbrewing.com
SUMMARY:Summit Tacos
DESCRIPTION:Summit Tacos proudly serves authentic Mexican food and they love to share our passion for our food and our culture. Visit at 237 Collyer Street in Longmont and select food truck pop-ups. \nhttps://eatsummittacos.com
URL:https://citystarbrewing.com/event/summit-tacos/2021-11-20/
LOCATION:321 Mountain Avenue\, Berthoud\, CO\, 80513\, United States
CATEGORIES:Events,Food Trucks
ATTACH;FMTTYPE=image/png:https://citystarbrewing.com/wp-content/uploads/2017/05/summittacos.png
END:VEVENT
BEGIN:VEVENT
DTSTART;TZID=America/Denver:20211121T170000
DTEND;TZID=America/Denver:20211121T200000
DTSTAMP:20260422T011039
CREATED:20190731T212720Z
LAST-MODIFIED:20191014T194901Z
UID:10001054-1637514000-1637524800@citystarbrewing.com
SUMMARY:Summit Tacos
DESCRIPTION:Summit Tacos proudly serves authentic Mexican food and they love to share our passion for our food and our culture. Visit at 237 Collyer Street in Longmont and select food truck pop-ups. \nhttps://eatsummittacos.com
URL:https://citystarbrewing.com/event/summit-tacos/2021-11-21/
LOCATION:321 Mountain Avenue\, Berthoud\, CO\, 80513\, United States
CATEGORIES:Events,Food Trucks
ATTACH;FMTTYPE=image/png:https://citystarbrewing.com/wp-content/uploads/2017/05/summittacos.png
END:VEVENT
BEGIN:VEVENT
DTSTART;TZID=America/Denver:20211122T170000
DTEND;TZID=America/Denver:20211122T200000
DTSTAMP:20260422T011039
CREATED:20190731T212720Z
LAST-MODIFIED:20191014T194901Z
UID:10001055-1637600400-1637611200@citystarbrewing.com
SUMMARY:Summit Tacos
DESCRIPTION:Summit Tacos proudly serves authentic Mexican food and they love to share our passion for our food and our culture. Visit at 237 Collyer Street in Longmont and select food truck pop-ups. \nhttps://eatsummittacos.com
URL:https://citystarbrewing.com/event/summit-tacos/2021-11-22/
LOCATION:321 Mountain Avenue\, Berthoud\, CO\, 80513\, United States
CATEGORIES:Events,Food Trucks
ATTACH;FMTTYPE=image/png:https://citystarbrewing.com/wp-content/uploads/2017/05/summittacos.png
END:VEVENT
BEGIN:VEVENT
DTSTART;TZID=America/Denver:20211123T170000
DTEND;TZID=America/Denver:20211123T200000
DTSTAMP:20260422T011039
CREATED:20190731T212720Z
LAST-MODIFIED:20191014T194901Z
UID:10001056-1637686800-1637697600@citystarbrewing.com
SUMMARY:Summit Tacos
DESCRIPTION:Summit Tacos proudly serves authentic Mexican food and they love to share our passion for our food and our culture. Visit at 237 Collyer Street in Longmont and select food truck pop-ups. \nhttps://eatsummittacos.com
URL:https://citystarbrewing.com/event/summit-tacos/2021-11-23/
LOCATION:321 Mountain Avenue\, Berthoud\, CO\, 80513\, United States
CATEGORIES:Events,Food Trucks
ATTACH;FMTTYPE=image/png:https://citystarbrewing.com/wp-content/uploads/2017/05/summittacos.png
END:VEVENT
BEGIN:VEVENT
DTSTART;TZID=America/Denver:20211124T170000
DTEND;TZID=America/Denver:20211124T200000
DTSTAMP:20260422T011039
CREATED:20190731T212720Z
LAST-MODIFIED:20191014T194901Z
UID:10001057-1637773200-1637784000@citystarbrewing.com
SUMMARY:Summit Tacos
DESCRIPTION:Summit Tacos proudly serves authentic Mexican food and they love to share our passion for our food and our culture. Visit at 237 Collyer Street in Longmont and select food truck pop-ups. \nhttps://eatsummittacos.com
URL:https://citystarbrewing.com/event/summit-tacos/2021-11-24/
LOCATION:321 Mountain Avenue\, Berthoud\, CO\, 80513\, United States
CATEGORIES:Events,Food Trucks
ATTACH;FMTTYPE=image/png:https://citystarbrewing.com/wp-content/uploads/2017/05/summittacos.png
END:VEVENT
BEGIN:VEVENT
DTSTART;TZID=America/Denver:20211125T170000
DTEND;TZID=America/Denver:20211125T200000
DTSTAMP:20260422T011039
CREATED:20190731T212720Z
LAST-MODIFIED:20191014T194901Z
UID:10001058-1637859600-1637870400@citystarbrewing.com
SUMMARY:Summit Tacos
DESCRIPTION:Summit Tacos proudly serves authentic Mexican food and they love to share our passion for our food and our culture. Visit at 237 Collyer Street in Longmont and select food truck pop-ups. \nhttps://eatsummittacos.com
URL:https://citystarbrewing.com/event/summit-tacos/2021-11-25/
LOCATION:321 Mountain Avenue\, Berthoud\, CO\, 80513\, United States
CATEGORIES:Events,Food Trucks
ATTACH;FMTTYPE=image/png:https://citystarbrewing.com/wp-content/uploads/2017/05/summittacos.png
END:VEVENT
BEGIN:VEVENT
DTSTART;TZID=America/Denver:20211126T120000
DTEND;TZID=America/Denver:20211126T210000
DTSTAMP:20260422T011039
CREATED:20210907T195436Z
LAST-MODIFIED:20211122T220129Z
UID:10001733-1637928000-1637960400@citystarbrewing.com
SUMMARY:Special Taproom Hours
DESCRIPTION:The taproom will be open today 12-9pm
URL:https://citystarbrewing.com/event/special-taproom-hours-3/2021-11-26/
LOCATION:CO
CATEGORIES:Events,Taproom Events
ATTACH;FMTTYPE=image/png:https://citystarbrewing.com/wp-content/uploads/2021/09/Screen-Shot-2021-11-22-at-2.58.58-PM.png
END:VEVENT
BEGIN:VEVENT
DTSTART;TZID=America/Denver:20211126T170000
DTEND;TZID=America/Denver:20211126T200000
DTSTAMP:20260422T011039
CREATED:20190731T212720Z
LAST-MODIFIED:20191014T194901Z
UID:10001059-1637946000-1637956800@citystarbrewing.com
SUMMARY:Summit Tacos
DESCRIPTION:Summit Tacos proudly serves authentic Mexican food and they love to share our passion for our food and our culture. Visit at 237 Collyer Street in Longmont and select food truck pop-ups. \nhttps://eatsummittacos.com
URL:https://citystarbrewing.com/event/summit-tacos/2021-11-26/
LOCATION:321 Mountain Avenue\, Berthoud\, CO\, 80513\, United States
CATEGORIES:Events,Food Trucks
ATTACH;FMTTYPE=image/png:https://citystarbrewing.com/wp-content/uploads/2017/05/summittacos.png
END:VEVENT
END:VCALENDAR