BEGIN:VCALENDAR
VERSION:2.0
PRODID:-//City Star Brewing - ECPv6.15.20//NONSGML v1.0//EN
CALSCALE:GREGORIAN
METHOD:PUBLISH
X-ORIGINAL-URL:https://citystarbrewing.com
X-WR-CALDESC:Events for City Star Brewing
REFRESH-INTERVAL;VALUE=DURATION:PT1H
X-Robots-Tag:noindex
X-PUBLISHED-TTL:PT1H
BEGIN:VTIMEZONE
TZID:America/Denver
BEGIN:DAYLIGHT
TZOFFSETFROM:-0700
TZOFFSETTO:-0600
TZNAME:MDT
DTSTART:20200308T090000
END:DAYLIGHT
BEGIN:STANDARD
TZOFFSETFROM:-0600
TZOFFSETTO:-0700
TZNAME:MST
DTSTART:20201101T080000
END:STANDARD
BEGIN:DAYLIGHT
TZOFFSETFROM:-0700
TZOFFSETTO:-0600
TZNAME:MDT
DTSTART:20210314T090000
END:DAYLIGHT
BEGIN:STANDARD
TZOFFSETFROM:-0600
TZOFFSETTO:-0700
TZNAME:MST
DTSTART:20211107T080000
END:STANDARD
BEGIN:DAYLIGHT
TZOFFSETFROM:-0700
TZOFFSETTO:-0600
TZNAME:MDT
DTSTART:20220313T090000
END:DAYLIGHT
BEGIN:STANDARD
TZOFFSETFROM:-0600
TZOFFSETTO:-0700
TZNAME:MST
DTSTART:20221106T080000
END:STANDARD
END:VTIMEZONE
BEGIN:VEVENT
DTSTART;TZID=America/Denver:20210801T170000
DTEND;TZID=America/Denver:20210801T193000
DTSTAMP:20260422T065318
CREATED:20190301T172416Z
LAST-MODIFIED:20210726T133730Z
UID:10000194-1627837200-1627846200@citystarbrewing.com
SUMMARY:Franklin Taggart
DESCRIPTION:From Dylan to Waylon\, classic and original Americana. \nhttp://www.franklintaggart.com/p/music.html
URL:https://citystarbrewing.com/event/franklin-taggart-and-erik-lunde/2021-08-01/
LOCATION:CO
CATEGORIES:Events,Live Music
ATTACH;FMTTYPE=image/png:https://citystarbrewing.com/wp-content/uploads/2015/05/franklintaggart.png
END:VEVENT
BEGIN:VEVENT
DTSTART;TZID=America/Denver:20210801T170000
DTEND;TZID=America/Denver:20210801T200000
DTSTAMP:20260422T065318
CREATED:20190731T212720Z
LAST-MODIFIED:20191014T194901Z
UID:10000942-1627837200-1627848000@citystarbrewing.com
SUMMARY:Summit Tacos
DESCRIPTION:Summit Tacos proudly serves authentic Mexican food and they love to share our passion for our food and our culture. Visit at 237 Collyer Street in Longmont and select food truck pop-ups. \nhttps://eatsummittacos.com
URL:https://citystarbrewing.com/event/summit-tacos/2021-08-01/
LOCATION:321 Mountain Avenue\, Berthoud\, CO\, 80513\, United States
CATEGORIES:Events,Food Trucks
ATTACH;FMTTYPE=image/png:https://citystarbrewing.com/wp-content/uploads/2017/05/summittacos.png
END:VEVENT
BEGIN:VEVENT
DTSTART;TZID=America/Denver:20210802T170000
DTEND;TZID=America/Denver:20210802T200000
DTSTAMP:20260422T065318
CREATED:20190731T212720Z
LAST-MODIFIED:20191014T194901Z
UID:10000943-1627923600-1627934400@citystarbrewing.com
SUMMARY:Summit Tacos
DESCRIPTION:Summit Tacos proudly serves authentic Mexican food and they love to share our passion for our food and our culture. Visit at 237 Collyer Street in Longmont and select food truck pop-ups. \nhttps://eatsummittacos.com
URL:https://citystarbrewing.com/event/summit-tacos/2021-08-02/
LOCATION:321 Mountain Avenue\, Berthoud\, CO\, 80513\, United States
CATEGORIES:Events,Food Trucks
ATTACH;FMTTYPE=image/png:https://citystarbrewing.com/wp-content/uploads/2017/05/summittacos.png
END:VEVENT
BEGIN:VEVENT
DTSTART;TZID=America/Denver:20210803T170000
DTEND;TZID=America/Denver:20210803T200000
DTSTAMP:20260422T065318
CREATED:20190731T212720Z
LAST-MODIFIED:20191014T194901Z
UID:10000944-1628010000-1628020800@citystarbrewing.com
SUMMARY:Summit Tacos
DESCRIPTION:Summit Tacos proudly serves authentic Mexican food and they love to share our passion for our food and our culture. Visit at 237 Collyer Street in Longmont and select food truck pop-ups. \nhttps://eatsummittacos.com
URL:https://citystarbrewing.com/event/summit-tacos/2021-08-03/
LOCATION:321 Mountain Avenue\, Berthoud\, CO\, 80513\, United States
CATEGORIES:Events,Food Trucks
ATTACH;FMTTYPE=image/png:https://citystarbrewing.com/wp-content/uploads/2017/05/summittacos.png
END:VEVENT
BEGIN:VEVENT
DTSTART;TZID=America/Denver:20210804T170000
DTEND;TZID=America/Denver:20210804T200000
DTSTAMP:20260422T065318
CREATED:20190731T212720Z
LAST-MODIFIED:20191014T194901Z
UID:10000945-1628096400-1628107200@citystarbrewing.com
SUMMARY:Summit Tacos
DESCRIPTION:Summit Tacos proudly serves authentic Mexican food and they love to share our passion for our food and our culture. Visit at 237 Collyer Street in Longmont and select food truck pop-ups. \nhttps://eatsummittacos.com
URL:https://citystarbrewing.com/event/summit-tacos/2021-08-04/
LOCATION:321 Mountain Avenue\, Berthoud\, CO\, 80513\, United States
CATEGORIES:Events,Food Trucks
ATTACH;FMTTYPE=image/png:https://citystarbrewing.com/wp-content/uploads/2017/05/summittacos.png
END:VEVENT
BEGIN:VEVENT
DTSTART;TZID=America/Denver:20210805T170000
DTEND;TZID=America/Denver:20210805T200000
DTSTAMP:20260422T065318
CREATED:20190731T212720Z
LAST-MODIFIED:20191014T194901Z
UID:10000946-1628182800-1628193600@citystarbrewing.com
SUMMARY:Summit Tacos
DESCRIPTION:Summit Tacos proudly serves authentic Mexican food and they love to share our passion for our food and our culture. Visit at 237 Collyer Street in Longmont and select food truck pop-ups. \nhttps://eatsummittacos.com
URL:https://citystarbrewing.com/event/summit-tacos/2021-08-05/
LOCATION:321 Mountain Avenue\, Berthoud\, CO\, 80513\, United States
CATEGORIES:Events,Food Trucks
ATTACH;FMTTYPE=image/png:https://citystarbrewing.com/wp-content/uploads/2017/05/summittacos.png
END:VEVENT
BEGIN:VEVENT
DTSTART;TZID=America/Denver:20210806T170000
DTEND;TZID=America/Denver:20210806T200000
DTSTAMP:20260422T065318
CREATED:20190731T212720Z
LAST-MODIFIED:20191014T194901Z
UID:10000947-1628269200-1628280000@citystarbrewing.com
SUMMARY:Summit Tacos
DESCRIPTION:Summit Tacos proudly serves authentic Mexican food and they love to share our passion for our food and our culture. Visit at 237 Collyer Street in Longmont and select food truck pop-ups. \nhttps://eatsummittacos.com
URL:https://citystarbrewing.com/event/summit-tacos/2021-08-06/
LOCATION:321 Mountain Avenue\, Berthoud\, CO\, 80513\, United States
CATEGORIES:Events,Food Trucks
ATTACH;FMTTYPE=image/png:https://citystarbrewing.com/wp-content/uploads/2017/05/summittacos.png
END:VEVENT
BEGIN:VEVENT
DTSTART;TZID=America/Denver:20210807T170000
DTEND;TZID=America/Denver:20210807T200000
DTSTAMP:20260422T065318
CREATED:20190731T212720Z
LAST-MODIFIED:20191014T194901Z
UID:10000948-1628355600-1628366400@citystarbrewing.com
SUMMARY:Summit Tacos
DESCRIPTION:Summit Tacos proudly serves authentic Mexican food and they love to share our passion for our food and our culture. Visit at 237 Collyer Street in Longmont and select food truck pop-ups. \nhttps://eatsummittacos.com
URL:https://citystarbrewing.com/event/summit-tacos/2021-08-07/
LOCATION:321 Mountain Avenue\, Berthoud\, CO\, 80513\, United States
CATEGORIES:Events,Food Trucks
ATTACH;FMTTYPE=image/png:https://citystarbrewing.com/wp-content/uploads/2017/05/summittacos.png
END:VEVENT
BEGIN:VEVENT
DTSTART;TZID=America/Denver:20210808T170000
DTEND;TZID=America/Denver:20210808T200000
DTSTAMP:20260422T065318
CREATED:20190731T212720Z
LAST-MODIFIED:20191014T194901Z
UID:10000949-1628442000-1628452800@citystarbrewing.com
SUMMARY:Summit Tacos
DESCRIPTION:Summit Tacos proudly serves authentic Mexican food and they love to share our passion for our food and our culture. Visit at 237 Collyer Street in Longmont and select food truck pop-ups. \nhttps://eatsummittacos.com
URL:https://citystarbrewing.com/event/summit-tacos/2021-08-08/
LOCATION:321 Mountain Avenue\, Berthoud\, CO\, 80513\, United States
CATEGORIES:Events,Food Trucks
ATTACH;FMTTYPE=image/png:https://citystarbrewing.com/wp-content/uploads/2017/05/summittacos.png
END:VEVENT
BEGIN:VEVENT
DTSTART;TZID=America/Denver:20210809T170000
DTEND;TZID=America/Denver:20210809T200000
DTSTAMP:20260422T065318
CREATED:20190731T212720Z
LAST-MODIFIED:20191014T194901Z
UID:10000950-1628528400-1628539200@citystarbrewing.com
SUMMARY:Summit Tacos
DESCRIPTION:Summit Tacos proudly serves authentic Mexican food and they love to share our passion for our food and our culture. Visit at 237 Collyer Street in Longmont and select food truck pop-ups. \nhttps://eatsummittacos.com
URL:https://citystarbrewing.com/event/summit-tacos/2021-08-09/
LOCATION:321 Mountain Avenue\, Berthoud\, CO\, 80513\, United States
CATEGORIES:Events,Food Trucks
ATTACH;FMTTYPE=image/png:https://citystarbrewing.com/wp-content/uploads/2017/05/summittacos.png
END:VEVENT
BEGIN:VEVENT
DTSTART;TZID=America/Denver:20210810T170000
DTEND;TZID=America/Denver:20210810T200000
DTSTAMP:20260422T065318
CREATED:20190731T212720Z
LAST-MODIFIED:20191014T194901Z
UID:10000951-1628614800-1628625600@citystarbrewing.com
SUMMARY:Summit Tacos
DESCRIPTION:Summit Tacos proudly serves authentic Mexican food and they love to share our passion for our food and our culture. Visit at 237 Collyer Street in Longmont and select food truck pop-ups. \nhttps://eatsummittacos.com
URL:https://citystarbrewing.com/event/summit-tacos/2021-08-10/
LOCATION:321 Mountain Avenue\, Berthoud\, CO\, 80513\, United States
CATEGORIES:Events,Food Trucks
ATTACH;FMTTYPE=image/png:https://citystarbrewing.com/wp-content/uploads/2017/05/summittacos.png
END:VEVENT
BEGIN:VEVENT
DTSTART;TZID=America/Denver:20210811T170000
DTEND;TZID=America/Denver:20210811T200000
DTSTAMP:20260422T065318
CREATED:20190731T212720Z
LAST-MODIFIED:20191014T194901Z
UID:10000952-1628701200-1628712000@citystarbrewing.com
SUMMARY:Summit Tacos
DESCRIPTION:Summit Tacos proudly serves authentic Mexican food and they love to share our passion for our food and our culture. Visit at 237 Collyer Street in Longmont and select food truck pop-ups. \nhttps://eatsummittacos.com
URL:https://citystarbrewing.com/event/summit-tacos/2021-08-11/
LOCATION:321 Mountain Avenue\, Berthoud\, CO\, 80513\, United States
CATEGORIES:Events,Food Trucks
ATTACH;FMTTYPE=image/png:https://citystarbrewing.com/wp-content/uploads/2017/05/summittacos.png
END:VEVENT
BEGIN:VEVENT
DTSTART;TZID=America/Denver:20210812T170000
DTEND;TZID=America/Denver:20210812T200000
DTSTAMP:20260422T065318
CREATED:20190731T212720Z
LAST-MODIFIED:20191014T194901Z
UID:10000953-1628787600-1628798400@citystarbrewing.com
SUMMARY:Summit Tacos
DESCRIPTION:Summit Tacos proudly serves authentic Mexican food and they love to share our passion for our food and our culture. Visit at 237 Collyer Street in Longmont and select food truck pop-ups. \nhttps://eatsummittacos.com
URL:https://citystarbrewing.com/event/summit-tacos/2021-08-12/
LOCATION:321 Mountain Avenue\, Berthoud\, CO\, 80513\, United States
CATEGORIES:Events,Food Trucks
ATTACH;FMTTYPE=image/png:https://citystarbrewing.com/wp-content/uploads/2017/05/summittacos.png
END:VEVENT
BEGIN:VEVENT
DTSTART;TZID=America/Denver:20210813T170000
DTEND;TZID=America/Denver:20210813T200000
DTSTAMP:20260422T065318
CREATED:20190731T212720Z
LAST-MODIFIED:20191014T194901Z
UID:10000954-1628874000-1628884800@citystarbrewing.com
SUMMARY:Summit Tacos
DESCRIPTION:Summit Tacos proudly serves authentic Mexican food and they love to share our passion for our food and our culture. Visit at 237 Collyer Street in Longmont and select food truck pop-ups. \nhttps://eatsummittacos.com
URL:https://citystarbrewing.com/event/summit-tacos/2021-08-13/
LOCATION:321 Mountain Avenue\, Berthoud\, CO\, 80513\, United States
CATEGORIES:Events,Food Trucks
ATTACH;FMTTYPE=image/png:https://citystarbrewing.com/wp-content/uploads/2017/05/summittacos.png
END:VEVENT
BEGIN:VEVENT
DTSTART;VALUE=DATE:20210814
DTEND;VALUE=DATE:20210815
DTSTAMP:20260422T065318
CREATED:20210421T232241Z
LAST-MODIFIED:20221024T164245Z
UID:10001576-1628899200-1628985599@citystarbrewing.com
SUMMARY:Poppin' Bottles
DESCRIPTION:Saturdays we are poppin’ bottles of our barrel aged beers. Enjoy tasters and full pours!
URL:https://citystarbrewing.com/event/poppin-bottles/
LOCATION:CO
CATEGORIES:Events,Taproom Events
ATTACH;FMTTYPE=image/jpeg:https://citystarbrewing.com/wp-content/uploads/2020/06/barrelbottles2-e1598985724384.jpg
END:VEVENT
BEGIN:VEVENT
DTSTART;TZID=America/Denver:20210814T150000
DTEND;TZID=America/Denver:20210814T200000
DTSTAMP:20260422T065318
CREATED:20200825T220521Z
LAST-MODIFIED:20210814T193417Z
UID:10001508-1628953200-1628971200@citystarbrewing.com
SUMMARY:El Chuletazo Grill
DESCRIPTION:“Our concept was created by a couple of foodies who simply wanted to show “The Mile High City” of Denver how great is the Colombian Food\, but also expand their love for the kitchen and the idea of bringing different\, tasty and authentic dishes from Colombia to Colorado. As we have always said: “Colombians not only eat arepas and empanadas” because Colombia has several other yummy dishes that you would love to try. That’s why\, the team from “El Chuletazo Grill” is bringing mouth-watering food that will make you feel like if you were in Colombia!!” \nMENU: elchuletazogrill.com/menu/
URL:https://citystarbrewing.com/event/el-chuletazo-grill/
LOCATION:CO
CATEGORIES:Events,Food Trucks
ATTACH;FMTTYPE=image/jpeg:https://citystarbrewing.com/wp-content/uploads/2020/08/chuletazo-e1598393198242.jpg
END:VEVENT
BEGIN:VEVENT
DTSTART;TZID=America/Denver:20210814T170000
DTEND;TZID=America/Denver:20210814T200000
DTSTAMP:20260422T065318
CREATED:20190731T212720Z
LAST-MODIFIED:20191014T194901Z
UID:10000955-1628960400-1628971200@citystarbrewing.com
SUMMARY:Summit Tacos
DESCRIPTION:Summit Tacos proudly serves authentic Mexican food and they love to share our passion for our food and our culture. Visit at 237 Collyer Street in Longmont and select food truck pop-ups. \nhttps://eatsummittacos.com
URL:https://citystarbrewing.com/event/summit-tacos/2021-08-14/
LOCATION:321 Mountain Avenue\, Berthoud\, CO\, 80513\, United States
CATEGORIES:Events,Food Trucks
ATTACH;FMTTYPE=image/png:https://citystarbrewing.com/wp-content/uploads/2017/05/summittacos.png
END:VEVENT
BEGIN:VEVENT
DTSTART;TZID=America/Denver:20210814T180000
DTEND;TZID=America/Denver:20210814T203000
DTSTAMP:20260422T065318
CREATED:20190313T221843Z
LAST-MODIFIED:20210729T165625Z
UID:10000203-1628964000-1628973000@citystarbrewing.com
SUMMARY:Sean Flynn
DESCRIPTION:Acoustic folk rooted in soul.
URL:https://citystarbrewing.com/event/sean-flynn/
LOCATION:CO
CATEGORIES:Events,Live Music
ATTACH;FMTTYPE=image/png:https://citystarbrewing.com/wp-content/uploads/2015/05/flynnandco.png
END:VEVENT
BEGIN:VEVENT
DTSTART;TZID=America/Denver:20210815T170000
DTEND;TZID=America/Denver:20210815T193000
DTSTAMP:20260422T065318
CREATED:20210809T225206Z
LAST-MODIFIED:20210809T225206Z
UID:10001705-1629046800-1629055800@citystarbrewing.com
SUMMARY:Jon Garson Duo
DESCRIPTION:
URL:https://citystarbrewing.com/event/jon-garson-duo/
LOCATION:CO
CATEGORIES:Events,Live Music
END:VEVENT
BEGIN:VEVENT
DTSTART;TZID=America/Denver:20210815T170000
DTEND;TZID=America/Denver:20210815T200000
DTSTAMP:20260422T065318
CREATED:20190731T212720Z
LAST-MODIFIED:20191014T194901Z
UID:10000956-1629046800-1629057600@citystarbrewing.com
SUMMARY:Summit Tacos
DESCRIPTION:Summit Tacos proudly serves authentic Mexican food and they love to share our passion for our food and our culture. Visit at 237 Collyer Street in Longmont and select food truck pop-ups. \nhttps://eatsummittacos.com
URL:https://citystarbrewing.com/event/summit-tacos/2021-08-15/
LOCATION:321 Mountain Avenue\, Berthoud\, CO\, 80513\, United States
CATEGORIES:Events,Food Trucks
ATTACH;FMTTYPE=image/png:https://citystarbrewing.com/wp-content/uploads/2017/05/summittacos.png
END:VEVENT
BEGIN:VEVENT
DTSTART;TZID=America/Denver:20210816T170000
DTEND;TZID=America/Denver:20210816T200000
DTSTAMP:20260422T065318
CREATED:20190731T212720Z
LAST-MODIFIED:20191014T194901Z
UID:10000957-1629133200-1629144000@citystarbrewing.com
SUMMARY:Summit Tacos
DESCRIPTION:Summit Tacos proudly serves authentic Mexican food and they love to share our passion for our food and our culture. Visit at 237 Collyer Street in Longmont and select food truck pop-ups. \nhttps://eatsummittacos.com
URL:https://citystarbrewing.com/event/summit-tacos/2021-08-16/
LOCATION:321 Mountain Avenue\, Berthoud\, CO\, 80513\, United States
CATEGORIES:Events,Food Trucks
ATTACH;FMTTYPE=image/png:https://citystarbrewing.com/wp-content/uploads/2017/05/summittacos.png
END:VEVENT
BEGIN:VEVENT
DTSTART;TZID=America/Denver:20210817T170000
DTEND;TZID=America/Denver:20210817T200000
DTSTAMP:20260422T065318
CREATED:20190731T212720Z
LAST-MODIFIED:20191014T194901Z
UID:10000958-1629219600-1629230400@citystarbrewing.com
SUMMARY:Summit Tacos
DESCRIPTION:Summit Tacos proudly serves authentic Mexican food and they love to share our passion for our food and our culture. Visit at 237 Collyer Street in Longmont and select food truck pop-ups. \nhttps://eatsummittacos.com
URL:https://citystarbrewing.com/event/summit-tacos/2021-08-17/
LOCATION:321 Mountain Avenue\, Berthoud\, CO\, 80513\, United States
CATEGORIES:Events,Food Trucks
ATTACH;FMTTYPE=image/png:https://citystarbrewing.com/wp-content/uploads/2017/05/summittacos.png
END:VEVENT
BEGIN:VEVENT
DTSTART;TZID=America/Denver:20210818T170000
DTEND;TZID=America/Denver:20210818T200000
DTSTAMP:20260422T065318
CREATED:20190731T212720Z
LAST-MODIFIED:20191014T194901Z
UID:10000959-1629306000-1629316800@citystarbrewing.com
SUMMARY:Summit Tacos
DESCRIPTION:Summit Tacos proudly serves authentic Mexican food and they love to share our passion for our food and our culture. Visit at 237 Collyer Street in Longmont and select food truck pop-ups. \nhttps://eatsummittacos.com
URL:https://citystarbrewing.com/event/summit-tacos/2021-08-18/
LOCATION:321 Mountain Avenue\, Berthoud\, CO\, 80513\, United States
CATEGORIES:Events,Food Trucks
ATTACH;FMTTYPE=image/png:https://citystarbrewing.com/wp-content/uploads/2017/05/summittacos.png
END:VEVENT
BEGIN:VEVENT
DTSTART;TZID=America/Denver:20210819T170000
DTEND;TZID=America/Denver:20210819T200000
DTSTAMP:20260422T065318
CREATED:20190731T212720Z
LAST-MODIFIED:20191014T194901Z
UID:10000960-1629392400-1629403200@citystarbrewing.com
SUMMARY:Summit Tacos
DESCRIPTION:Summit Tacos proudly serves authentic Mexican food and they love to share our passion for our food and our culture. Visit at 237 Collyer Street in Longmont and select food truck pop-ups. \nhttps://eatsummittacos.com
URL:https://citystarbrewing.com/event/summit-tacos/2021-08-19/
LOCATION:321 Mountain Avenue\, Berthoud\, CO\, 80513\, United States
CATEGORIES:Events,Food Trucks
ATTACH;FMTTYPE=image/png:https://citystarbrewing.com/wp-content/uploads/2017/05/summittacos.png
END:VEVENT
BEGIN:VEVENT
DTSTART;TZID=America/Denver:20210820T170000
DTEND;TZID=America/Denver:20210820T200000
DTSTAMP:20260422T065318
CREATED:20190731T212720Z
LAST-MODIFIED:20191014T194901Z
UID:10000961-1629478800-1629489600@citystarbrewing.com
SUMMARY:Summit Tacos
DESCRIPTION:Summit Tacos proudly serves authentic Mexican food and they love to share our passion for our food and our culture. Visit at 237 Collyer Street in Longmont and select food truck pop-ups. \nhttps://eatsummittacos.com
URL:https://citystarbrewing.com/event/summit-tacos/2021-08-20/
LOCATION:321 Mountain Avenue\, Berthoud\, CO\, 80513\, United States
CATEGORIES:Events,Food Trucks
ATTACH;FMTTYPE=image/png:https://citystarbrewing.com/wp-content/uploads/2017/05/summittacos.png
END:VEVENT
BEGIN:VEVENT
DTSTART;TZID=America/Denver:20210821T170000
DTEND;TZID=America/Denver:20210821T200000
DTSTAMP:20260422T065318
CREATED:20190731T212720Z
LAST-MODIFIED:20191014T194901Z
UID:10000962-1629565200-1629576000@citystarbrewing.com
SUMMARY:Summit Tacos
DESCRIPTION:Summit Tacos proudly serves authentic Mexican food and they love to share our passion for our food and our culture. Visit at 237 Collyer Street in Longmont and select food truck pop-ups. \nhttps://eatsummittacos.com
URL:https://citystarbrewing.com/event/summit-tacos/2021-08-21/
LOCATION:321 Mountain Avenue\, Berthoud\, CO\, 80513\, United States
CATEGORIES:Events,Food Trucks
ATTACH;FMTTYPE=image/png:https://citystarbrewing.com/wp-content/uploads/2017/05/summittacos.png
END:VEVENT
BEGIN:VEVENT
DTSTART;TZID=America/Denver:20210822T170000
DTEND;TZID=America/Denver:20210822T200000
DTSTAMP:20260422T065318
CREATED:20190731T212720Z
LAST-MODIFIED:20191014T194901Z
UID:10000963-1629651600-1629662400@citystarbrewing.com
SUMMARY:Summit Tacos
DESCRIPTION:Summit Tacos proudly serves authentic Mexican food and they love to share our passion for our food and our culture. Visit at 237 Collyer Street in Longmont and select food truck pop-ups. \nhttps://eatsummittacos.com
URL:https://citystarbrewing.com/event/summit-tacos/2021-08-22/
LOCATION:321 Mountain Avenue\, Berthoud\, CO\, 80513\, United States
CATEGORIES:Events,Food Trucks
ATTACH;FMTTYPE=image/png:https://citystarbrewing.com/wp-content/uploads/2017/05/summittacos.png
END:VEVENT
BEGIN:VEVENT
DTSTART;TZID=America/Denver:20210823T170000
DTEND;TZID=America/Denver:20210823T200000
DTSTAMP:20260422T065318
CREATED:20190731T212720Z
LAST-MODIFIED:20191014T194901Z
UID:10000964-1629738000-1629748800@citystarbrewing.com
SUMMARY:Summit Tacos
DESCRIPTION:Summit Tacos proudly serves authentic Mexican food and they love to share our passion for our food and our culture. Visit at 237 Collyer Street in Longmont and select food truck pop-ups. \nhttps://eatsummittacos.com
URL:https://citystarbrewing.com/event/summit-tacos/2021-08-23/
LOCATION:321 Mountain Avenue\, Berthoud\, CO\, 80513\, United States
CATEGORIES:Events,Food Trucks
ATTACH;FMTTYPE=image/png:https://citystarbrewing.com/wp-content/uploads/2017/05/summittacos.png
END:VEVENT
BEGIN:VEVENT
DTSTART;TZID=America/Denver:20210824T170000
DTEND;TZID=America/Denver:20210824T200000
DTSTAMP:20260422T065318
CREATED:20190731T212720Z
LAST-MODIFIED:20191014T194901Z
UID:10000965-1629824400-1629835200@citystarbrewing.com
SUMMARY:Summit Tacos
DESCRIPTION:Summit Tacos proudly serves authentic Mexican food and they love to share our passion for our food and our culture. Visit at 237 Collyer Street in Longmont and select food truck pop-ups. \nhttps://eatsummittacos.com
URL:https://citystarbrewing.com/event/summit-tacos/2021-08-24/
LOCATION:321 Mountain Avenue\, Berthoud\, CO\, 80513\, United States
CATEGORIES:Events,Food Trucks
ATTACH;FMTTYPE=image/png:https://citystarbrewing.com/wp-content/uploads/2017/05/summittacos.png
END:VEVENT
BEGIN:VEVENT
DTSTART;TZID=America/Denver:20210825T170000
DTEND;TZID=America/Denver:20210825T200000
DTSTAMP:20260422T065318
CREATED:20190731T212720Z
LAST-MODIFIED:20191014T194901Z
UID:10000966-1629910800-1629921600@citystarbrewing.com
SUMMARY:Summit Tacos
DESCRIPTION:Summit Tacos proudly serves authentic Mexican food and they love to share our passion for our food and our culture. Visit at 237 Collyer Street in Longmont and select food truck pop-ups. \nhttps://eatsummittacos.com
URL:https://citystarbrewing.com/event/summit-tacos/2021-08-25/
LOCATION:321 Mountain Avenue\, Berthoud\, CO\, 80513\, United States
CATEGORIES:Events,Food Trucks
ATTACH;FMTTYPE=image/png:https://citystarbrewing.com/wp-content/uploads/2017/05/summittacos.png
END:VEVENT
END:VCALENDAR